BEGIN:VCALENDAR
VERSION:2.0
PRODID:-//Stage News - ECPv6.15.17//NONSGML v1.0//EN
CALSCALE:GREGORIAN
METHOD:PUBLISH
X-ORIGINAL-URL:https://stagenews.gr
X-WR-CALDESC:Events for Stage News
REFRESH-INTERVAL;VALUE=DURATION:PT1H
X-Robots-Tag:noindex
X-PUBLISHED-TTL:PT1H
BEGIN:VTIMEZONE
TZID:Europe/Athens
BEGIN:DAYLIGHT
TZOFFSETFROM:+0200
TZOFFSETTO:+0300
TZNAME:EEST
DTSTART:20240331T010000
END:DAYLIGHT
BEGIN:STANDARD
TZOFFSETFROM:+0300
TZOFFSETTO:+0200
TZNAME:EET
DTSTART:20241027T010000
END:STANDARD
BEGIN:DAYLIGHT
TZOFFSETFROM:+0200
TZOFFSETTO:+0300
TZNAME:EEST
DTSTART:20250330T010000
END:DAYLIGHT
BEGIN:STANDARD
TZOFFSETFROM:+0300
TZOFFSETTO:+0200
TZNAME:EET
DTSTART:20251026T010000
END:STANDARD
BEGIN:DAYLIGHT
TZOFFSETFROM:+0200
TZOFFSETTO:+0300
TZNAME:EEST
DTSTART:20260329T010000
END:DAYLIGHT
BEGIN:STANDARD
TZOFFSETFROM:+0300
TZOFFSETTO:+0200
TZNAME:EET
DTSTART:20261025T010000
END:STANDARD
END:VTIMEZONE
BEGIN:VEVENT
DTSTART;TZID=Europe/Athens:20251116T203000
DTEND;TZID=Europe/Athens:20251116T203000
DTSTAMP:20260419T202135
CREATED:20251112T185520Z
LAST-MODIFIED:20251112T185520Z
UID:10010729-1763325000-1763325000@stagenews.gr
SUMMARY:Σαίξπηρ στα γρήγορα στο Περιστέρι
DESCRIPTION:Παράσταση «ΣΑΙΞΠΗΡ… ΣΤΑ ΓΡΗΓΟΡΑ» από 7 έως 16 Νοεμβρίου στο Θέατρο Πολιτών – Είσοδος Ελεύθερη – Πειραματική Θεατρική Σκηνή «Ανδρέας Βαρούχας» Δήμου Περιστερίου\nΟ Δήμαρχος Περιστερίου Ανδρέας Π. Παχατουρίδης σας προσκαλεί στη νέα θεατρική παράσταση της Πειραματικής Θεατρικής Σκηνής “Ανδρέας Βαρούχας” του Δήμου Περιστερίου\, με τίτλο «ΣΑΙΞΠΗΡ… ΣΤΑ ΓΡΗΓΟΡΑ»\, σε διασκευή και σκηνοθεσία της Αρχοντίας Μυλωνά. Η παράσταση παρουσιάζεται στο Θέατρο Πολιτών (Παπαρρηγοπούλου 94\, Περιστέρι)\, από 7 έως 16 Νοεμβρίου 2025\, ώρα έναρξης 20:30\, με ελεύθερη είσοδο για το κοινό. \nΗ διαχρονική πένα του Ουίλλιαμ Σαίξπηρ «συναντά» το σύγχρονο θεατρικό χιούμορ\, μέσα από μια ανατρεπτική διασκευή βασισμένη στην επιτυχημένη κωμωδία των Άνταμ Λονγκ\, Τζες Ουίνφιλντ και Ντάνιελ Σίνγκερ — μια «συμπύκνωση» πολλών Σαιξπηρικών έργων σε μία μόνο παράσταση. Πρόκειται για μια θεατρική εμπειρία γεμάτη κέφι\, ρυθμό\, ευρηματικότητα και ανατροπές\, που αποδεικνύει πως ο Σαίξπηρ παραμένει πιο επίκαιρος από ποτέ. Οι ήρωες των έργων του —από τον Ρωμαίο και την Ιουλιέτα μέχρι τον Άμλετ\, τον Οθέλλο και τη Λαίδη Μακμπέθ— μπλέκονται σε έναν σκηνικό χορό λέξεων\, συγκίνησης και χιούμορ\, υπό τον ρυθμό της φαντασίας και της δημιουργικής ενέργειας των ερασιτεχνών ηθοποιών της Πειραματικής Θεατρικής Σκηνής. \nΣΥΝΤΕΛΕΣΤΕΣ ΠΑΡΑΣΤΑΣΗΣ:\nΣκηνοθεσία- Διασκευή: Αρχοντία Μυλωνά\nΧορογραφίες ξιφασκία: Ναταλία Φεντόροβα-Βέρδου\nΜουσική επιλογή: Αρχοντία Μυλωνά- Αγγελική Λέκκα\nΦώτα: Γιώργος Κοντός\nΗχος: Αγγελική Λέκκα\nΦροντιστήριο: Αμαλία Μουτάφη – Νεκταρία Πρασσάκη\nΜακιγιάζ: Ευτέρπη Μπούκα\nΠΑΙΖΟΥΝ ΜΕ ΑΛΦΑΒΗΤΙΚΗ ΣΕΙΡΑ:\nΒεζιρτζόγλου Καίτη\, Δεϊμέζη Βίκυ\, Ζαρίκου Μάρω\, Κοντομάρκου Κατερίνα\, Κουμπαρούλη Γεωργία\, Λογοθέτης Θεοφάνης\, Μαχαίρα Μαρία\, Μπεκιάρης Γιώργος\, Παλιούρα Έλλη\, Ραμαντάνης Βασίλης\, Ρουμπάκης Ιερόθεος\, Σαμοϊλη Νικολέττα\, Σταυρόπουλος Κωστής\, Τάπα Μαρίνα και το Μαράκι μας\, Σταυροπούλου Μαρία.
URL:https://stagenews.gr/event/saixpir-sta-grigora-sto-peristeri-4/
LOCATION:Θέατρο Πολιτών\, Παπαρρηγοπούλου 94\, Περιστέρι\, Αττικής\, Greece
CATEGORIES:Δωρεάν εκδηλώσεις Αθήνα,Παραστάσεις Αθήνα
ATTACH;FMTTYPE=image/webp:https://stagenews.gr/wp-content/uploads/2025/11/SHAKESPEAR.webp
END:VEVENT
BEGIN:VEVENT
DTSTART;TZID=Europe/Athens:20251115T203000
DTEND;TZID=Europe/Athens:20251115T203000
DTSTAMP:20260419T202135
CREATED:20251112T185457Z
LAST-MODIFIED:20251112T185457Z
UID:10010728-1763238600-1763238600@stagenews.gr
SUMMARY:Σαίξπηρ στα γρήγορα στο Περιστέρι
DESCRIPTION:Παράσταση «ΣΑΙΞΠΗΡ… ΣΤΑ ΓΡΗΓΟΡΑ» από 7 έως 16 Νοεμβρίου στο Θέατρο Πολιτών – Είσοδος Ελεύθερη – Πειραματική Θεατρική Σκηνή «Ανδρέας Βαρούχας» Δήμου Περιστερίου\nΟ Δήμαρχος Περιστερίου Ανδρέας Π. Παχατουρίδης σας προσκαλεί στη νέα θεατρική παράσταση της Πειραματικής Θεατρικής Σκηνής “Ανδρέας Βαρούχας” του Δήμου Περιστερίου\, με τίτλο «ΣΑΙΞΠΗΡ… ΣΤΑ ΓΡΗΓΟΡΑ»\, σε διασκευή και σκηνοθεσία της Αρχοντίας Μυλωνά. Η παράσταση παρουσιάζεται στο Θέατρο Πολιτών (Παπαρρηγοπούλου 94\, Περιστέρι)\, από 7 έως 16 Νοεμβρίου 2025\, ώρα έναρξης 20:30\, με ελεύθερη είσοδο για το κοινό. \nΗ διαχρονική πένα του Ουίλλιαμ Σαίξπηρ «συναντά» το σύγχρονο θεατρικό χιούμορ\, μέσα από μια ανατρεπτική διασκευή βασισμένη στην επιτυχημένη κωμωδία των Άνταμ Λονγκ\, Τζες Ουίνφιλντ και Ντάνιελ Σίνγκερ — μια «συμπύκνωση» πολλών Σαιξπηρικών έργων σε μία μόνο παράσταση. Πρόκειται για μια θεατρική εμπειρία γεμάτη κέφι\, ρυθμό\, ευρηματικότητα και ανατροπές\, που αποδεικνύει πως ο Σαίξπηρ παραμένει πιο επίκαιρος από ποτέ. Οι ήρωες των έργων του —από τον Ρωμαίο και την Ιουλιέτα μέχρι τον Άμλετ\, τον Οθέλλο και τη Λαίδη Μακμπέθ— μπλέκονται σε έναν σκηνικό χορό λέξεων\, συγκίνησης και χιούμορ\, υπό τον ρυθμό της φαντασίας και της δημιουργικής ενέργειας των ερασιτεχνών ηθοποιών της Πειραματικής Θεατρικής Σκηνής. \nΣΥΝΤΕΛΕΣΤΕΣ ΠΑΡΑΣΤΑΣΗΣ:\nΣκηνοθεσία- Διασκευή: Αρχοντία Μυλωνά\nΧορογραφίες ξιφασκία: Ναταλία Φεντόροβα-Βέρδου\nΜουσική επιλογή: Αρχοντία Μυλωνά- Αγγελική Λέκκα\nΦώτα: Γιώργος Κοντός\nΗχος: Αγγελική Λέκκα\nΦροντιστήριο: Αμαλία Μουτάφη – Νεκταρία Πρασσάκη\nΜακιγιάζ: Ευτέρπη Μπούκα\nΠΑΙΖΟΥΝ ΜΕ ΑΛΦΑΒΗΤΙΚΗ ΣΕΙΡΑ:\nΒεζιρτζόγλου Καίτη\, Δεϊμέζη Βίκυ\, Ζαρίκου Μάρω\, Κοντομάρκου Κατερίνα\, Κουμπαρούλη Γεωργία\, Λογοθέτης Θεοφάνης\, Μαχαίρα Μαρία\, Μπεκιάρης Γιώργος\, Παλιούρα Έλλη\, Ραμαντάνης Βασίλης\, Ρουμπάκης Ιερόθεος\, Σαμοϊλη Νικολέττα\, Σταυρόπουλος Κωστής\, Τάπα Μαρίνα και το Μαράκι μας\, Σταυροπούλου Μαρία.
URL:https://stagenews.gr/event/saixpir-sta-grigora-sto-peristeri-3/
LOCATION:Θέατρο Πολιτών\, Παπαρρηγοπούλου 94\, Περιστέρι\, Αττικής\, Greece
CATEGORIES:Δωρεάν εκδηλώσεις Αθήνα,Παραστάσεις Αθήνα
ATTACH;FMTTYPE=image/webp:https://stagenews.gr/wp-content/uploads/2025/11/SHAKESPEAR.webp
END:VEVENT
BEGIN:VEVENT
DTSTART;TZID=Europe/Athens:20251114T203000
DTEND;TZID=Europe/Athens:20251114T203000
DTSTAMP:20260419T202135
CREATED:20251112T185438Z
LAST-MODIFIED:20251112T185438Z
UID:10010727-1763152200-1763152200@stagenews.gr
SUMMARY:Σαίξπηρ στα γρήγορα στο Περιστέρι
DESCRIPTION:Παράσταση «ΣΑΙΞΠΗΡ… ΣΤΑ ΓΡΗΓΟΡΑ» από 7 έως 16 Νοεμβρίου στο Θέατρο Πολιτών – Είσοδος Ελεύθερη – Πειραματική Θεατρική Σκηνή «Ανδρέας Βαρούχας» Δήμου Περιστερίου\nΟ Δήμαρχος Περιστερίου Ανδρέας Π. Παχατουρίδης σας προσκαλεί στη νέα θεατρική παράσταση της Πειραματικής Θεατρικής Σκηνής “Ανδρέας Βαρούχας” του Δήμου Περιστερίου\, με τίτλο «ΣΑΙΞΠΗΡ… ΣΤΑ ΓΡΗΓΟΡΑ»\, σε διασκευή και σκηνοθεσία της Αρχοντίας Μυλωνά. Η παράσταση παρουσιάζεται στο Θέατρο Πολιτών (Παπαρρηγοπούλου 94\, Περιστέρι)\, από 7 έως 16 Νοεμβρίου 2025\, ώρα έναρξης 20:30\, με ελεύθερη είσοδο για το κοινό. \nΗ διαχρονική πένα του Ουίλλιαμ Σαίξπηρ «συναντά» το σύγχρονο θεατρικό χιούμορ\, μέσα από μια ανατρεπτική διασκευή βασισμένη στην επιτυχημένη κωμωδία των Άνταμ Λονγκ\, Τζες Ουίνφιλντ και Ντάνιελ Σίνγκερ — μια «συμπύκνωση» πολλών Σαιξπηρικών έργων σε μία μόνο παράσταση. Πρόκειται για μια θεατρική εμπειρία γεμάτη κέφι\, ρυθμό\, ευρηματικότητα και ανατροπές\, που αποδεικνύει πως ο Σαίξπηρ παραμένει πιο επίκαιρος από ποτέ. Οι ήρωες των έργων του —από τον Ρωμαίο και την Ιουλιέτα μέχρι τον Άμλετ\, τον Οθέλλο και τη Λαίδη Μακμπέθ— μπλέκονται σε έναν σκηνικό χορό λέξεων\, συγκίνησης και χιούμορ\, υπό τον ρυθμό της φαντασίας και της δημιουργικής ενέργειας των ερασιτεχνών ηθοποιών της Πειραματικής Θεατρικής Σκηνής. \nΣΥΝΤΕΛΕΣΤΕΣ ΠΑΡΑΣΤΑΣΗΣ:\nΣκηνοθεσία- Διασκευή: Αρχοντία Μυλωνά\nΧορογραφίες ξιφασκία: Ναταλία Φεντόροβα-Βέρδου\nΜουσική επιλογή: Αρχοντία Μυλωνά- Αγγελική Λέκκα\nΦώτα: Γιώργος Κοντός\nΗχος: Αγγελική Λέκκα\nΦροντιστήριο: Αμαλία Μουτάφη – Νεκταρία Πρασσάκη\nΜακιγιάζ: Ευτέρπη Μπούκα\nΠΑΙΖΟΥΝ ΜΕ ΑΛΦΑΒΗΤΙΚΗ ΣΕΙΡΑ:\nΒεζιρτζόγλου Καίτη\, Δεϊμέζη Βίκυ\, Ζαρίκου Μάρω\, Κοντομάρκου Κατερίνα\, Κουμπαρούλη Γεωργία\, Λογοθέτης Θεοφάνης\, Μαχαίρα Μαρία\, Μπεκιάρης Γιώργος\, Παλιούρα Έλλη\, Ραμαντάνης Βασίλης\, Ρουμπάκης Ιερόθεος\, Σαμοϊλη Νικολέττα\, Σταυρόπουλος Κωστής\, Τάπα Μαρίνα και το Μαράκι μας\, Σταυροπούλου Μαρία.
URL:https://stagenews.gr/event/saixpir-sta-grigora-sto-peristeri-2/
LOCATION:Θέατρο Πολιτών\, Παπαρρηγοπούλου 94\, Περιστέρι\, Αττικής\, Greece
CATEGORIES:Δωρεάν εκδηλώσεις Αθήνα,Παραστάσεις Αθήνα
ATTACH;FMTTYPE=image/webp:https://stagenews.gr/wp-content/uploads/2025/11/SHAKESPEAR.webp
END:VEVENT
BEGIN:VEVENT
DTSTART;TZID=Europe/Athens:20251113T203000
DTEND;TZID=Europe/Athens:20251113T203000
DTSTAMP:20260419T202135
CREATED:20251112T185406Z
LAST-MODIFIED:20251112T185410Z
UID:10010726-1763065800-1763065800@stagenews.gr
SUMMARY:Σαίξπηρ στα γρήγορα στο Περιστέρι
DESCRIPTION:Παράσταση «ΣΑΙΞΠΗΡ… ΣΤΑ ΓΡΗΓΟΡΑ» από 7 έως 16 Νοεμβρίου στο Θέατρο Πολιτών – Είσοδος Ελεύθερη – Πειραματική Θεατρική Σκηνή «Ανδρέας Βαρούχας» Δήμου Περιστερίου\nΟ Δήμαρχος Περιστερίου Ανδρέας Π. Παχατουρίδης σας προσκαλεί στη νέα θεατρική παράσταση της Πειραματικής Θεατρικής Σκηνής “Ανδρέας Βαρούχας” του Δήμου Περιστερίου\, με τίτλο «ΣΑΙΞΠΗΡ… ΣΤΑ ΓΡΗΓΟΡΑ»\, σε διασκευή και σκηνοθεσία της Αρχοντίας Μυλωνά. Η παράσταση παρουσιάζεται στο Θέατρο Πολιτών (Παπαρρηγοπούλου 94\, Περιστέρι)\, από 7 έως 16 Νοεμβρίου 2025\, ώρα έναρξης 20:30\, με ελεύθερη είσοδο για το κοινό. \nΗ διαχρονική πένα του Ουίλλιαμ Σαίξπηρ «συναντά» το σύγχρονο θεατρικό χιούμορ\, μέσα από μια ανατρεπτική διασκευή βασισμένη στην επιτυχημένη κωμωδία των Άνταμ Λονγκ\, Τζες Ουίνφιλντ και Ντάνιελ Σίνγκερ — μια «συμπύκνωση» πολλών Σαιξπηρικών έργων σε μία μόνο παράσταση. Πρόκειται για μια θεατρική εμπειρία γεμάτη κέφι\, ρυθμό\, ευρηματικότητα και ανατροπές\, που αποδεικνύει πως ο Σαίξπηρ παραμένει πιο επίκαιρος από ποτέ. Οι ήρωες των έργων του —από τον Ρωμαίο και την Ιουλιέτα μέχρι τον Άμλετ\, τον Οθέλλο και τη Λαίδη Μακμπέθ— μπλέκονται σε έναν σκηνικό χορό λέξεων\, συγκίνησης και χιούμορ\, υπό τον ρυθμό της φαντασίας και της δημιουργικής ενέργειας των ερασιτεχνών ηθοποιών της Πειραματικής Θεατρικής Σκηνής. \nΣΥΝΤΕΛΕΣΤΕΣ ΠΑΡΑΣΤΑΣΗΣ:\nΣκηνοθεσία- Διασκευή: Αρχοντία Μυλωνά\nΧορογραφίες ξιφασκία: Ναταλία Φεντόροβα-Βέρδου\nΜουσική επιλογή: Αρχοντία Μυλωνά- Αγγελική Λέκκα\nΦώτα: Γιώργος Κοντός\nΗχος: Αγγελική Λέκκα\nΦροντιστήριο: Αμαλία Μουτάφη – Νεκταρία Πρασσάκη\nΜακιγιάζ: Ευτέρπη Μπούκα\nΠΑΙΖΟΥΝ ΜΕ ΑΛΦΑΒΗΤΙΚΗ ΣΕΙΡΑ:\nΒεζιρτζόγλου Καίτη\, Δεϊμέζη Βίκυ\, Ζαρίκου Μάρω\, Κοντομάρκου Κατερίνα\, Κουμπαρούλη Γεωργία\, Λογοθέτης Θεοφάνης\, Μαχαίρα Μαρία\, Μπεκιάρης Γιώργος\, Παλιούρα Έλλη\, Ραμαντάνης Βασίλης\, Ρουμπάκης Ιερόθεος\, Σαμοϊλη Νικολέττα\, Σταυρόπουλος Κωστής\, Τάπα Μαρίνα και το Μαράκι μας\, Σταυροπούλου Μαρία.
URL:https://stagenews.gr/event/saixpir-sta-grigora-sto-peristeri/
LOCATION:Θέατρο Πολιτών\, Παπαρρηγοπούλου 94\, Περιστέρι\, Αττικής\, Greece
CATEGORIES:Δωρεάν εκδηλώσεις Αθήνα,Παραστάσεις Αθήνα
ATTACH;FMTTYPE=image/webp:https://stagenews.gr/wp-content/uploads/2025/11/SHAKESPEAR.webp
END:VEVENT
END:VCALENDAR