BEGIN:VCALENDAR
VERSION:2.0
PRODID:-//Stage News - ECPv6.15.17//NONSGML v1.0//EN
CALSCALE:GREGORIAN
METHOD:PUBLISH
X-WR-CALNAME:Stage News
X-ORIGINAL-URL:https://stagenews.gr
X-WR-CALDESC:Events for Stage News
REFRESH-INTERVAL;VALUE=DURATION:PT1H
X-Robots-Tag:noindex
X-PUBLISHED-TTL:PT1H
BEGIN:VTIMEZONE
TZID:Europe/Athens
BEGIN:DAYLIGHT
TZOFFSETFROM:+0200
TZOFFSETTO:+0300
TZNAME:EEST
DTSTART:20250330T010000
END:DAYLIGHT
BEGIN:STANDARD
TZOFFSETFROM:+0300
TZOFFSETTO:+0200
TZNAME:EET
DTSTART:20251026T010000
END:STANDARD
BEGIN:DAYLIGHT
TZOFFSETFROM:+0200
TZOFFSETTO:+0300
TZNAME:EEST
DTSTART:20260329T010000
END:DAYLIGHT
BEGIN:STANDARD
TZOFFSETFROM:+0300
TZOFFSETTO:+0200
TZNAME:EET
DTSTART:20261025T010000
END:STANDARD
BEGIN:DAYLIGHT
TZOFFSETFROM:+0200
TZOFFSETTO:+0300
TZNAME:EEST
DTSTART:20270328T010000
END:DAYLIGHT
BEGIN:STANDARD
TZOFFSETFROM:+0300
TZOFFSETTO:+0200
TZNAME:EET
DTSTART:20271031T010000
END:STANDARD
END:VTIMEZONE
BEGIN:VEVENT
DTSTART;TZID=Europe/Athens:20260513T210000
DTEND;TZID=Europe/Athens:20260513T210000
DTSTAMP:20260423T100257
CREATED:20260408T195207Z
LAST-MODIFIED:20260408T195210Z
UID:10011772-1778706000-1778706000@stagenews.gr
SUMMARY:Ευανθία Ρεμπούτσικα & Άρης Δαβαράκης: Συναυλία στο Παλλάς με τον Γιάννη Κότσιρα
DESCRIPTION:«Τα τραγούδια μας»: Η Ευανθία Ρεμπούτσικα και ο Άρης Δαβαράκης σε μια μαγική βραδιά στο Θέατρο Παλλάς\nΔύο σπουδαίοι δημιουργοί\, οι οποίοι μας έχουν χαρίσει μερικά από τα πιο τρυφερά και διαχρονικά αγαπημένα τραγούδια της ελληνικής δισκογραφίας\, δίνουν ραντεβού στο κέντρο της Αθήνας. Η Ευανθία Ρεμπούτσικα και ο Άρης Δαβαράκης παρουσιάζουν τη συναυλία «Τα τραγούδια μας» την Τετάρτη 13 Μαΐου 2026\, στην επιβλητική σκηνή του Θεάτρου Παλλάς. \nΠρόκειται για μια μουσική παράσταση που γεννήθηκε μέσα από την κοινή τους καλλιτεχνική πορεία\, αποτελώντας μία από τις πιο ξεχωριστές και ευαίσθητες συμπράξεις των τελευταίων ετών. Το κοινό θα έχει τη σπάνια ευκαιρία να απολαύσει ζωντανά όλα εκείνα τα τραγούδια που προέκυψαν από αυτή τη δημιουργική συνάντηση· ένα πρόγραμμα γεμάτο μελωδίες και στίχους που συνεχίζουν να μας συγκινούν\, να μας συντροφεύουν και να μας εμπνέουν. \nSpecial Guest ο Γιάννης Κότσιρας και η ιστορική «Αλεξάνδρεια»\nΗ βραδιά κρύβει μια τεράστια έκπληξη\, καθώς στη σκηνή θα ανέβει ως special guest ο Γιάννης Κότσιρας. Η εμφάνισή του αναμένεται να αποτελέσει την πιο ξεχωριστή στιγμή της συναυλίας\, αφού ο αγαπημένος ερμηνευτής θα ξανασυναντηθεί ζωντανά με την πρώτη του μεγάλη επιτυχία\, την εμβληματική «Αλεξάνδρεια» (από το άλμπουμ «Αθώος ένοχος»). \nΑξίζει να σημειωθεί πως το συγκεκριμένο τραγούδι βρέθηκε και φέτος στο επίκεντρο του Θεάτρου Παλλάς\, «ντύνοντας» την sold out ομώνυμη παράσταση του Φωκά Ευαγγελινού (της μεγαλύτερης θεατρικής επιτυχίας της σεζόν 2025-2026). \n“Μια συναυλία – αφιέρωμα στα τραγούδια που γράφουν τη δική τους ιστορία\, μέσα από τους ποιητικούς στίχους του Άρη Δαβαράκη και τη μοναδική μελωδική υπογραφή της Ευανθίας Ρεμπούτσικα.” \nΟι συντελεστές που συμπληρώνουν τη βραδιά\nΣτη σκηνή του Παλλάς\, πλάι στους δύο σπουδαίους δημιουργούς\, θα εμφανιστούν τρεις ταλαντούχοι καλλιτέχνες\, συμβάλλοντας με τη δική τους ξεχωριστή παρουσία στη μαγεία της βραδιάς: \n\nΕριέττα Μανούρη\nΝίκος Μερτζάνος\nΣτέλιος Θεοδώρου\n\nΠληροφορίες & Εισιτήρια\n\nΠού: Θέατρο Παλλάς (Βουκουρεστίου 5\, Αθήνα)\nΠότε: Τετάρτη 13 Μαΐου 2026\nΠροπώληση: Τα εισιτήρια είναι ήδη διαθέσιμα ηλεκτρονικά μέσω της Ticket Services.\nΩΡΑ ΕΝΑΡΞΗΣ\n21:00ΤΙΜΕΣ ΕΙΣΙΤΗΡΙΩΝ \n\nVIP: 65€\nΖΩΝΗ Α: 60€\nΖΩΝΗ Β: 50€\nΖΩΝΗ Γ: 45€\nΖΩΝΗ Δ: 40€\nΖΩΝΗ Ε: 30€\nΖΩΝΗ ΣΤ: 20€
URL:https://stagenews.gr/event/evanthia-rempoutsika-aris-davarakis-theatro-pallas-kotsiras/
LOCATION:Θέατρο Παλλάς\, Βουκουρεστίου 3-5\, Αθήνα\, Αττική\, Greece
CATEGORIES:Συναυλίες Αθήνα
ATTACH;FMTTYPE=image/webp:https://stagenews.gr/wp-content/uploads/2026/04/POSTER-PALLAS-REBOUTSIKA-DAVARAKIS-2026.webp
END:VEVENT
BEGIN:VEVENT
DTSTART;TZID=Europe/Athens:20260523T203000
DTEND;TZID=Europe/Athens:20260523T203000
DTSTAMP:20260423T100257
CREATED:20260321T221218Z
LAST-MODIFIED:20260321T221223Z
UID:10011657-1779568200-1779568200@stagenews.gr
SUMMARY:Grand Gala με Αστέρες του Παγκόσμιου Μπαλέτου στο Θέατρο Παλλάς
DESCRIPTION:ΑΘΗΝΑ\, 22 Μαρτίου 2026 – Το Θέατρο Παλλάς ετοιμάζεται να υποδεχθεί μια από τις σημαντικότερες καλλιτεχνικές στιγμές της χρονιάς. Στις 23 Μαΐου 2026\, ένα εκθαμβωτικό Grand Gala κλασικού μπαλέτου θα φέρει στην Αθήνα διεθνείς αστέρες από τις κορυφαίες σκηνές της Ευρώπης. \nΠαγκοσμίως αναγνωρισμένοι χορευτές (etoiles και principal dancers) από το Dutch National Ballet\, την Hungarian National Opera και το Berlin State Ballet\, συναντιούνται για πρώτη φορά στην ίδια σκηνή. \nΟι Διεθνείς Αστέρες που θα εμφανιστούν\nΤο κοινό θα έχει την ευκαιρία να απολαύσει κορυφαία ονόματα του κλασικού χορού\, μεταξύ των οποίων: \n\nMaia Makhateli & Giorgi Potskhishvili (Dutch National Ballet)\nTatyjana Melnik & Julian MacKay (Hungarian National Opera / Bavarian State Ballet)\nKsenia Ovsyanick & David Motta Soares (Berlin State Ballet)\nChinara Alizade & Vladimir Yaroshenko (Polish National Ballet)\n\nΕμβληματικό Ρεπερτόριο: Από τον Don Quixote στη Giselle\nΤο πρόγραμμα της βραδιάς περιλαμβάνει αριστουργηματικά αποσπάσματα και pas de deux από έργα που σφράγισαν την ιστορία του μπαλέτου: \n\nDon Quixote (Μίνκους)\nGiselle (Αντάν)\nSpartacus Adagio (Χατσατουριάν)\nThe Dying Swan (Σεν Σανς) με συνοδεία πιάνου και βιολοντσέλου\n\nΠληροφορίες Παράστασης & Προπώληση\n\nΗμερομηνία: Σάββατο 23 Μαΐου 2026\, στις 20:30 \nΤοποθεσία: Θέατρο Παλλάς (Βουκουρεστίου 5\, Αθήνα) \nΤιμές Εισιτηρίων: Από 35€ έως 120€ (Ισχύουν ειδικές τιμές για ομαδικά εισιτήρια) \nΠροπώληση: more.com και pallastheater.com \n\nΠαραγωγή: International Art Bureau (Nina Avramenko) | Επικοινωνία: ArtsPR
URL:https://stagenews.gr/event/grand-gala-ballet-pallas-2026/
LOCATION:Θέατρο Παλλάς\, Βουκουρεστίου 3-5\, Αθήνα\, Αττική\, Greece
CATEGORIES:Παραστάσεις Αθήνα
ATTACH;FMTTYPE=image/webp:https://stagenews.gr/wp-content/uploads/2026/03/gala.webp
END:VEVENT
END:VCALENDAR