BEGIN:VCALENDAR
VERSION:2.0
PRODID:-//Stage News - ECPv6.15.17//NONSGML v1.0//EN
CALSCALE:GREGORIAN
METHOD:PUBLISH
X-ORIGINAL-URL:https://stagenews.gr
X-WR-CALDESC:Events for Stage News
REFRESH-INTERVAL;VALUE=DURATION:PT1H
X-Robots-Tag:noindex
X-PUBLISHED-TTL:PT1H
BEGIN:VTIMEZONE
TZID:Europe/Athens
BEGIN:DAYLIGHT
TZOFFSETFROM:+0200
TZOFFSETTO:+0300
TZNAME:EEST
DTSTART:20240331T010000
END:DAYLIGHT
BEGIN:STANDARD
TZOFFSETFROM:+0300
TZOFFSETTO:+0200
TZNAME:EET
DTSTART:20241027T010000
END:STANDARD
BEGIN:DAYLIGHT
TZOFFSETFROM:+0200
TZOFFSETTO:+0300
TZNAME:EEST
DTSTART:20250330T010000
END:DAYLIGHT
BEGIN:STANDARD
TZOFFSETFROM:+0300
TZOFFSETTO:+0200
TZNAME:EET
DTSTART:20251026T010000
END:STANDARD
BEGIN:DAYLIGHT
TZOFFSETFROM:+0200
TZOFFSETTO:+0300
TZNAME:EEST
DTSTART:20260329T010000
END:DAYLIGHT
BEGIN:STANDARD
TZOFFSETFROM:+0300
TZOFFSETTO:+0200
TZNAME:EET
DTSTART:20261025T010000
END:STANDARD
END:VTIMEZONE
BEGIN:VEVENT
DTSTART;TZID=Europe/Athens:20250628T180000
DTEND;TZID=Europe/Athens:20250628T180000
DTSTAMP:20260422T001140
CREATED:20241228T110916Z
LAST-MODIFIED:20241228T110958Z
UID:10007231-1751133600-1751133600@stagenews.gr
SUMMARY:Rockwave Festival 2025 Savatage
DESCRIPTION:XLALALA PRESENTS \nTHE RETURN OF SAVATAGE ON STAGE\n28 ΙΟΥΝΙΟΥ 2025\nΟι Savatage επιστρέφουν στη σκηνή και εγκαινιάζουν το  πρώτο Rockwave Festival  του Βορρά στο Terra Republic! \nΜετά από 23 χρόνια συναυλιακής απουσίας και ισάριθμα χρόνια από την τελευταία τους επίσκεψη στη χώρα μας\, η επιστροφή τους αποτελεί εκπλήρωση ονείρου για χιλιάδες οπαδούς. \nΟι Αμερικανοί θρύλοι του progressive metal\, SAVATAGE ανακοίνωσαν με ενθουσιασμό την πολυαναμενόμενη επιστροφή τους στη σκηνή με τον τραγουδιστή τους\,  Zak Stevens να δηλώνει: «Όπως μπορείτε να φανταστείτε\, σκέφτομαι αμέτρητους λόγους που κάνουν αυτά τα shows τόσο ξεχωριστά. Έχουμε την ευκαιρία να παίξουμε μία σειρά από headline shows για πρώτη φορά μετά από 20 χρόνια που θα μας φέρουν πάλι μπροστά από τους απίστευτους οπαδούς μας που μας έχουν χαρίσει τόσες αξέχαστες αναμνήσεις τις τελευταίες 3 δεκαετίες. Επιτέλους\, είναι η ευκαιρία μας να ανταποδώσουμε αυτοπροσώπως σε όλους αυτούς που έχουν σταθεί δίπλα μας\, υποστηρίζοντας μας όλα αυτά τα χρόνια!» \nΗ εμβληματική σύνθεση με τους John Lee Middleton\, Zak Stevens\,  Chris Caffery\,  Jeff Plate  και Al Pitrelli θα εμφανιστεί το Σάββατο 28  Ιουνίου\, στο  επετειακό  ROCKWAVE Festival που για πρώτη φορά στην 30χρονη ιστορία του εγκαταλείπει την Αθήνα και μετακομίζει στο παραθαλάσσιο Terra Republic έξω από τη Θεσσαλονίκη! \nΗ ανατριχιαστική τους reunion εμφάνιση στο Wacken Festival το 2015\, που καθήλωσε 80.000 ανθρώπους\, επισφράγισε τη διαχρονικότητα των Savatage και τους άρρηκτους δεσμούς της μπάντας με το κοινό της! \nΦέτος επανέρχονται δυναμικά στη σκηνή\, με μία αποκλειστική εμφάνιση στα Βαλκάνια στο 1o Rockwave Festival @ Terra Republic! \n\nSavatage\n28 Ιουνίου 2025\nTerra Republic \nΠροπώληση more.com \nRockwave Festival – 3O years \nMusic is our business\, but we do it for the fun \n\n 
URL:https://stagenews.gr/event/rockwave-festival-2025-savatage/
LOCATION:Terra Republic Open Air\, 55ο χλμ. Ε.Ο. ΘΕΣΣΑΛΟΝΙΚΗΣ – ΚΑΤΕΡΙΝΗΣ\, Πιερία\, Greece
CATEGORIES:Συναυλίες Θεσσαλονίκη,Συναυλίες Υπόλοιπη Ελλάδα
ATTACH;FMTTYPE=image/jpeg:https://stagenews.gr/wp-content/uploads/2024/12/savatage.jpg
END:VEVENT
BEGIN:VEVENT
DTSTART;TZID=Europe/Athens:20250627T180000
DTEND;TZID=Europe/Athens:20250627T180000
DTSTAMP:20260422T001140
CREATED:20250122T094128Z
LAST-MODIFIED:20250122T094132Z
UID:10007918-1751047200-1751047200@stagenews.gr
SUMMARY:Rockwave Republic Rotting Christ
DESCRIPTION:ROTTING CHRIST \n27 ΙΟΥΝΙΟΥ 2025 \nTERRA REPUBLIC \nTo Rockwave Festival με υπερηφάνεια παρουσιάζει το μεγαλύτερο Ελληνικό Metal συγκρότημα όλων των εποχών ως τον headliner της δεύτερης μέρας στο Terra Republic. \nΜε πείσμα\, επιμονή\, σκληρή δουλειά και αστείρευτη έμπνευση\, οι Rotting Christ εδώ και 35 χρόνια ηγούνται και πρεσβεύουν την Ελληνική μέταλ σκηνή\, έχοντας πλέον χτίσει μία πιστή βάση χιλιάδων οπαδών που τους αποθεώνουν παγκοσμίως \nΤον Μάιο του 2024 κυκλοφόρησαν το ‘Pro Xristou’\, εμβληματικό\, ατμοσφαιρικό\, δυναμικό\, μας μεταφέρει στην αρχαιότητα και τιμά μυθικά και ιστορικά πρόσωπα\, αλλά και την έννοια της ελευθερίας του ανθρώπου. Λαμβάνοντας διθυραμβικές κριτικές\, ο δίσκος αποτέλεσε αφορμή για δύο συναυλίες-φωτιά σε Αθήνα και Θεσσαλονίκη με τους οπαδούς να κλείνουν τα shows τραγουδώντας αγκαλιά με τους Rotting Christ φανερά συγκινημένους να τα δίνουν όλα σε ένα κρεσέντο που έχει μείνει χαραγμένο στη μνήμη όλων μας. \n\nΕΙΣΙΤΗΡΙΑ \nΠροπώληση: more.com \n3ημέρου 26-27-28 Ιουνίου \nMetal Era Εμμανουήλ Μπενάκη 22\, Αθήνα\nMonsterville Αγίας Ειρήνης 13\, Αθήνα\nMusic Corner Πανεπιστημίου 56\, Αθήνα\nNEPHILIM Πατριάρχου Ιωακείμ 17\, Θεσσαλονίκη\nALONE music store Γ Θεοχάρη 2\, Θεσσαλονίκη\nΔΙΩΡΟΦΟΝ café-bar Κερασούντος 81\, Καλαμαριά \n\n 
URL:https://stagenews.gr/event/rockwave-republic-rotting-christ/
LOCATION:Terra Republic Open Air\, 55ο χλμ. Ε.Ο. ΘΕΣΣΑΛΟΝΙΚΗΣ – ΚΑΤΕΡΙΝΗΣ\, Πιερία\, Greece
CATEGORIES:Συναυλίες Θεσσαλονίκη
ATTACH;FMTTYPE=image/jpeg:https://stagenews.gr/wp-content/uploads/2025/01/roting_Christ_terrarepublic.jpg
END:VEVENT
BEGIN:VEVENT
DTSTART;TZID=Europe/Athens:20250626T200000
DTEND;TZID=Europe/Athens:20250626T200000
DTSTAMP:20260422T001140
CREATED:20250111T095419Z
LAST-MODIFIED:20250130T153919Z
UID:10007527-1750968000-1750968000@stagenews.gr
SUMMARY:Rockwave Festival 2025: Opeth - The Halo Effect
DESCRIPTION:XLALALA PROUDLY PRESENTS ROCKWAVE FESTIVAL 30 YEARS ANNIVERSARY EDITION \nOPETH – THE HALO EFFECT | 26 ΙΟΥΝΙΟΥ 2025 | TERRA REPUBLIC\, ΘΕΣΣΑΛΟΝΙΚΗ \nΣτην αγκαλιά του progressive σκοταδιού: Οι Opeth έτοιμοι να σαρώσουν την καλοκαιρινή Ελλάδα. \nΤους αγαπάμε ιδιαίτερα και εκείνοι ανταποδίδουν αυτή την αγάπη με κάθε ευκαιρία. \nΤο 2024\, όλος ο κόσμος υπέκυψε στη σκοτεινή γοητεία του “The Last Will & Testament” τοποθετώντας τον ανάμεσα στους κορυφαίους δίσκους της χρονιάς. \nΤο καλοκαίρι του 2025 έρχονται στην Ελλάδα για να μας τον παρουσιάσουν ζωντανά! \nΌσοι ήμασταν στον Λυκαβηττό\, ξέρουμε πολύ καλά τι προσδοκούμε… \nΝα νιώσουμε κάθε νότα αυτής της θηριώδους μπάντας να διαπερνά τις φλέβες μας ενώ κάθε κραυγή του Åkerfeldt μας σκίζει τα σωθικά. \nΜετά τη θριαμβευτική περσινή τους εμφάνιση στο κατάμεστο Θέατρο του Λυκαβηττού\, οι θρύλοι του progressive metal Opeth\, επιστρέφουν για δύο τεράστιες συναυλιακές βραδιές που υπόσχονται να μείνουν αξέχαστες. \nΑθήνα και Θεσσαλονίκη\, these nights will be OUR last will and testament! \n26 Ιουνίου. Δεύτερη Στάση: Terra Republic \nΗ δεύτερη εμφάνιση θα πραγματοποιηθεί την Πέμπτη 26 Ιουνίου 2025\, στο Terra Republic\, στον χώρο που θα γίνει σημείο αναφοράς στη συναυλιακή πραγματικότητα της Βορείου Ελλάδος και των Βαλκανίων γενικότερα. Είμαστε βέβαιοι πως η παρουσία των Opeth εκεί ως headliner\, θα είναι καταλυτική και θα σημαδέψει με ιδανικό τρόπο τον τριήμερο metal μαραθώνιο που θα απολαύσουμε λίγο έξω από την Θεσσαλονίκη. \nThe Halo Effect έρχονται στο Rockwave Festival\, για μια μοναδική εμφάνιση που υπόσχεται να μείνει αξέχαστη! \nΟι The Halo Effect είναι ένα σουηδικό γκρουπ μελωδικού death metal\, που σχηματίστηκε το 2019. Τα μέλη των The Halo Effect δεν είναι μόνο κορυφαίοι στον τομέα τους\, αλλά και μερικοί από τους πρωτοπόρους της μελωδικής death metal σκηνής του Γκέτεμποργκ. Οι The Halo Effect σχηματίζουν μια μπάντα με κιθαρίστες και δεξιοτέχνες του μελωδικού death metal\, τον Niclas Engelin και τον Jesper Strömblad\, τον τραγουδιστή\, growler και στιχουργό Mikael Stanne\, μαζί με τον σταθερό «κορμό» και τη θεμελιώδη δύναμη του μπασίστα Peter Iwers\, καθώς και τον συνεργάτη του εδώ και πάνω από είκοσι χρόνια\, τον δυναμικό ντράμερ Daniel Svensson. \n\nΠροπώληση more.com
URL:https://stagenews.gr/event/rockwave-festival-2025-opeth/
LOCATION:Terra Republic Open Air\, 55ο χλμ. Ε.Ο. ΘΕΣΣΑΛΟΝΙΚΗΣ – ΚΑΤΕΡΙΝΗΣ\, Πιερία\, Greece
CATEGORIES:Συναυλίες Θεσσαλονίκη
ATTACH;FMTTYPE=image/jpeg:https://stagenews.gr/wp-content/uploads/2025/01/opeth.jpg
END:VEVENT
END:VCALENDAR