BEGIN:VCALENDAR
VERSION:2.0
PRODID:-//Stage News - ECPv6.15.17//NONSGML v1.0//EN
CALSCALE:GREGORIAN
METHOD:PUBLISH
X-WR-CALNAME:Stage News
X-ORIGINAL-URL:https://stagenews.gr
X-WR-CALDESC:Events for Stage News
REFRESH-INTERVAL;VALUE=DURATION:PT1H
X-Robots-Tag:noindex
X-PUBLISHED-TTL:PT1H
BEGIN:VTIMEZONE
TZID:Europe/Athens
BEGIN:DAYLIGHT
TZOFFSETFROM:+0200
TZOFFSETTO:+0300
TZNAME:EEST
DTSTART:20250330T010000
END:DAYLIGHT
BEGIN:STANDARD
TZOFFSETFROM:+0300
TZOFFSETTO:+0200
TZNAME:EET
DTSTART:20251026T010000
END:STANDARD
BEGIN:DAYLIGHT
TZOFFSETFROM:+0200
TZOFFSETTO:+0300
TZNAME:EEST
DTSTART:20260329T010000
END:DAYLIGHT
BEGIN:STANDARD
TZOFFSETFROM:+0300
TZOFFSETTO:+0200
TZNAME:EET
DTSTART:20261025T010000
END:STANDARD
BEGIN:DAYLIGHT
TZOFFSETFROM:+0200
TZOFFSETTO:+0300
TZNAME:EEST
DTSTART:20270328T010000
END:DAYLIGHT
BEGIN:STANDARD
TZOFFSETFROM:+0300
TZOFFSETTO:+0200
TZNAME:EET
DTSTART:20271031T010000
END:STANDARD
END:VTIMEZONE
BEGIN:VEVENT
DTSTART;TZID=Europe/Athens:20260423T213000
DTEND;TZID=Europe/Athens:20260423T213000
DTSTAMP:20260423T132717
CREATED:20260330T213058Z
LAST-MODIFIED:20260330T213102Z
UID:10011715-1776979800-1776979800@stagenews.gr
SUMMARY:Τα Καλογεράκια επιστρέφουν στον Σταυρό του Νότου: «Δεν είπαμε ακόμα όσα έπρεπε»
DESCRIPTION:Μετά από δέκα χρόνια συνεχούς εξέλιξης\, ο Μιχάλης και ο Παντελής Καλογεράκης ανεβαίνουν ξανά στη σκηνή του Σταυρού του Νότου Plus την Πέμπτη 23 Απριλίου 2026. Δεν πρόκειται για μια εμφάνιση από συνήθεια\, αλλά από την ανάγκη να συνεχίσουν μια αφήγηση που ενώνει την ποίηση με το τραγούδι και το συναίσθημα με το χιούμορ.Ισορροπώντας ανάμεσα στην τρυφερότητα και την ένταση\, τα δύο αδέλφια ξετυλίγουν τη δισκογραφική τους διαδρομή από το 2015 έως τα πρόσφατα «Παραμύθια της Μελπομένης». Το πρόγραμμα κινείται ελεύθερα: από την Κατερίνα Γώγου στον Μιχάλη Γκανά\, από την καθαρεύουσα στα καλιαρντά και από τα «ρεμπώτικα» στα λαϊκά\, όλα ιδωμένα μέσα από το δικό τους ιδιαίτερο πρίσμα. \nStand-up και Μουσική Συνύπαρξη\nΤη βραδιά πλαισιώνει με τη δική της ματιά η Μελίνα Κόλλια στο Stand-up\, προσθέτοντας μια νότα σύγχρονου χιούμορ σε μια παράσταση που επιδιώκει τη δημιουργία μιας συλλογικής εμπειρίας κάθαρσης και γέλιου. \n\nΠληροφορίες Παράστασης\n\nΗμερομηνία: Πέμπτη 23 Απριλίου 2026\nΧώρος: Σταυρός του Νότου Plus (Φραντζή 14\, Νέος Κόσμος)\nΣυμμετέχει: Μελίνα Κόλλια (Stand-up)\nΠροπώληση: Η προπώληση των εισιτηρίων έχει ήδη ξεκινήσει.\n\n\nΜια παράσταση φτιαγμένη με συνέπεια και βαθιά αγάπη για τον λόγο\, που υπόσχεται να σας κάνει να θέλετε να τους ξαναδείτε. \n\nΜείνετε συντονισμένοι στο stagenews.gr για όλες τις ποιοτικές προτάσεις της έντεχνης και εναλλακτικής σκηνής.
URL:https://stagenews.gr/event/kalogerakia-stayros-tou-notou-live-april-2026/
LOCATION:Σταυρός του Νότου\, Φραντζή & Θαρύπου 35-37\, Αθήνα\, Αττικής\, Greece
CATEGORIES:Συναυλίες Αθήνα
ATTACH;FMTTYPE=image/webp:https://stagenews.gr/wp-content/uploads/2026/03/kalogerakia.webp
END:VEVENT
END:VCALENDAR