BEGIN:VCALENDAR
VERSION:2.0
PRODID:-//Stage News - ECPv6.15.17//NONSGML v1.0//EN
CALSCALE:GREGORIAN
METHOD:PUBLISH
X-WR-CALNAME:Stage News
X-ORIGINAL-URL:https://stagenews.gr
X-WR-CALDESC:Events for Stage News
REFRESH-INTERVAL;VALUE=DURATION:PT1H
X-Robots-Tag:noindex
X-PUBLISHED-TTL:PT1H
BEGIN:VTIMEZONE
TZID:Europe/Athens
BEGIN:DAYLIGHT
TZOFFSETFROM:+0200
TZOFFSETTO:+0300
TZNAME:EEST
DTSTART:20240331T010000
END:DAYLIGHT
BEGIN:STANDARD
TZOFFSETFROM:+0300
TZOFFSETTO:+0200
TZNAME:EET
DTSTART:20241027T010000
END:STANDARD
BEGIN:DAYLIGHT
TZOFFSETFROM:+0200
TZOFFSETTO:+0300
TZNAME:EEST
DTSTART:20250330T010000
END:DAYLIGHT
BEGIN:STANDARD
TZOFFSETFROM:+0300
TZOFFSETTO:+0200
TZNAME:EET
DTSTART:20251026T010000
END:STANDARD
BEGIN:DAYLIGHT
TZOFFSETFROM:+0200
TZOFFSETTO:+0300
TZNAME:EEST
DTSTART:20260329T010000
END:DAYLIGHT
BEGIN:STANDARD
TZOFFSETFROM:+0300
TZOFFSETTO:+0200
TZNAME:EET
DTSTART:20261025T010000
END:STANDARD
END:VTIMEZONE
BEGIN:VEVENT
DTSTART;TZID=Europe/Athens:20251228T123000
DTEND;TZID=Europe/Athens:20251228T143000
DTSTAMP:20260423T220517
CREATED:20251227T195019Z
LAST-MODIFIED:20251227T195657Z
UID:10011139-1766925000-1766932200@stagenews.gr
SUMMARY:Η Βάλια Σκούρα φέρνει Jazz\, Rock και Swing ρυθμούς στο Χριστουγεννιάτικο Χωριό Μεταμόρφωσης
DESCRIPTION:Η μοναδική ερμηνεύτρια Βάλια Σκούρα\, που εντυπωσίασε το κοινό της πόλης στην καλοκαιρινή της εμφάνιση\, επιστρέφει στη Μεταμόρφωση για μια ξεχωριστή εορταστική συναυλία την Κυριακή 28 Δεκεμβρίου 2025\, στις 12:45. \nΣτο πλαίσιο των εκδηλώσεων του Χριστουγεννιάτικου Χωριού\, η Βάλια Σκούρα\, πλαισιωμένη από μια εξαιρετική ορχήστρα διακεκριμένων δεξιοτεχνών\, θα παρουσιάσει ένα πρόγραμμα με την αισθητική του nouvelle chanson που τόσο γοητευτικά υπηρετεί. \nΈνα Μουσικό Ταξίδι γεμάτο Ρυθμό\nΟι επισκέπτες θα έχουν την ευκαιρία να απολαύσουν: \n\nJazz\, Rock και Swing διασκευές.\nΧριστουγεννιάτικα standards που μας βάζουν στο πνεύμα των ημερών.\nΕλληνικές και διεθνείς επιτυχίες.\nΤο νέο της τραγούδι με τίτλο «Δάκρυ\, δάκρυ»\, που κυκλοφόρησε πρόσφατα.\n\nΜια ιδανική μεσημεριανή πρόταση για όλη την οικογένεια\, σε μια ατμόσφαιρα γεμάτη φως και μελωδίες\, στην καρδιά της εορταστικής Μεταμόρφωσης. \nΠληροφορίες Εκδήλωσης\n\nΚαλλιτέχνης: Βάλια Σκούρα & Ορχήστρα\nΧώρος: Χριστουγεννιάτικο Χωριό Δήμου Μεταμόρφωσης (Σκεπαστό Αττικής Οδού)\nΗμερομηνία: Κυριακή 28 Δεκεμβρίου 2025\nΏρα Έναρξης: 12:45\nΕίσοδος: Ελεύθερη\n\nΤοποθεσία Χώρου (Σκεπαστό Αττικής Οδού)\n\nΔιεύθυνση: Παπανδρέου και Πλάτωνος\, Μεταμόρφωση\, Αττική 144 52.
URL:https://stagenews.gr/event/valia-skoura-xmas-concert-metamorfosi-2025/
LOCATION:Σκεπαστό Αττικής οδού Μεταμόρφωση\, Παπανδρέου και Πλάτωνος\, Αττικής\, Greece
CATEGORIES:Δωρεάν εκδηλώσεις Αθήνα,Συναυλίες Αθήνα
ATTACH;FMTTYPE=image/jpeg:https://stagenews.gr/wp-content/uploads/2025/12/DHMOS_METAMORFOSHS_JAZZ.jpg
END:VEVENT
END:VCALENDAR