BEGIN:VCALENDAR
VERSION:2.0
PRODID:-//Stage News - ECPv6.15.17//NONSGML v1.0//EN
CALSCALE:GREGORIAN
METHOD:PUBLISH
X-ORIGINAL-URL:https://stagenews.gr
X-WR-CALDESC:Events for Stage News
REFRESH-INTERVAL;VALUE=DURATION:PT1H
X-Robots-Tag:noindex
X-PUBLISHED-TTL:PT1H
BEGIN:VTIMEZONE
TZID:Europe/Athens
BEGIN:DAYLIGHT
TZOFFSETFROM:+0200
TZOFFSETTO:+0300
TZNAME:EEST
DTSTART:20230326T010000
END:DAYLIGHT
BEGIN:STANDARD
TZOFFSETFROM:+0300
TZOFFSETTO:+0200
TZNAME:EET
DTSTART:20231029T010000
END:STANDARD
BEGIN:DAYLIGHT
TZOFFSETFROM:+0200
TZOFFSETTO:+0300
TZNAME:EEST
DTSTART:20240331T010000
END:DAYLIGHT
BEGIN:STANDARD
TZOFFSETFROM:+0300
TZOFFSETTO:+0200
TZNAME:EET
DTSTART:20241027T010000
END:STANDARD
BEGIN:DAYLIGHT
TZOFFSETFROM:+0200
TZOFFSETTO:+0300
TZNAME:EEST
DTSTART:20250330T010000
END:DAYLIGHT
BEGIN:STANDARD
TZOFFSETFROM:+0300
TZOFFSETTO:+0200
TZNAME:EET
DTSTART:20251026T010000
END:STANDARD
BEGIN:DAYLIGHT
TZOFFSETFROM:+0200
TZOFFSETTO:+0300
TZNAME:EEST
DTSTART:20260329T010000
END:DAYLIGHT
BEGIN:STANDARD
TZOFFSETFROM:+0300
TZOFFSETTO:+0200
TZNAME:EET
DTSTART:20261025T010000
END:STANDARD
END:VTIMEZONE
BEGIN:VEVENT
DTSTART;TZID=Europe/Athens:20251121T210000
DTEND;TZID=Europe/Athens:20251121T210000
DTSTAMP:20260423T113426
CREATED:20251019T091127Z
LAST-MODIFIED:20251019T091127Z
UID:10010420-1763758800-1763758800@stagenews.gr
SUMMARY:Jeremy "ΝΤΕΚΑΝΤΑΝΣ" on Tour | ΚΕΡΚΥΡΑ
DESCRIPTION:ΝΤΕΚΑΝΤΑΝΣ Stand-Up Comedy Show! Μία παράσταση πιο ωμή και απο μεσημεριανό ψαρά Σαμουράι που κάνει νηστεία. Μία παράσταση που δεν θα σε κάνει καλύτερο άνθρωπο. Αλλά χειρότερο. Ένας μονόλογος γεμάτος κοινωνική σάτιρα\, με τις πιο ΝΤΕΚΑΝΤΑΝΣ στιγμές που συμβαίνουν γύρω μας. Απο τις κουβέντες που δεν βγάζουν νόημα\, μέχρι τα social media και την ΠΑΡΑΝΟΙΑ της καθημερινότητας. \nΜετά από αμέτρητες viral στιγμές\, παραστάσεις σε όλη την Ελλάδα και τουλάχιστον 9 βραβεία στις Κάννες\, ο Jeremy προσγειώνεται στη σκηνή με μια παράσταση γεμάτη ρυθμό\, γέλιο και σκέψεις που μάλλον έχεις κάνει κι εσύ! \nObservational comedy\, deadpan στιγμές\, raw στιγμές\, σκέτες στιγμές και δόσεις σουρεαλισμού εναλλάσονται\, δημιουργώντας ένα roller coaster που μοιάζει σαν να μπαίνεις σε ζαχαροπλαστείο για πάστα αλλά καταλήγεις να βλέπεις τελετή εξορκισμού. Τρώγοντας όμως μια πάστα. Από τις διακρίσεις και το σεξ μέχρι το marketing\, την ντροπή\, το δημόσιο\, την ενοικίαση σπιτιών\, την επικοινωνία με τον κόσμο και πολλά άλλα\, τίποτα δεν μένει στο απυρόβλητο. \nEarly Bird:10€ \nΦοιτητικό\, Ανέργων\, ΑΜΕΑ:10€\nΠροπώληση 12€ | Ταμείο 14€ \nΠροπώληση more.com
URL:https://stagenews.gr/event/jeremy-ntekantans-on-tour-kerkyra/
LOCATION:Πολύτεχο – Κέρκυρα\, Σχολεμβούργου 39\, Κέρκυρα\, 49100
CATEGORIES:Παραστάσεις Υπόλοιπη Ελλάδα
ATTACH;FMTTYPE=image/jpeg:https://stagenews.gr/wp-content/uploads/2025/10/decadance.jpg
END:VEVENT
BEGIN:VEVENT
DTSTART;TZID=Europe/Athens:20251114T210000
DTEND;TZID=Europe/Athens:20251114T210000
DTSTAMP:20260423T113426
CREATED:20251019T085944Z
LAST-MODIFIED:20251019T085944Z
UID:10010405-1763154000-1763154000@stagenews.gr
SUMMARY:Θ. ΑΔΑΜΑΚΟΣ - ΒΑΣΙΛΙΑΣ ΤΟΥ ΤΙΠΟΤΑ ON TOUR | ΚΕΡΚΥΡΑ
DESCRIPTION:Αυτή είναι μια παράσταση για τις αντιθέσεις\, τις ηθικές γκρίζες ζώνες\, το πως είναι να σε τραβάνε δυνάμεις από δύο αντίθετες κατευθύνσεις προς το μέρος τους.\nΚαι πιστεύω ότι είναι πολύ αστεία. \nΕίμαι πολύ περήφανος για αυτά τα κείμενα. Ελπίζω να έρθετε και να πάρετε από αυτή την παράσταση ότι χρειάζεστε\, τέλος πάντων. \nΤο 2023 βιντεοσκόπησα το πρώτο μου stand up comedy special με τίτλο “ΕΚΤΟΣ ΥΛΗΣ” όπου βρίσκεται αυτή τη στιγμή στο YouTube με πάνω 250k προβολές. \nΠαράλληλα\, παρουσιάζω το podcast “ΡΟΚΣΤΑΡΙΛΙΚΙΑ” μαζί με το Χρήστο Πέτρου στο κανάλι μου στο YouTube που έχει πάνω από 17k συνδρομητές. \nΤο podcast μετρά συνολικά πάνω από 560k views αυτή τη στιγμή. \nΠροπώληση more.com
URL:https://stagenews.gr/event/th-adamakos-vasilias-tou-tipota-on-tour-kerkyra/
LOCATION:Πολύτεχο – Κέρκυρα\, Σχολεμβούργου 39\, Κέρκυρα\, 49100
CATEGORIES:Παραστάσεις Υπόλοιπη Ελλάδα
ATTACH;FMTTYPE=image/jpeg:https://stagenews.gr/wp-content/uploads/2025/10/vasiliastoutipota.jpg
END:VEVENT
BEGIN:VEVENT
DTSTART;TZID=Europe/Athens:20250215T211500
DTEND;TZID=Europe/Athens:20250215T211500
DTSTAMP:20260423T113426
CREATED:20250204T094129Z
LAST-MODIFIED:20250204T094135Z
UID:10008457-1739654100-1739654100@stagenews.gr
SUMMARY:Στέλιος Ανατολίτης | Κατά διαόλου | ΚΕΡΚΥΡΑ
DESCRIPTION:ΣΤΕΛΙΟΣ ΑΝΑΤΟΛΙΤΗΣ | ΚΑΤΑ ΔΙΑΟΛΟΥ\nΑν έχεις την αίσθηση ότι όλα πηγαίνουν κατά διαόλου\, είσαι στο κατάλληλο Δελτίο Τύπου. Η τέταρτη σόλο stand-up comedy παράσταση του Στέλιου Ανατολίτη\, ταξιδεύει στην Ελλάδα. \nΞυπνάς από τις τέσσερις για να κάνεις τρία σετ κοιλιακούς; \nΔιαβάζεις άρθρα με τίτλους «πέντε τρόποι να γίνεις ευτυχισμένος»; \nΓράφεις «ΚΑΛΗΜΕΡΑ ΚΑΙ ΚΑΛΗ ΕΒΔΟΜΑΔΑ»\, κάθε Δευτέρα\, σε ένα ποστ με F-16 και τριαντάφυλλα; \nΓουστάρεις να πληρώνεις 1000€ για 60τμ; \nΑν ναι\, αυτή η παράσταση ΔΕΝ είναι για σένα. \nΑπό την άλλη\, αν βαρέθηκες να βλέπεις life coaches να σου λένε πώς να ζήσεις τη ζωή σου\, αν σε έχει  καταβάλλει η Αθήνα\, τα χορηγούμενα ποστ και η συνεχόμενη ανανέωση της συνταγής των αντικαταθλιπτικών\, είσαι ο κατάλληλος άνθρωπος για αυτήν την παράσταση. \nΟ Στέλιος Ανατολίτης\, ένας από τους πιο πρωτοποριακούς και ιδιαίτερους κωμικούς της Ελλάδας\, επιστρέφει για τέταρτη φορά με μια παράσταση ενάντια στον παραλογισμό της καθημερινότητας. Μια παράσταση αφιερωμένη στις γενιές που βρίσκονται μόνιμα σε πόλεμο χωρίς να έχουν συμμετάσχει ποτέ σε κανέναν. Μια παράσταση ενάντια σε κάθε τι που φαντάζει ως ατελείωτο αδιέξοδο\, σε προσωπικό και κοινωνικό επίπεδο.
URL:https://stagenews.gr/event/stelios-anatolitis-kata-diaolou-kerkyra/
LOCATION:Πολύτεχο – Κέρκυρα\, Σχολεμβούργου 39\, Κέρκυρα\, 49100
CATEGORIES:Παραστάσεις Υπόλοιπη Ελλάδα
ATTACH;FMTTYPE=image/jpeg:https://stagenews.gr/wp-content/uploads/2025/02/katadiaolou.jpg
END:VEVENT
BEGIN:VEVENT
DTSTART;TZID=Europe/Athens:20241206T213000
DTEND;TZID=Europe/Athens:20241206T213000
DTSTAMP:20260423T113426
CREATED:20240927T210000Z
LAST-MODIFIED:20241024T073111Z
UID:10001858-1733520600-1733520600@stagenews.gr
SUMMARY:Θανάσης "Cain" Σαμαράς: "Πώς τολμάτε" on Tour | ΚΕΡΚΥΡΑ
DESCRIPTION:Επειδή είναι πολύ οργανωτικός άνθρωπος\, κατά την διάρκεια των δύο χρόνων της καραντίνας δεν έγραψε ούτε λίστα για σούπερ μάρκετ. Όπως δήλωσε: «Πίστευα θα μας ξανακλείσουν και φέτος\, οπότε δεν χρειάζεται να γράψω». \nΤελικά έπεσε έξω. \nΤο «Πώς τολμάτε;» είναι μία παράσταση που συνδυάζει Σουηδούς με σνομπ γείτονες\, ευγενικούς με αγενείς ανθρώπους\, λαϊκούς τραγουδιστές με το Ομηρικό ζήτημα\, γιατί σπούδασε και φιλόλογος και κάπου έπρεπε να τα χρησιμοποιήσει κι αυτά. \nMini bio: \nO Θανάσης Σαμαράς ξεκίνησε ν’ ανεβάζει κωμικά βίντεο στο Youtube το 2012 και από τότε ανήκει στην ομάδα του Comedy Lab. Στη συνέχεια συνεργάστηκε με το Mega channel όσον αφορά στην δημιουργία βίντεο για την ηλεκτρονική πλατφόρμα του καναλιού. Η ενασχόλησή του με τα βίντεο τον οδήγησε να εργαστεί κι ως Executive Producer στην εταιρία Entrinno Productions\, του Σάκη Τανιμανίδη\, για λογαριασμό της εκπομπής «Ντενεκές» που προβλήθηκε από το Μακεδονία TV. \nΕκτός των βίντεο ασχολείται επαγγελματικά και με το Stand Up Comedy τα τελευταία δέκα χρόνια. Έχει παίξει στα περισσότερα μέρη της Ελλάδας και ήταν ο πρώτος που σε συνεργασία με άλλον κωμικό διοργάνωσε το πρώτο Open Mic στη Θεσσαλονίκη το 2014\, για την ανάδειξη νέων ατόμων στο Stand Up Comedy. Το καλοκαίρι του 2018 παρουσίασε στο φεστιβαλ κωμωδίας της Αλεξανδρούπολης\, την πρώτη του σόλο stand up comedy- work in progress παράσταση με τίτλο «Φήμες λένε». \n\nΠόλη: Πάτρα \nΗμερομηνία: Τετάρτη 30 Οκτωβρίου. \nΧώρος: Θέατρο Act (Γεροκωστοπούλου 65\, τηλ.261 027 2037) \nΠόλη: Άργος \nΗμερομηνία: Πέμπτη 31 Οκτωβρίου \nΧώρος: Cine Valia (Ικτίνου 4\, τηλ.699 472 0566) \nΠόλη: Λάρισα \nΗμερομηνία: Παρασκευή 1 Νοεμβρίου \nΧωρος: Καφέ Κηποθεάτρου Αλκαζάρ (Πάρκο Αλκαζάρ\, τηλ.241 181 3333) \nΠόλη: Βόλος \nΗμερομηνία: Σάββατο 23 Νοεμβρίου \nΧώρος: Καφέ Society (Τάκη Οικονομάκη 70Α\, τηλ. 693 274 6067) \nΠόλη: Καβάλα  \nΗμερομηνία: Παρασκευή 29 Νοεμβρίου \nΧώρος: Cine Απόλλων (Π.Μελά 1\, τηλ.251 022 0900) \nΠόλη: Δράμα \nΗμερομηνία: Σάββατο 30 Νοεμβρίου \nΧώρος: Fabrica (Καραισκάκη\, τηλ.2521 100339) \nΠόλη: Κέρκυρα \nΗμερομηνία: Παρασκευή 6 Δεκεμβρίου \nΧώρος: Πολύτεχνο (Σχολεμβούργου 39\, τηλ.2661 027794) \nΠόλη: Ιωάννινα. \nΗμερομηνία: Σάββατο 7 Δεκεμβρίου \nΧώρος: Θυμωμένο Πορτραίτο (Καποδιστρίου 20\, τηλ.2651 068550) \n  \nΠροπώληση 8 ευρώ. Ταμείο: 9 ευρώ. \nΕισιτήρια διατίθενται μέσω του more.com\, στα καταστήματα Public kαι στο ταμείο την ημέρα της παράστασης.
URL:https://stagenews.gr/event/thanasis-cain-samaras-pos-tolmate-on-tour-kerkyra/
LOCATION:Πολύτεχο – Κέρκυρα\, Σχολεμβούργου 39\, Κέρκυρα\, 49100
CATEGORIES:Παραστάσεις Υπόλοιπη Ελλάδα
ATTACH;FMTTYPE=image/jpeg:https://stagenews.gr/wp-content/uploads/2024/10/alevras.jpg
END:VEVENT
BEGIN:VEVENT
DTSTART;TZID=Europe/Athens:20241122T210000
DTEND;TZID=Europe/Athens:20241122T210000
DTSTAMP:20260423T113426
CREATED:20240903T210000Z
LAST-MODIFIED:20241023T174834Z
UID:10001362-1732309200-1732309200@stagenews.gr
SUMMARY:Δημήτρης Δημόπουλος - Α4 | ΚΕΡΚΥΡΑ
DESCRIPTION:Ο Δημήτρης Δημόπουλος παρουσιάζει σε τον νέο του σταντ-απ μονόλογο του σε περιοδεία. \nΠόσες σελίδες Α4 απαιτούνται για να ξεδιπλωθούν τέσσερις ιστορίες βασισμένες σε πραγματικά βιώματα που δεν είναι πάντα απαραίτητα κωμικά; Ο πολυπράγμων κωμικός Δημήτρης Δημόπουλος\, επιστρέφει μετά την ανατρεπτική Καφρόκρεμα και παρουσιάζει τον νέο σταντ-απ μονόλογό του με τα πιο ενδοσκοπικά κείμενα του ως τώρα. Και όταν λέει «ενδοσκοπικά»\, εννοεί «αυτοναφορικά». Και όταν λέει «αυτοναφορικά»\, εννοεί «εγωκεντρικά». Και αναρωτιέται: Θα ήταν πιο γνωστός αν δεν είχε ένα τόσο κοινότοπο ονοματεπώνυμο; Αυτό το «ένα χαρτί να έχει το παιδί» που μόλις απέκτησε και ένα συνοδευτικό μεταπτυχιακό\, θα βοηθήσει όντως σε κάτι; Πόση κωμωδία μπορεί να κρύβεται στη διαχείριση μιας απώλειας; Και πόση τραγωδία μπορεί να προκύπτει από την ευτυχία της ζωής; Και\, τέλος πάντων\, πόσα αστεία χωρούν σε μια σελίδα Α4;! \nΗ παράσταση τελεί υπό την αιγίδα της Σκέπης Κέντρου Πολιτισμού Ιδρύματος Δημήτρης Δημόπουλος (ΣΚΠΙΔΔ). \n\nΕίσοδος: 10€ (τα πρώτα 20 εισιτήρια)\, 12€ \nΓια πληροφορίες και κρατήσεις: 6946801431\nΠροπώληση more.com
URL:https://stagenews.gr/event/dimitris-dimopoulos-a4-kerkyra/
LOCATION:Πολύτεχο – Κέρκυρα\, Σχολεμβούργου 39\, Κέρκυρα\, 49100
CATEGORIES:Παραστάσεις Υπόλοιπη Ελλάδα
ATTACH;FMTTYPE=image/jpeg:https://stagenews.gr/wp-content/uploads/2024/10/a41.jpeg
END:VEVENT
BEGIN:VEVENT
DTSTART;TZID=Europe/Athens:20241108T210000
DTEND;TZID=Europe/Athens:20241108T210000
DTSTAMP:20260423T113426
CREATED:20241024T143412Z
LAST-MODIFIED:20241024T143417Z
UID:10002690-1731099600-1731099600@stagenews.gr
SUMMARY:Όχι Μανάδες - Πάτις Ρούπος | ΚΕΡΚΥΡΑ
DESCRIPTION:ΠΑΡΙΣ ΡΟΥΠΟΣ\n ΟΧΙ ΜΑΝΑΔΕΣ  \nΠαρασκευή 8 Νοεμβρίου 2024\nώρα προσέλευσης 20:30 \n+ opening act: Σταύρος Μαργιώλος \nΠολύτεχνο – Κέρκυρα \nΜετά από δύο σεζόν στην Αθήνα και μια πανελλήνια περιοδεία που μέτρησε πάνω από 42 πόλεις\, ο Πάρις Ρούπος έρχεται για 1η φορά με τη σόλο παράστασή του “ΟΧΙ ΜΑΝΑΔΕΣ”\nστην Κέρκυρα και στο Πολύτεχνο\, την Παρασκευή 8/11/2024. \nΚατεβάζοντας ακόμα περισσότερο το dimmer στον ήδη σκοτεινό κόσμο των αστείων του\, παρουσιάζει ένα σύμπαν όπου ο Bob Ross συναντά τον Κώστα Καρυωτάκη\, με μια κουστωδία από εμβόλιμα μικρά αστεία\, αναπάντεχα λογοπαίγνια\, λεπτή ειρωνεία\, θεωρίες συνωμοσίας σχετικά με τις θεωρίες συνωμοσίας και εντέχνως άτεχνα τραγούδια με παράξενο στίχο. \nΣε αυτή την παράσταση επιτρέπεται να ειπωθούν όλα\, αλλά “παιδιά\, όχι μανάδες”. \n\nΤΙΜΕΣ ΕΙΣΙΤΗΡΙΩΝ\n10€ Προπώληση\n12€ Ταμείο \nΠΡΟΠΩΛΗΣΗ\nTICKET SERVICES\n– online: www.ticketservices.gr \n\n  \n 
URL:https://stagenews.gr/event/ochi-manades-patis-roupos-kerkyra/
LOCATION:Πολύτεχο – Κέρκυρα\, Σχολεμβούργου 39\, Κέρκυρα\, 49100
CATEGORIES:Παραστάσεις Υπόλοιπη Ελλάδα
ATTACH;FMTTYPE=image/jpeg:https://stagenews.gr/wp-content/uploads/2024/10/oximamades.jpg
END:VEVENT
END:VCALENDAR