BEGIN:VCALENDAR
VERSION:2.0
PRODID:-//Stage News - ECPv6.15.17//NONSGML v1.0//EN
CALSCALE:GREGORIAN
METHOD:PUBLISH
X-ORIGINAL-URL:https://stagenews.gr
X-WR-CALDESC:Events for Stage News
REFRESH-INTERVAL;VALUE=DURATION:PT1H
X-Robots-Tag:noindex
X-PUBLISHED-TTL:PT1H
BEGIN:VTIMEZONE
TZID:Europe/Athens
BEGIN:DAYLIGHT
TZOFFSETFROM:+0200
TZOFFSETTO:+0300
TZNAME:EEST
DTSTART:20250330T010000
END:DAYLIGHT
BEGIN:STANDARD
TZOFFSETFROM:+0300
TZOFFSETTO:+0200
TZNAME:EET
DTSTART:20251026T010000
END:STANDARD
BEGIN:DAYLIGHT
TZOFFSETFROM:+0200
TZOFFSETTO:+0300
TZNAME:EEST
DTSTART:20260329T010000
END:DAYLIGHT
BEGIN:STANDARD
TZOFFSETFROM:+0300
TZOFFSETTO:+0200
TZNAME:EET
DTSTART:20261025T010000
END:STANDARD
BEGIN:DAYLIGHT
TZOFFSETFROM:+0200
TZOFFSETTO:+0300
TZNAME:EEST
DTSTART:20270328T010000
END:DAYLIGHT
BEGIN:STANDARD
TZOFFSETFROM:+0300
TZOFFSETTO:+0200
TZNAME:EET
DTSTART:20271031T010000
END:STANDARD
END:VTIMEZONE
BEGIN:VEVENT
DTSTART;TZID=Europe/Athens:20260429T170000
DTEND;TZID=Europe/Athens:20260429T170000
DTSTAMP:20260423T081315
CREATED:20260422T204747Z
LAST-MODIFIED:20260422T204752Z
UID:10011835-1777482000-1777482000@stagenews.gr
SUMMARY:Η Τέχνη Μέσα από την Αναπηρία: Ημερίδα Συμπερίληψης στο Μοσχάτο
DESCRIPTION:«Η Τέχνη Μέσα από την Αναπηρία»: Μια ημερίδα για τη συμπερίληψη και την απελευθέρωση στο Μοσχάτο\nΗ Λέσχη Τέχνης και Πολιτισμού της Ένωσης Σεναριογράφων Ελλάδος (Ε.Σ.Ε.) διοργανώνει μια ιδιαίτερα σημαντική ημερίδα με θέμα: «Η Τέχνη Μέσα από την Αναπηρία: Τεχνικές Συμπερίληψης και Απελευθέρωσης». Η εκδήλωση θα πραγματοποιηθεί την Τετάρτη 29 Απριλίου 2026\, στο Πολιτιστικό Κέντρο του Δήμου Μοσχάτου – Ταύρου «Θεόδωρος Αγγελόπουλος». \nΗ ημερίδα αποτελεί ένα σημείο συνάντησης για τον διάλογο γύρω από τον καταλυτικό ρόλο των τεχνών —ζωγραφική\, μουσική\, θέατρο και χορός— ως μέσα δημιουργικής έκφρασης\, εσωτερικής ενδυνάμωσης και κοινωνικής ευαισθητοποίησης σε σχέση με την αναπηρία. \nΗ Ζωγραφική ως Εργαλείο Art Healing\nΣτο πλαίσιο των ομιλιών\, η εικαστικός και Art Healing Therapist Μάρη Ηλιάδη (2ο Βραβείο Ζωγραφικής στα Art Awards 2026) θα παρουσιάσει την εισήγηση: «Η Ενσυνείδητη Μεταβολή Διάθεσης μέσω Ζωγραφικής ως Υποστηρικτικό Εργαλείο στην Εμπειρία της Αναπηρίας». \nΗ ομιλία εστιάζει στη ζωγραφική ως μη λεκτικό εργαλείο που συμβάλλει στη συνειδητή ρύθμιση της συναισθηματικής κατάστασης. Μέσα από τη στοχευμένη χρήση χρώματος\, μορφής και επιλεκτικών μοτίβων\, η τέχνη μετατρέπεται σε μέσο εσωτερικής απελευθέρωσης για τα άτομα που βιώνουν την εμπειρία της αναπηρίας. \n“Η τέχνη δεν έχει περιορισμούς. Είναι η παγκόσμια γλώσσα που επιτρέπει στον καθένα να βρει τη θέση και το νόημά του στον κόσμο\, πέρα από φυσικά ή κοινωνικά εμπόδια.” \nΟμιλητές & Πρόγραμμα\nΣτην ημερίδα θα τοποθετηθούν οι: \n\nΜαρία Αγραπίδου\nΜαριάνθη Παπάδη\nΜάρη Ηλιάδη\nΒασίλης Κάτσης\n\nΗ εκδήλωση θα ολοκληρωθεί με ένα ειδικό μουσικό πρόγραμμα από τον Βασίλη Κάτση. Την εποπτεία της ημερίδας έχει η Κατερίνα Καράμπελα\, μέλος της Συντονιστικής Επιτροπής της Λέσχης Τέχνης και Πολιτισμού της Ε.Σ.Ε. \n\nΠληροφορίες Εκδήλωσης\n\nΠότε: Τετάρτη 29 Απριλίου 2026\nΏρα Προσέλευσης: 17:00\nΠού: Πολιτιστικό Κέντρο Δήμου Μοσχάτου – Ταύρου «Θεόδωρος Αγγελόπουλος» (Κωνσταντινουπόλεως & Σολωμού\, Μοσχάτο)\nΕίσοδος: Ελεύθερη\n\nΣτοιχεία Επικοινωνίας\nΓια περισσότερες πληροφορίες\, μπορείτε να επικοινωνήσετε με την κα Μάρη Ηλιάδη:\nEmail: iliadimari@gmail.com\nΤηλ.: 6944641900
URL:https://stagenews.gr/event/texni-kai-anapiria-imerida-ese-moschato-2026/
LOCATION:Πολιτιστικό Κέντρο του Δήμου Μοσχάτου\, Μοσχάτο\, Αττικής\, Greece
CATEGORIES:Δωρεάν εκδηλώσεις Αθήνα
ATTACH;FMTTYPE=image/webp:https://stagenews.gr/wp-content/uploads/2026/04/agrapidou.webp
END:VEVENT
END:VCALENDAR