BEGIN:VCALENDAR
VERSION:2.0
PRODID:-//Stage News - ECPv6.15.17//NONSGML v1.0//EN
CALSCALE:GREGORIAN
METHOD:PUBLISH
X-ORIGINAL-URL:https://stagenews.gr
X-WR-CALDESC:Events for Stage News
REFRESH-INTERVAL;VALUE=DURATION:PT1H
X-Robots-Tag:noindex
X-PUBLISHED-TTL:PT1H
BEGIN:VTIMEZONE
TZID:Europe/Athens
BEGIN:DAYLIGHT
TZOFFSETFROM:+0200
TZOFFSETTO:+0300
TZNAME:EEST
DTSTART:20240331T010000
END:DAYLIGHT
BEGIN:STANDARD
TZOFFSETFROM:+0300
TZOFFSETTO:+0200
TZNAME:EET
DTSTART:20241027T010000
END:STANDARD
BEGIN:DAYLIGHT
TZOFFSETFROM:+0200
TZOFFSETTO:+0300
TZNAME:EEST
DTSTART:20250330T010000
END:DAYLIGHT
BEGIN:STANDARD
TZOFFSETFROM:+0300
TZOFFSETTO:+0200
TZNAME:EET
DTSTART:20251026T010000
END:STANDARD
BEGIN:DAYLIGHT
TZOFFSETFROM:+0200
TZOFFSETTO:+0300
TZNAME:EEST
DTSTART:20260329T010000
END:DAYLIGHT
BEGIN:STANDARD
TZOFFSETFROM:+0300
TZOFFSETTO:+0200
TZNAME:EET
DTSTART:20261025T010000
END:STANDARD
END:VTIMEZONE
BEGIN:VEVENT
DTSTART;TZID=Europe/Athens:20250919T213000
DTEND;TZID=Europe/Athens:20250919T213000
DTSTAMP:20260422T152331
CREATED:20250829T182403Z
LAST-MODIFIED:20250829T182407Z
UID:10010201-1758317400-1758317400@stagenews.gr
SUMMARY:Locomondo
DESCRIPTION:Locomondo θα πει …. δίπλα στην θάλασσα… \nΜε μια μίξη από reggae\, ska\, latin\, rock και ελληνικούς παραδοσιακούς ρυθμούς\, οι Locomondo καταφέρνουν κάτι μοναδικό: να ξεσηκώνουν κοινά κάθε ηλικίας και να μας ενώνουν όλους σε μια μεγάλη παρέα\, σε έναν ατελείωτο χορό γεμάτο θετική ενέργεια. \nΈχοντας διανύσει χιλιάδες χιλιόμετρα σε σκηνές σε όλη την Ελλάδα (και όχι μόνο)\, με αμέτρητες live εμφανίσεις στο ενεργητικό τους\, οι Locomondo ξέρουν πώς να δίνουν τον παλμό. Με τους “ανεβαστικούς” τους ρυθμούς και τα τραγούδια που έχουμε αγαπήσει – «Δεν κάνει κρύο στην Ελλάδα»\, «Μαγικό χαλί»\, «80’s» και φυσικά τον εκρηκτικό τους ήχο από rap\, ska\, reggae\, hip-hop\, dub\, one drop – κάθε εμφάνισή τους μετατρέπεται σε μια γιορτή χωρίς τέλος. \n“Θέλω να ‘στε εκεί ό\,τι κι αν συμβεί..”! \n\nΩΡΑ ΠΡΟΣΕΛΕΥΣΗΣ 20:00 \n20:30 on stage  Dynamind big band \n21:30 on stage LOCOMONDO \nΠΡΟΠΩΛΗΣΗ 11€ (EARLY BIRD) / 14€ more.com \nΗΜΕΡΑ  ΤΗΣ ΣΥΝΑΥΛΙΑΣ / ΤΑΜΕΙΟ 17€ \nΠαιδικό 10€ από 8 – 15 ετών \, \nκάτω από 8 ετών δωρεάν \n\n 
URL:https://stagenews.gr/event/locomondo-4/
LOCATION:Πλαζ Αρετσούς\, Καλαμαριά\, Θεσσαλονίκη\, Ελλάδα
CATEGORIES:Συναυλίες Αθήνα
ATTACH;FMTTYPE=image/jpeg:https://stagenews.gr/wp-content/uploads/2024/06/Locomondο.jpg
END:VEVENT
BEGIN:VEVENT
DTSTART;TZID=Europe/Athens:20250601T180000
DTEND;TZID=Europe/Athens:20250601T180000
DTSTAMP:20260422T152331
CREATED:20250416T082859Z
LAST-MODIFIED:20250416T082903Z
UID:10009268-1748800800-1748800800@stagenews.gr
SUMMARY:Ρίζες Φεστ
DESCRIPTION:Της Σαλονίκης μοναχά της πρέπει το καράβι. Γι’ αυτό και το επόμενο ΡΙΖΕΣ ΦΕΣΤ\, θα είναι δίπλα στο κύμα. \nΤην Κυριακή 1η Ιουνίου\, υποδεχόμαστε το καλοκαίρι στην πλαζ Αρετσούς\, ξυπόλητοι\, χορεύοντας στην άμμο. \nΘα πάμε γιαλό-γιαλό με τις Μπαγιανλάρ από τα παράλια της Μικράς Ασίας και τα καφέ αμάν της Πόλης μέχρι τα νησιά. \nΘα πιάσουμε λίγη στεριά με τα Μουχαμπέτια\, από Θράκη μέχρι Μακεδονία κι από Θεσσαλία μέχρι Χαλκιδική\, που σαν αυτή δεν έχει. \nΜε τις Κανβινήτισσες θα τραγουδήσουμε για τριανταφυλλιές και συμπεθέρες. \nΕ και στο τέλος μάτια μας\, ελπίζουμε να αντέξετε με το γλέντι του Νίκου Οικονομίδη και της Κυριακής Σπανού. \n*επιτρέπονται οι καλοκαιρινοί έρωτες\, απαγορεύονται οι βουτιές στη θάλασσα \n\nΤΙΜΕΣ ΕΙΣΙΤΗΡΙΩΝ \n\n\nEarly Bird : 10€\nΠροπώληση : 12€ \n\n\nΠροπώληση ticketmaster
URL:https://stagenews.gr/event/rizes-fest-2/
LOCATION:Πλαζ Αρετσούς\, Καλαμαριά\, Θεσσαλονίκη\, Ελλάδα
CATEGORIES:Συναυλίες Θεσσαλονίκη
ATTACH;FMTTYPE=image/jpeg:https://stagenews.gr/wp-content/uploads/2025/04/RIZES_THESSALONIKI.jpg
END:VEVENT
END:VCALENDAR