BEGIN:VCALENDAR
VERSION:2.0
PRODID:-//Stage News - ECPv6.15.17//NONSGML v1.0//EN
CALSCALE:GREGORIAN
METHOD:PUBLISH
X-ORIGINAL-URL:https://stagenews.gr
X-WR-CALDESC:Events for Stage News
REFRESH-INTERVAL;VALUE=DURATION:PT1H
X-Robots-Tag:noindex
X-PUBLISHED-TTL:PT1H
BEGIN:VTIMEZONE
TZID:Europe/Athens
BEGIN:DAYLIGHT
TZOFFSETFROM:+0200
TZOFFSETTO:+0300
TZNAME:EEST
DTSTART:20230326T010000
END:DAYLIGHT
BEGIN:STANDARD
TZOFFSETFROM:+0300
TZOFFSETTO:+0200
TZNAME:EET
DTSTART:20231029T010000
END:STANDARD
BEGIN:DAYLIGHT
TZOFFSETFROM:+0200
TZOFFSETTO:+0300
TZNAME:EEST
DTSTART:20240331T010000
END:DAYLIGHT
BEGIN:STANDARD
TZOFFSETFROM:+0300
TZOFFSETTO:+0200
TZNAME:EET
DTSTART:20241027T010000
END:STANDARD
BEGIN:DAYLIGHT
TZOFFSETFROM:+0200
TZOFFSETTO:+0300
TZNAME:EEST
DTSTART:20250330T010000
END:DAYLIGHT
BEGIN:STANDARD
TZOFFSETFROM:+0300
TZOFFSETTO:+0200
TZNAME:EET
DTSTART:20251026T010000
END:STANDARD
BEGIN:DAYLIGHT
TZOFFSETFROM:+0200
TZOFFSETTO:+0300
TZNAME:EEST
DTSTART:20260329T010000
END:DAYLIGHT
BEGIN:STANDARD
TZOFFSETFROM:+0300
TZOFFSETTO:+0200
TZNAME:EET
DTSTART:20261025T010000
END:STANDARD
BEGIN:DAYLIGHT
TZOFFSETFROM:+0200
TZOFFSETTO:+0300
TZNAME:EEST
DTSTART:20270328T010000
END:DAYLIGHT
BEGIN:STANDARD
TZOFFSETFROM:+0300
TZOFFSETTO:+0200
TZNAME:EET
DTSTART:20271031T010000
END:STANDARD
END:VTIMEZONE
BEGIN:VEVENT
DTSTART;TZID=Europe/Athens:20260110T160000
DTEND;TZID=Europe/Athens:20260110T160000
DTSTAMP:20260423T224040
CREATED:20251019T094449Z
LAST-MODIFIED:20251019T094449Z
UID:10010442-1768060800-1768060800@stagenews.gr
SUMMARY:Στρουμφάκια: Η Πράσινη Αποστολή | ΑΓΡΙΝΙΟ
DESCRIPTION:Στρουμφάκια: Η Πράσινη Αποστολή \nΜια διαδραστική παιδική περιπέτεια που θα μείνει…Στρουμφοαξέχαστη! \nΤα αγαπημένα μας Στρουμφάκια επιστρέφουν με μια ολοκαίνουρια\, γεμάτη φαντασία παράσταση για όλη την οικογένεια! Τραγούδια\, χορός\, γέλιο\, μυστήριο\, ξεκαρδιστικές ανατροπές και δυνατά οικολογικά μηνύματα συνθέτουν μια θεατρική εμπειρία που δεν μοιάζει με καμιά άλλη! \nΗ “Πράσινη Αποστολή” μόνο εύκολη δεν είναι…. Ο παμπόνηρος Δρακουμέλ έχει εφεύρει μια ύπουλη μηχανή για να μετατρέψει το καταπράσινο Στρουμφοδάσος σε… σκουπιδότοπο! Θέλει έτσι ν’ αναγκάσει τα Στρουμφάκια να βγουν σε αποστολή καθαρισμού του δάσους\, ώστε να τα παγιδέψει! \nΤην ίδια ώρα\, τα Στρουμφάκια μας ετοιμάζουν αμέριμνα το πάρτι γενεθλίων της Στρουμφίτας… Θα καταφέρουν άραγε ο Σπιρτούλης\, ο Μελένιος κι η αγαπημένη Στρουμφοπαρέα να σώσουν το δάσος και το πάρτι; \nΗ Στρούμφια\, παρουσιάστρια και οδηγός αυτής της απίθανης περιπέτειας\, προσκαλεί μικρούς και μεγάλους να συμμετάσχουν ενεργά σε χορευτικά\, γρίφους και φανταστικές στρουμφοδοκιμασίες! Στόχος; Να ματαιώσουν τα πονηρά σχέδια του Δρακουμέλ και να βοηθήσουν να στεφθεί με επιτυχία η Πράσινη Αποστολή! \nΜε αυθεντικά κοστούμια από παραστάσεις του εξωτερικού\, πρωτότυπα τραγούδια\, άφθονη στρουμφομαγεία και ζωντάνια\, τα Στρουμφάκια μάς χαρίζουν μια αξέχαστη θεατρική εμπειρία που συνδυάζει τη διασκέδαση με σπουδαία μηνύματα για τη φιλία\, τη συνεργασία και την προστασία της φύσης. \nΗ “Πράσινη Αποστολή” είναι σε περιοδεία – κι είστε όλοι καλεσμένοι! 💙 \nΣενάριο: Παναγιώτης Δέμος \nΣκηνοθεσία: Δέσποινα Γιαννάτου\, Παναγιώτης Δέμος \nΣκηνικά: Γιάννης Αρτόπουλος \nΚοστούμια: Λάζαρος Δανεσσής \nΜουσική επιμέλεια: Νίκη Γρανά \nVideo: Βασίλης Ζερβός \nΣτον ρόλο της Στρούμφιας: Στέλλα Παπαδοπούλου\, Εβίτα Αγαΐτση \nΤα Στρουμφάκια ενσαρκώνουν (αλφαβητικά): Γιάννης Αρτόπουλος\, Θωμάς Καμπέρης\, Ειρήνη Καφρίτσα\, Ευαγγελία Γκουντιού\, Σπυριδούλα Κώστα \nΗχοληψία: Άλκηστις Σιούφα \nΦροντιστής: Αντώνης Κουτσογιαννόπουλος \nΠροπώληση more.com
URL:https://stagenews.gr/event/stroumfakia-i-prasini-apostoli-agrinio-2/
LOCATION:Παπαστράτειο Μέγαρο\, Δεληγιώργη\, Αγρίνιο\, Ελλάδα
CATEGORIES:Παραστάσεις Υπόλοιπη Ελλάδα
ATTACH;FMTTYPE=image/jpeg:https://stagenews.gr/wp-content/uploads/2025/10/stroummfakia.jpg
END:VEVENT
BEGIN:VEVENT
DTSTART;TZID=Europe/Athens:20260110T160000
DTEND;TZID=Europe/Athens:20260110T160000
DTSTAMP:20260423T224040
CREATED:20251019T094435Z
LAST-MODIFIED:20251019T094437Z
UID:10010441-1768060800-1768060800@stagenews.gr
SUMMARY:Στρουμφάκια: Η Πράσινη Αποστολή | ΑΓΡΙΝΙΟ
DESCRIPTION:Στρουμφάκια: Η Πράσινη Αποστολή \nΜια διαδραστική παιδική περιπέτεια που θα μείνει…Στρουμφοαξέχαστη! \nΤα αγαπημένα μας Στρουμφάκια επιστρέφουν με μια ολοκαίνουρια\, γεμάτη φαντασία παράσταση για όλη την οικογένεια! Τραγούδια\, χορός\, γέλιο\, μυστήριο\, ξεκαρδιστικές ανατροπές και δυνατά οικολογικά μηνύματα συνθέτουν μια θεατρική εμπειρία που δεν μοιάζει με καμιά άλλη! \nΗ “Πράσινη Αποστολή” μόνο εύκολη δεν είναι…. Ο παμπόνηρος Δρακουμέλ έχει εφεύρει μια ύπουλη μηχανή για να μετατρέψει το καταπράσινο Στρουμφοδάσος σε… σκουπιδότοπο! Θέλει έτσι ν’ αναγκάσει τα Στρουμφάκια να βγουν σε αποστολή καθαρισμού του δάσους\, ώστε να τα παγιδέψει! \nΤην ίδια ώρα\, τα Στρουμφάκια μας ετοιμάζουν αμέριμνα το πάρτι γενεθλίων της Στρουμφίτας… Θα καταφέρουν άραγε ο Σπιρτούλης\, ο Μελένιος κι η αγαπημένη Στρουμφοπαρέα να σώσουν το δάσος και το πάρτι; \nΗ Στρούμφια\, παρουσιάστρια και οδηγός αυτής της απίθανης περιπέτειας\, προσκαλεί μικρούς και μεγάλους να συμμετάσχουν ενεργά σε χορευτικά\, γρίφους και φανταστικές στρουμφοδοκιμασίες! Στόχος; Να ματαιώσουν τα πονηρά σχέδια του Δρακουμέλ και να βοηθήσουν να στεφθεί με επιτυχία η Πράσινη Αποστολή! \nΜε αυθεντικά κοστούμια από παραστάσεις του εξωτερικού\, πρωτότυπα τραγούδια\, άφθονη στρουμφομαγεία και ζωντάνια\, τα Στρουμφάκια μάς χαρίζουν μια αξέχαστη θεατρική εμπειρία που συνδυάζει τη διασκέδαση με σπουδαία μηνύματα για τη φιλία\, τη συνεργασία και την προστασία της φύσης. \nΗ “Πράσινη Αποστολή” είναι σε περιοδεία – κι είστε όλοι καλεσμένοι! 💙 \nΣενάριο: Παναγιώτης Δέμος \nΣκηνοθεσία: Δέσποινα Γιαννάτου\, Παναγιώτης Δέμος \nΣκηνικά: Γιάννης Αρτόπουλος \nΚοστούμια: Λάζαρος Δανεσσής \nΜουσική επιμέλεια: Νίκη Γρανά \nVideo: Βασίλης Ζερβός \nΣτον ρόλο της Στρούμφιας: Στέλλα Παπαδοπούλου\, Εβίτα Αγαΐτση \nΤα Στρουμφάκια ενσαρκώνουν (αλφαβητικά): Γιάννης Αρτόπουλος\, Θωμάς Καμπέρης\, Ειρήνη Καφρίτσα\, Ευαγγελία Γκουντιού\, Σπυριδούλα Κώστα \nΗχοληψία: Άλκηστις Σιούφα \nΦροντιστής: Αντώνης Κουτσογιαννόπουλος \nΠροπώληση more.com
URL:https://stagenews.gr/event/stroumfakia-i-prasini-apostoli-agrinio/
LOCATION:Παπαστράτειο Μέγαρο\, Δεληγιώργη\, Αγρίνιο\, Ελλάδα
CATEGORIES:Παραστάσεις Υπόλοιπη Ελλάδα
ATTACH;FMTTYPE=image/jpeg:https://stagenews.gr/wp-content/uploads/2025/10/stroummfakia.jpg
END:VEVENT
BEGIN:VEVENT
DTSTART;TZID=Europe/Athens:20241130T210000
DTEND;TZID=Europe/Athens:20241130T210000
DTSTAMP:20260423T224040
CREATED:20240824T210000Z
LAST-MODIFIED:20241024T071300Z
UID:10001675-1733000400-1733000400@stagenews.gr
SUMMARY:δε SALTARISMED! Με Την Χαρά Τσιώλη | ΑΓΡΙΝΙΟ
DESCRIPTION:Βαρέθηκες τη μετριότητα; Θέλεις επιτέλους να ξεχωρίσεις από το πλήθος; Μάθε πώς να πετυχαίνεις αποτυγχάνοντας! \nΓίνε αποτυχημένος! Γίνε ο μεγιστάνας της αποτυχίας. \nΓίνε αποτυχημένος με Α κεφαλαίο! \nΕίσαι σαλταρισμένος; Αποτυχημένος; Κακόκεφος; Μίζερος; Απένταρος; Είσαι βουτηγμένος στη μετριότητα και δεν έχεις καταφέρει ως τώρα στη ζωή σου να ξεχωρίσεις και να διακριθείς; Μην ανησυχείς! Η διάσημη influranger\, Χαρά Τσιώλη\, φέρνει για πρώτη φορά στην Ελλάδα τη νούμερο 1 μέθοδο αυτοβελτίωσης “δε Saltarismed” για δύο απολαυστικές βραδιές γέλιου στο Θέατρο CORONET. \nΠρόκειται για μια επαναστατική μέθοδο που απευθύνεται μόνο σε σαλταρισμένους και θα σε βοηθήσει να διαπρέψεις και να διακριθείς στον τομέα σου! \nΣταμάτα να είσαι ένας απλός αποτυχημένος και γίνε  Αποτυχημένος με Α κεφαλαίο! \nΓίνε ο πιο Μίζερος\, ο πιο Σαλταρισμένος\, ο πιο Κακόκεφος κι ο πιο Απένταρος άνθρωπος που γνωρίζεις! \nΗ μέθοδος “Δε Saltarismed” υπόσχεται 100% αποτυχία! Μην χάνεις άλλο χρόνο. \nΚλείσε τώρα τη θέση σου και έλα να αποτύχουμε μαζί! \nΒιογραφικό: \nΗ Χαρά Τσιώλη\, ηθοποιός\, life coach και tik toker\, δημιούργησε την πρώτη μέθοδο αυτοβελτίωσης παγκοσμίως που σε βοηθάει να αυτοβελτιωθείς γελώντας! Συνδυάζοντας την κωμωδία με το life coaching\, οδηγεί τους θεατές στην απενοχοποίηση όλων αυτών των «πρέπει» που τους πιέζουν να πετύχουν σε όλους τους τομείς της ζωής τους. Σατιρίζοντας όλα τα κακώς κείμενα της εποχής και τα προβλήματα του σύγχρονου ανθρώπου\, φιλοδοξεί να ψυχαγωγήσει και να κάνει τους ανθρώπους να διακρίνουν αυτά που πραγματικά έχουν σημασία στη ζωή. \n\nΠροπώληση more.com
URL:https://stagenews.gr/event/de-saltarismed-me-tin-chara-tsioli-agrinio/
LOCATION:Παπαστράτειο Μέγαρο\, Δεληγιώργη\, Αγρίνιο\, Ελλάδα
CATEGORIES:Παραστάσεις Υπόλοιπη Ελλάδα
ATTACH;FMTTYPE=image/jpeg:https://stagenews.gr/wp-content/uploads/2024/10/desaltarismed.jpg
END:VEVENT
END:VCALENDAR