BEGIN:VCALENDAR
VERSION:2.0
PRODID:-//Stage News - ECPv6.15.17//NONSGML v1.0//EN
CALSCALE:GREGORIAN
METHOD:PUBLISH
X-WR-CALNAME:Stage News
X-ORIGINAL-URL:https://stagenews.gr
X-WR-CALDESC:Events for Stage News
REFRESH-INTERVAL;VALUE=DURATION:PT1H
X-Robots-Tag:noindex
X-PUBLISHED-TTL:PT1H
BEGIN:VTIMEZONE
TZID:Europe/Athens
BEGIN:DAYLIGHT
TZOFFSETFROM:+0200
TZOFFSETTO:+0300
TZNAME:EEST
DTSTART:20240331T010000
END:DAYLIGHT
BEGIN:STANDARD
TZOFFSETFROM:+0300
TZOFFSETTO:+0200
TZNAME:EET
DTSTART:20241027T010000
END:STANDARD
BEGIN:DAYLIGHT
TZOFFSETFROM:+0200
TZOFFSETTO:+0300
TZNAME:EEST
DTSTART:20250330T010000
END:DAYLIGHT
BEGIN:STANDARD
TZOFFSETFROM:+0300
TZOFFSETTO:+0200
TZNAME:EET
DTSTART:20251026T010000
END:STANDARD
BEGIN:DAYLIGHT
TZOFFSETFROM:+0200
TZOFFSETTO:+0300
TZNAME:EEST
DTSTART:20260329T010000
END:DAYLIGHT
BEGIN:STANDARD
TZOFFSETFROM:+0300
TZOFFSETTO:+0200
TZNAME:EET
DTSTART:20261025T010000
END:STANDARD
END:VTIMEZONE
BEGIN:VEVENT
DTSTART;TZID=Europe/Athens:20250810T200000
DTEND;TZID=Europe/Athens:20250810T200000
DTSTAMP:20260421T124736
CREATED:20250617T072527Z
LAST-MODIFIED:20250617T072552Z
UID:10009999-1754856000-1754856000@stagenews.gr
SUMMARY:3o Thasos Beer Food Music Festival: Bloody Hawk | ΘΑΣΟΣ
DESCRIPTION:Ο Bloody Hawk γεννήθηκε στη Ξάνθη και ξεκίνησε την καριέρα του το 2012 στην ηλικία των 16 ετών. Αποτελεί μία από αυτές τις περιπτώσεις καλλιτεχνών που ωριμάζουν στον χρόνο\, ακμάζουν\, μεγαλώνουν σε δημοτικότητα και καλλιτεχνικό εκτόπισμα\, χωρίς όμως να χάσουν την επαφή με την πρώτη ύλη\, πάνω στην οποία σμιλέυτηκαν τα πρώτα τους βήματα. \nΛάτρης της παλιάς ραπ σχολής\, με αέρα φρεσκάδας σε κάθε μουσική του απόπειρα\, πάντα καινοτόμος και εργατικός όσο λίγοι\, παρά τα όσα έζησε και πέτυχε τα τελευταία χρόνια\, παρέμεινε το “παιδί της διπλανής πόρτας” που αγάπησαν όσοι τον παρακολουθούν από παλιά. H λυρικότητα\, ο ρεαλίσμος\, το πάθος και η ενδυνάμωση είναι μερικά από τα κύρια στοιχεία που χαρακτηρίζουν τα τραγούδια και την ταυτότητα του\, κάτι το οποίο τον κάνει πολύ δημοφιλή και στις νεότερες γενιές. \nΜε 5 πλήρεις δισκογραφικές δουλειές\, η μία καλύτερη από την άλλη\, σαρωτικά sold out shows σε στάδια και θέατρα\, σε Ελλάδα και Κύπρο\, αλλεπάλληλες βραβεύσεις και πολυάριθμες δράσεις κοινωνικής ευθύνης\, ο Bloody Hawk έχει καταφέρει να αναδειχθεί σε έναν από τους κορυφαίους του ύφους που εκπροσωπεί\, αλλά και έναν από τους μεγαλύτερους σε δημοτικότητα και κοινή αποδοχή Έλληνες καλλιτέχνες\, ανεξαρτήτως σκηνής και μουσικού είδους\, πάρα το νεαρό της ηλικίας του. \n\nΧΩΡΟΣ ΔΙΕΞΑΓΩΓΗΣ\nNATURA BEACH BAR\nΣκάλα\, Όρμος Πρίνου – Θάσος\,\nΛιμένας Θάσου 640 04\n(χάρτης) \nΗΜΕΡΟΜΗΝΙΑ ΕΚΔΗΛΩΣΗΣ\nΚυριακή 10 Αυγούστου 2025 \nΩΡΑ ΠΡΟΣΕΛΕΥΣΗΣ\n20:00 \nΤΙΜΕΣ ΕΙΣΙΤΗΡΙΩΝ\nEarly bird 15€\nΠροπώληση 16€\nΤαμείο 18€ \nΠΡΟΠΩΛΗΣΗ\nTICKET SERVICES\n– online: www.ticketservices.gr\n– τηλεφωνικά: 2107234567 \nΟι τηλεφωνικές και οι online αγορές περιλαμβάνουν χρέωση υπηρεσίας 5% επί της τιμής του εισιτηρίου \nE-TICKET\nΤα εισιτήρια που αγοράζονται ηλεκτρονικά λαμβάνονται σε μορφή PDF και εκτυπώνονται ή αποθηκεύονται σε κινητό τηλέφωνο. \nΦΥΣΙΚΑ ΣΗΜΕΙΑ ΠΡΟΠΩΛΗΣΗΣ\n \nΣΚΑΛΑ ΠΡΙΝΟΥ\nNatura Beach Bar \nΛΙΜΕΝΑΡΙΑ\nΒιβλιοπωλείο Δαίμων \nΛΙΜΕΝΑΣ\nΒιβλιοπωλείο Συκούδη – Λαγουμτζή \nΣΚΑΛΑ ΠΟΤΑΜΙΑΣ\nopen bar \nΣΚΑΛΑ ΚΑΛΛΙΡΑΧΗΣ\nΙωπα Παραδοσιακά προϊόντα \nΧΡΥΣΟΥΠΟΛΗ\n115 first floor bar \nΚΑΒΑΛΑ\nAlex piercer tattoo \nΞΑΝΘΗ\nstudio Italos \nΚΟΜΟΤΗΝΗ\nΔημοκρίτειο Βιβλιοπωλείο
URL:https://stagenews.gr/event/3o-thasos-beer-food-music-festival-bloody-hawk-thasos/
LOCATION:Natura Beach Bar\, Σκάλα Πρίνου\, Θάσος\, Greece
CATEGORIES:Συναυλίες Υπόλοιπη Ελλάδα
ATTACH;FMTTYPE=image/jpeg:https://stagenews.gr/wp-content/uploads/2025/06/bloody-hawk-10-8-2025.jpg
END:VEVENT
BEGIN:VEVENT
DTSTART;TZID=Europe/Athens:20250809T200000
DTEND;TZID=Europe/Athens:20250809T200000
DTSTAMP:20260421T124736
CREATED:20250617T072800Z
LAST-MODIFIED:20250617T072815Z
UID:10010000-1754769600-1754769600@stagenews.gr
SUMMARY:3o Thasos Beer Food Music Festival: Klavdia | ΘΑΣΟΣ
DESCRIPTION:3o THASOS BEER FOOD MUSIC FESTIVAL 2025 \nKLAVDIA \nΣάββατο 9 Αυγούστου 2025\nΏρα προσέλευσης 20:00\n \nNatura Beach Bar – Θάσος \nΗ Klavdia έρχεται να συνεπάρει μουσικά το νησί της Θάσου μέσα από μια μοναδική συναυλία στο Natura beach bar στην Σκάλα Πρίνου\, το Σάββατο 9 Αυγούστου. \nΗ ερμηνεύτρια που πριν από λίγο καιρό γοήτευσε μουσικά την Ευρώπη και κατέκτησε την 6η θέση στη φετινή Eurovision\, την υψηλότερη της χώρας μας εδώ και 12 χρόνια\, θα χαρίσει ένα «μαγικό» βράδυ\, στα πλαίσια του 3ου THASOS beer food music festival. Με τη σαγηνευτική φωνή της\, τις δισκογραφικές επιτυχίες που της έχουν γράψει οι Arcade και πολλά αγαπημένα τραγούδια\, η Klavdia υπόσχεται να μας ταξιδέψει στη μουσική και στο συναίσθημα. \n\nΧΩΡΟΣ ΔΙΕΞΑΓΩΓΗΣ\nNATURA BEACH BAR\nΣκάλα\, Όρμος Πρίνου – Θάσος\,\nΛιμένας Θάσου 640 04\n(χάρτης) \nΗΜΕΡΟΜΗΝΙΑ ΕΚΔΗΛΩΣΗΣ\nΣάββατο 9 Αυγούστου 2025 \nΩΡΑ ΠΡΟΣΕΛΕΥΣΗΣ\n20:00 \nΤΙΜΕΣ ΕΙΣΙΤΗΡΙΩΝ\nEarly bird 17€\nΠροπώληση 18€\nΤαμείο 20€ \nΠΡΟΠΩΛΗΣΗ\nTICKET SERVICES\n– online: www.ticketservices.gr\n– τηλεφωνικά: 2107234567 \nΟι τηλεφωνικές και οι online αγορές περιλαμβάνουν χρέωση υπηρεσίας 5% επί της τιμής του εισιτηρίου \nE-TICKET\nΤα εισιτήρια που αγοράζονται ηλεκτρονικά λαμβάνονται σε μορφή PDF και εκτυπώνονται ή αποθηκεύονται σε κινητό τηλέφωνο. \nΦΥΣΙΚΑ ΣΗΜΕΙΑ ΠΡΟΠΩΛΗΣΗΣ\n \nΣΚΑΛΑ ΠΡΙΝΟΥ\nNatura Beach Bar \nΛΙΜΕΝΑΡΙΑ\nΒιβλιοπωλείο Δαίμων \nΛΙΜΕΝΑΣ\nΒιβλιοπωλείο Συκούδη – Λαγουμτζή \nΣΚΑΛΑ ΠΟΤΑΜΙΑΣ\nopen bar \nΣΚΑΛΑ ΚΑΛΛΙΡΑΧΗΣ\nΙωπα Παραδοσιακά προϊόντα \nΧΡΥΣΟΥΠΟΛΗ\n115 first floor bar \nΚΑΒΑΛΑ\nAlex piercer tattoo \nΞΑΝΘΗ\nstudio Italos \nΚΟΜΟΤΗΝΗ\nΔημοκρίτειο Βιβλιοπωλείο
URL:https://stagenews.gr/event/3o-thasos-beer-food-music-festival-klavdia-thasos/
LOCATION:Natura Beach Bar\, Σκάλα Πρίνου\, Θάσος\, Greece
CATEGORIES:Συναυλίες Υπόλοιπη Ελλάδα
ATTACH;FMTTYPE=image/jpeg:https://stagenews.gr/wp-content/uploads/2025/06/klavdia-1.jpg
END:VEVENT
BEGIN:VEVENT
DTSTART;TZID=Europe/Athens:20250808T200000
DTEND;TZID=Europe/Athens:20250808T200000
DTSTAMP:20260421T124736
CREATED:20250617T073035Z
LAST-MODIFIED:20250617T073042Z
UID:10010001-1754683200-1754683200@stagenews.gr
SUMMARY:3o Thasos Beer Food Music Festival: Ελεωνόρα Ζουγανέλη | ΘΑΣΟΣ
DESCRIPTION:3o THASOS BEER FOOD MUSIC FESTIVAL 2025 \nΕλεωνόρα Ζουγανέλη\n“αλλά-ΖΩ” \n Καλοκαίρι 2025  \nΠαρασκευή 8 Αυγούστου 2025\nΏρα προσέλευσης 20:00\n \nNatura Beach Bar – Θάσος \nΗ Ελεωνόρα Ζουγανέλη με ανεβασμένη διάθεση\, νέο ήχο pop electronica\, παραμένει πιστή στην ροκιά\, αλλά και στους λαϊκούς δρόμους που σταθερά περπατάει και με ανεβασμένη\, ξέγνοιαστη διάθεση ξεκινά ένα μεγάλο συναυλιακό καλοκαίρι από τη Θεσσαλονίκη και το Θέατρο Δάσους την Τετάρτη 4 Ιουνίου. \nΤο πάρτυ με την Ελεονώρα συνεχίζεται στο νησί της Θάσου την Παρασκευή 8 Αυγούστου στο THASOS beer food music festival\, στο Natura beach bar\,στην Σκάλα Πρίνου. \nΤολμηρή\, δοκιμάζει και δοκιμάζεται στην τέχνη της\, χωρίς να φοβάται τις αλλαγές\, αντιθέτως τις αναζητά και υπόσχεται να μας παρασύρει σε μια μοναδική εκρηκτική μουσική βραδιά γεμάτη τραγούδια που ερμηνεύει με πάθος. \nΑλλά-ΖΩ” λέει η Ελεωνόρα Ζουγανέλη! \nΓιατί το “αλλάζω” εμπεριέχει το “ζω”\, εμπεριέχει τη μαγεία της ζωής μέσα από τις εναλλαγές της. \n“Μια μουσική παράσταση για τις στιγμές που αλλάζουν τα πάντα.\nΓια τις στιγμές που μας μεταμορφώνουν.\nΜε την παράσταση αυτή θέλω να τιμήσω όλες αυτές τις στιγμές\nπου με έκαναν να επαναπροσδιορίσω τον εαυτό μου.\nΚαι να συνεχίζω να Ζώ.\nΓιατί το Αλλά-Ζώ\, εμπεριέχει το Ζώ.\nΜέσα από τα τραγούδια μου.\nΤα παλιά μου και τα καινούργια μου.\nΜε αλλαγμένους ανθρώπους από το παρελθόν και με πολλούς νέους\,\nσυνεργάτες και συνοδοιπόρους.\nΣας προσκαλώ να συναντηθούμε\, να γιορτάσουμε\,\nνα δούμε πόσο αλλάξαμε από την τελευταία φορά που ανταμώσαμε.\nΑς τραγουδήσουμε λοιπόν τις ιστορίες μας από την αρχή.\nΜε προσμονή και αληθινή χαρά\, σας περιμένω να γίνετε\nκομμάτι αυτής της μουσικής εμπειρίας.” \nΕλεωνόρα \nΜε νέα μπάντα υπό την καθοδήγηση του μουσικού Ευριπίδη Ζεμενίδη\, τον οποίο ξανασυναντά μετά από δέκα χρόνια\, αλλά και νέα τραγούδια\, η Ελεονώρα\, κάνει πάρτυ παρέα με την διασκέδαση και την επιτυχία. \nΤο “Μόνη Κομπλέ” (μουσική Gautier Βελισσάρης\, στίχοι Sunny Μπαλτζή)\, έκανε μεγάλη αίσθηση πριν κυκλοφορήσει\, ενώ το “Γυαλί στο Φως” (μουσική Gautier Βελισσάρης\, στίχοι Γεράσιμος Ευαγγελάτος) αγαπήθηκε και συνεχίζει να αγαπιέται από την πρώτη του ζωντανή παρουσίαση στην Θεσσαλονίκη. \nΤα νέα τραγούδια της Ελεωνόρας Ζουγανέλη κυκλοφορούν σε όλες τις streaming πλατφόρμες από την Panik Records. \n\nΣυντελεστές \nΜουσικοί\nΕυριπίδης Ζεμενίδης: Ενορχηστρώσεις & κιθάρες\nΝίκος Γύρας: Μπουζούκι\, λαούτο\, ακουστική κιθάρα\nΑλέξανδρος Δημόπουλος: Πλήκτρα\nΒαχάν Γκαλστιάν: Πνευστά\nΓιώργος Πουλιάσης: Τύμπανα\nΧάρης Χαραλάμπους: Μπάσο \nΦωνητικά – χορός: Ιωάννα Μόρφη\, Μαργαρίτα Παπαδημητρίου\nΗχοληψία: Γιάννης Λαμπρόπουλος & Νίκος Παππάς\nΣχεδιασμός φώτων: Μαρία Βενετάκη\nΕπιμέλεια προγράμματος: Λήδα Ρουμάνη & Ελεωνόρα Ζουγανέλη\nΚαλλιτεχνική επιμέλεια: Ελεωνόρα Ζουγανέλη\nΟργάνωση παραγωγής: Solar Productions \n\nΧΩΡΟΣ ΔΙΕΞΑΓΩΓΗΣ\nNATURA BEACH BAR\nΣκάλα\, Όρμος Πρίνου – Θάσος\,\nΛιμένας Θάσου 640 04\n(χάρτης) \nΗΜΕΡΟΜΗΝΙΑ ΕΚΔΗΛΩΣΗΣ\nΠαρασκευή 8 Αυγούστου 2025 \nΩΡΑ ΠΡΟΣΕΛΕΥΣΗΣ\n20:00 \nΤΙΜΕΣ ΕΙΣΙΤΗΡΙΩΝ\nEarly bird 17€\nΠροπώληση 18€\nΤαμείο 20€ \nΠΡΟΠΩΛΗΣΗ\nTICKET SERVICES\n– online: www.ticketservices.gr\n– τηλεφωνικά: 2107234567 \nΟι τηλεφωνικές και οι online αγορές περιλαμβάνουν χρέωση υπηρεσίας 5% επί της τιμής του εισιτηρίου \nE-TICKET\nΤα εισιτήρια που αγοράζονται ηλεκτρονικά λαμβάνονται σε μορφή PDF και εκτυπώνονται ή αποθηκεύονται σε κινητό τηλέφωνο. \nΦΥΣΙΚΑ ΣΗΜΕΙΑ ΠΡΟΠΩΛΗΣΗΣ\nΣΚΑΛΑ ΠΡΙΝΟΥ\nNatura Beach Bar \nΛΙΜΕΝΑΡΙΑ\nΒιβλιοπωλείο Δαίμων \nΛΙΜΕΝΑΣ\nΒιβλιοπωλείο Συκούδη – Λαγουμτζή \nΣΚΑΛΑ ΠΟΤΑΜΙΑΣ\nopen bar \nΣΚΑΛΑ ΚΑΛΛΙΡΑΧΗΣ\nΙωπα Παραδοσιακά προϊόντα \nΧΡΥΣΟΥΠΟΛΗ\n115 first floor bar \nΚΑΒΑΛΑ\nAlex piercer tattoo \nΞΑΝΘΗ\nstudio Italos \nΚΟΜΟΤΗΝΗ\nΔημοκρίτειο Βιβλιοπωλείο
URL:https://stagenews.gr/event/3o-thasos-beer-food-music-festival-eleonora-zouganeli-thasos/
LOCATION:Natura Beach Bar\, Σκάλα Πρίνου\, Θάσος\, Greece
CATEGORIES:Συναυλίες Υπόλοιπη Ελλάδα
ATTACH;FMTTYPE=image/jpeg:https://stagenews.gr/wp-content/uploads/2025/06/Elewnora-8-8-2025.jpg
END:VEVENT
BEGIN:VEVENT
DTSTART;TZID=Europe/Athens:20250726T213000
DTEND;TZID=Europe/Athens:20250726T213000
DTSTAMP:20260421T124736
CREATED:20250619T101234Z
LAST-MODIFIED:20250619T101608Z
UID:10010022-1753565400-1753565400@stagenews.gr
SUMMARY:Ελένη Δήμου | ΘΑΣΟΣ
DESCRIPTION:ΕΛΕΝΗ ΔΗΜΟΥ LIVE \n @ Naturabeachbar  \nΣάββατο 26 Ιουλίου 2025\nώρα προσέλευσης 21:30 \nΑυτό το καλοκαίρι η Ελένη Δήμου θα κάνει βόλτα στην Ελλαδα με το προσωπικό της ρεπερτόριο. Τραγούδια αγαπημένα!! \nΠοπ\, Λαϊκά\, ρέγγε και Δημοτικά! Ένα πέρασμα και στάσεις στα είδη που αγαπάει!\nΚάτω απ’το φως του φεγγαριού! \n\nΧΩΡΟΣ ΔΙΕΞΑΓΩΓΗΣ\nNATURA BEACH BAR\nΣκάλα\, Όρμος Πρίνου – Θάσος\,\nΛιμένας Θάσου 640 04\n(χάρτης) \nΗΜΕΡΟΜΗΝΙΑ ΕΚΔΗΛΩΣΗΣ\nΣάββατο 26 Ιουλίου 2025 \nΩΡΑ ΠΡΟΣΕΛΕΥΣΗΣ\n21:30 \nΩΡΑ ΕΝΑΡΞΗΣ\n22:22 \nΤΙΜΕΣ ΕΙΣΙΤΗΡΙΩΝ\nΠροπώληση 12€\nΤαμείο 15€ \nΔωρεάν είσοδος για παιδιά έως 8 ετών \nΠΡΟΠΩΛΗΣΗ\nTICKET SERVICES\n– online: www.ticketservices.gr
URL:https://stagenews.gr/event/eleni-dimou-thasos/
LOCATION:Natura Beach Bar\, Σκάλα Πρίνου\, Θάσος\, Greece
CATEGORIES:Συναυλίες Υπόλοιπη Ελλάδα
ATTACH;FMTTYPE=image/jpeg:https://stagenews.gr/wp-content/uploads/2025/06/NaturaDimou.jpg
END:VEVENT
BEGIN:VEVENT
DTSTART;TZID=Europe/Athens:20250719T213000
DTEND;TZID=Europe/Athens:20250719T213000
DTSTAMP:20260421T124736
CREATED:20250619T094529Z
LAST-MODIFIED:20250619T094830Z
UID:10010021-1752960600-1752960600@stagenews.gr
SUMMARY:Koza Mostra | ΘΑΣΟΣ
DESCRIPTION:KOZA MOSTRA LIVE \n @ Naturabeachbar  \nΣάββατο 19 Ιουλίου 2025\nώρα προσέλευσης 21:30 \nΟι Koza Mostra\, η μπάντα που συνδυάζει μοναδικά το Rock\, Punk και Ska\, με παραδοσιακούς ήχους από μπουζούκι και βιολί\, μόλις κυκλοφόρησαν τον καινούργιο τους δίσκο με τίτλο “MALAKA”. Ο δίσκος ήδη έχει αγαπηθεί σε Ελλάδα και εξωτερικό που είχε ως αποτέλεσμα την παρουσίαση του σε ένα μικρο τουρ που έγινε τον Δεκεμβριο στην Αγγλία. \nΜε μια δυναμική παρουσία στην εγχώρια και διεθνή μουσική έχουν καταφέρει να κατακτήσουν το κοινό τους με την εκρηκτική τους ενέργεια και τον πρωτοποριακό τους ήχο. Οι εμφανίσεις τους ξεσηκώνουν πάντα ακόμα και το πιο απαιτητικό κοινό ανεξαρτήτως μουσικών ακουσμάτων. Από τα παραδοσιακά τους ριφ μέχρι τις ska και rock ανατροπές\, υπόσχονται ένα μουσικό ταξίδι γεμάτο εκπλήξεις και ένταση. \n\nΧΩΡΟΣ ΔΙΕΞΑΓΩΓΗΣ\nNATURA BEACH BAR\nΣκάλα\, Όρμος Πρίνου – Θάσος\,\nΛιμένας Θάσου 640 04\n(χάρτης) \nΗΜΕΡΟΜΗΝΙΑ ΕΚΔΗΛΩΣΗΣ\nΣάββατο 19 Ιουλίου 2025 \nΩΡΑ ΠΡΟΣΕΛΕΥΣΗΣ\n21:30 \nΩΡΑ ΕΝΑΡΞΗΣ\n22:22 \nΤΙΜΕΣ ΕΙΣΙΤΗΡΙΩΝ\nΠροπώληση 12€\nΤαμείο 15€ \nΔωρεάν είσοδος για παιδιά έως 8 ετών \nΠΡΟΠΩΛΗΣΗ\nTICKET SERVICES\n– online: www.ticketservices.gr \n\n 
URL:https://stagenews.gr/event/koza-mostra-thasos/
LOCATION:Natura Beach Bar\, Σκάλα Πρίνου\, Θάσος\, Greece
CATEGORIES:Συναυλίες Υπόλοιπη Ελλάδα
ATTACH;FMTTYPE=image/jpeg:https://stagenews.gr/wp-content/uploads/2025/06/KozaNostra.jpg
END:VEVENT
BEGIN:VEVENT
DTSTART;TZID=Europe/Athens:20250712T213000
DTEND;TZID=Europe/Athens:20250712T213000
DTSTAMP:20260421T124736
CREATED:20250619T093454Z
LAST-MODIFIED:20250619T093458Z
UID:10010020-1752355800-1752355800@stagenews.gr
SUMMARY:Μπίγαλης - Πωλίνα | ΘΑΣΟΣ
DESCRIPTION:ΜΠΙΓΑΛΗΣ – ΠΩΛΙΝΑ LIVE \n @ Naturabeachbar  \nΣάββατο 12 Ιουλίου 2025\nώρα προσέλευσης 21:30 \nThe 80s90s PARTY is BACK!! \nΚΩΣΤΑΣ ΜΠΙΓΑΛΗΣ – ΠΩΛΙΝΑ \nΟ Βασιλιάς και η Βασίλισσα των 80s & 90s\, ναι αυτοί\, επιστρέφουν\, για μια Παρτάρα πιο ALIVE\nαπό ποτέ και χαρίζουν… αναδρομικά το κέφι που στερηθήκαμε για τόσο καιρό…!! \nΚώστας Μπίγαλης.. Πωλίνα.. \nΤο λατρεμένο ντουέτο…που πρώτοι καθιέρωσαν εδώ και μια δεκαετία την απόλυτη 80s90s αναβίωση\nμε αμέτρητα sold out και ..ιστορικές βραδιές\, έρχονται με φόρα.. \nδιαλύουν κάθε μελαγχολία και μας φτιάχνουν τη διάθεση με λατρεμένα\nα ν ε π α ν ά λ η π τ α τραγούδια και τη μοναδική αλληλεπίδραση τους με το κοινό\,\nπου πάντα στο τέλος δεν τους αφήνει να κατέβουν από τη σκηνή !!!! \nΕτοιμαστείτε.. Ετοιμαστείτε λέμε…..\nγια… «Πάμε για τρέλες στις Σεϊχέλες»\n«Μελισσούλα» «Του Αιγαίου τα Μπλούζ» «Ροζ Μπικίνι»\n«Ρίνα Κατερίνα» «Πους Απς» «Με την πρώτη ματιά» «Μπιρίμπα»\n«Η κόρη του περιπτερά» «Ράδιο αγάπη μου» «Γειτόνισσα»\n«Κυκλοφόρησε» και πολλά μα πολλά άλλα\nγια μια βραδιά που θα αργήσει να ξημερώσει…….. \n\nΧΩΡΟΣ ΔΙΕΞΑΓΩΓΗΣ\nNATURA BEACH BAR\nΣκάλα\, Όρμος Πρίνου – Θάσος\,\nΛιμένας Θάσου 640 04\n(χάρτης) \nΗΜΕΡΟΜΗΝΙΑ ΕΚΔΗΛΩΣΗΣ\nΣάββατο 12 Ιουλίου 2025 \nΩΡΑ ΠΡΟΣΕΛΕΥΣΗΣ\n21:30 \nΩΡΑ ΕΝΑΡΞΗΣ\n22:22 \nΤΙΜΕΣ ΕΙΣΙΤΗΡΙΩΝ\nΠροπώληση 12€\nΤαμείο 15€ \nΔωρεάν είσοδος για παιδιά έως 8 ετών \nΠΡΟΠΩΛΗΣΗ\nTICKET SERVICES\n– online: www.ticketservices.gr \n\n 
URL:https://stagenews.gr/event/bigalis-polina-thasos/
LOCATION:Natura Beach Bar\, Σκάλα Πρίνου\, Θάσος\, Greece
CATEGORIES:Συναυλίες Υπόλοιπη Ελλάδα
ATTACH;FMTTYPE=image/jpeg:https://stagenews.gr/wp-content/uploads/2025/06/NaturaBigalis.jpg
END:VEVENT
BEGIN:VEVENT
DTSTART;TZID=Europe/Athens:20250705T213000
DTEND;TZID=Europe/Athens:20250705T213000
DTSTAMP:20260421T124736
CREATED:20250619T093204Z
LAST-MODIFIED:20250619T093526Z
UID:10010019-1751751000-1751751000@stagenews.gr
SUMMARY:Γιαγκίνιδες | ΘΑΣΟΣ
DESCRIPTION:ΓΙΑΓΚΙΝΙΔΕΣ Live \n @ Naturabeachbar  \nΣάββατο 5 Ιουλίου 2025\nώρα προσέλευσης 21:30 \nΟι Γιαγκίνηδες\, το ρεμπέτικο ντουέτο των Παναγιώτη Σικλαφίδη και Σπύρου Ζήση\, ξεκίνησαν το μουσικό τους ταξίδι το 2018 στους δρόμους της Θεσσαλονίκης\, κερδίζοντας γρήγορα το κοινό με την αυθεντικότητα και το πάθος τους. Το όνομά τους προέρχεται από τη λέξη “γιαγκίνι”\, που στο ρεμπέτικο σημαίνει σφοδρό ερωτικό πάθος. \nΤο 2024 κυκλοφόρησαν το πρώτο τους άλμπουμ\, «Άνθρωποι του δρόμου»\, με τραγούδια εμπνευσμένα από καθημερινές ιστορίες και εμπειρίες. Οι εμφανίσεις τους σε μουσικές σκηνές ανά την Ελλάδα επιβεβαιώνουν την αγάπη του κοινού για το ρεμπέτικο και την ικανότητά τους να το ζωντανεύουν με φρέσκια ματιά. \n\nΧΩΡΟΣ ΔΙΕΞΑΓΩΓΗΣ\nNATURA BEACH BAR\nΣκάλα\, Όρμος Πρίνου – Θάσος\,\nΛιμένας Θάσου 640 04\n(χάρτης) \nΗΜΕΡΟΜΗΝΙΑ ΕΚΔΗΛΩΣΗΣ\nΣάββατο 5 Ιουλίου 2025 \nΩΡΑ ΠΡΟΣΕΛΕΥΣΗΣ\n21:30 \nΩΡΑ ΕΝΑΡΞΗΣ\n22:22 \nΤΙΜΕΣ ΕΙΣΙΤΗΡΙΩΝ\nΠροπώληση 10€\nΤαμείο 12€ \nΔωρεάν είσοδος για παιδιά έως 8 ετών \nΠΡΟΠΩΛΗΣΗ\nTICKET SERVICES\n– online: www.ticketservices.gr \n\n 
URL:https://stagenews.gr/event/giagkinides-thasos/
LOCATION:Natura Beach Bar\, Σκάλα Πρίνου\, Θάσος\, Greece
CATEGORIES:Συναυλίες Υπόλοιπη Ελλάδα
ATTACH;FMTTYPE=image/jpeg:https://stagenews.gr/wp-content/uploads/2025/06/NaturaYaginides.jpg
END:VEVENT
END:VCALENDAR