BEGIN:VCALENDAR
VERSION:2.0
PRODID:-//Stage News - ECPv6.15.17//NONSGML v1.0//EN
CALSCALE:GREGORIAN
METHOD:PUBLISH
X-ORIGINAL-URL:https://stagenews.gr
X-WR-CALDESC:Events for Stage News
REFRESH-INTERVAL;VALUE=DURATION:PT1H
X-Robots-Tag:noindex
X-PUBLISHED-TTL:PT1H
BEGIN:VTIMEZONE
TZID:Europe/Athens
BEGIN:DAYLIGHT
TZOFFSETFROM:+0200
TZOFFSETTO:+0300
TZNAME:EEST
DTSTART:20230326T010000
END:DAYLIGHT
BEGIN:STANDARD
TZOFFSETFROM:+0300
TZOFFSETTO:+0200
TZNAME:EET
DTSTART:20231029T010000
END:STANDARD
BEGIN:DAYLIGHT
TZOFFSETFROM:+0200
TZOFFSETTO:+0300
TZNAME:EEST
DTSTART:20240331T010000
END:DAYLIGHT
BEGIN:STANDARD
TZOFFSETFROM:+0300
TZOFFSETTO:+0200
TZNAME:EET
DTSTART:20241027T010000
END:STANDARD
BEGIN:DAYLIGHT
TZOFFSETFROM:+0200
TZOFFSETTO:+0300
TZNAME:EEST
DTSTART:20250330T010000
END:DAYLIGHT
BEGIN:STANDARD
TZOFFSETFROM:+0300
TZOFFSETTO:+0200
TZNAME:EET
DTSTART:20251026T010000
END:STANDARD
END:VTIMEZONE
BEGIN:VEVENT
DTSTART;TZID=Europe/Athens:20241213T210000
DTEND;TZID=Europe/Athens:20241213T210000
DTSTAMP:20260419T003252
CREATED:20241211T092132Z
LAST-MODIFIED:20241211T092135Z
UID:10007006-1734123600-1734123600@stagenews.gr
SUMMARY:Φοίβος Δεληβοριάς
DESCRIPTION:ΦΟΙΒΟΣ ΔΕΛΗΒΟΡΙΑΣ «Χάρτης»\nΜΥΛΟΣ CLUB ΘΕΣΣΑΛΟΝΙΚΗ  – ΠΑΡΑΣΚΕΥΗ 13.12.2024 \nΟ Φοίβος Δεληβοριάς αυτό το χειμώνα ξεδιπλώνει μπροστά του τον χάρτη της Ελλάδας\, μαρκάρει πόλεις και ξεκινάει το ταξίδι της νέας του παράστασης\, που φιλοδοξεί να την παρουσιάσει από τη μία άκρη της χώρας έως την άλλη! \nΤην Παρασκευή 13 Δεκεμβρίου \, εμφανίζεται στο club του Μύλου στη Θεσσαλονίκη. \nΟ ίδιος λέει: \n«Φέτος το χειμώνα\, έχω όρεξη για ταξίδια στην Ελλάδα. \nΚαι για μουσική δίπλα στους άλλους. \nΑποφάσισα\, λοιπόν\, να μην παίξω καθόλου σε αθηναϊκή μουσική σκηνή\, αλλά να ανακαλύψω σκηνές σε όλα τα σημεία όπου ανάβει ο ελληνικός χάρτης. \n«Χάρτης» λοιπόν θα λέγεται το χειμερινό μουσικό μου σχέδιο. \nΚαι θέλω σ’αυτό κοντά μου τους δύο μουσικούς που αποτελούν εδώ και 14 χρόνια τους βασικούς συνοδοιπόρους μου στην επικράτεια της μουσικής ανησυχίας:\nΤον Κωστή Χριστοδούλου και τον Σωτήρη Ντούβα. \nΠιάνο-πλήκτρα\, τύμπανα κι εγώ στην κιθάρα. Να χωράμε σε ένα αμάξι\, να τους φέρνω νέα τραγούδια κάθε βδομάδα και να τα δοκιμάζουμε σε διαφορετικά σημεία της χώρας. Να παίζουμε τα παλιά\, πιστοί και άπιστοι\, μπαίνοντας όλο και πιο βαθιά μέσα τους. \nΜαζί μας ο Γιάννης Πετρόλιας\, σπάνιος κι εμπνευσμένος μάστορας του ηχητικού σχεδιασμού. Και ο Δημήτρης Μακρής που θα αποτυπώνει φωτογραφικά και κινηματογραφικά μία-μία τις επισκέψεις μας. \nΠάμε λοιπόν εκεί που πάει ο Χάρτης\, να βρούμε κόσμο ανήσυχο κι ωραίο και να πιάσουμε τη στιγμή με τη μουσική. \nΣτόχος να πάμε παντού και να ανάψουμε τα λαμπιόνια στο χάρτη σε Ελλάδα\, Κύπρο\, φίλες πόλεις του εξωτερικού. Βίρα\, λοιπόν!» \n\nΠαρασκευή 13 Δεκεμβρίου\nΜύλος club Θεσσαλονίκη \nΏρα προσέλευσης: 21.00 | Ώρα έναρξης: 22.00 \nΤιμή εισιτηρίου:\n• Προπώληση ορθίων: 15€  • Ταμείο ορθίων: 18€ \n• Προπώληση καθημένων  : 20€  (με την αγορά του εισιτηρίου σας καλεστε στο 2310510081 για να κάνετε κράτηση τραπεζιού) \n• Ταμείο καθημένων : 23€ \nΣημεία Προπώλησης :\n• more.com • Nova • Public\nΠληροφορίες/Κρατήσεις : 2310510081
URL:https://stagenews.gr/event/foivos-delivorias-4/
LOCATION:ΜΥΛΟΣ CLUB\, Γεωρ. Ανδρέου 56\, Θεσσαλονίκη\, Θεσσαλονίκης\, 546 27
CATEGORIES:Συναυλίες Θεσσαλονίκη
ATTACH;FMTTYPE=image/jpeg:https://stagenews.gr/wp-content/uploads/2024/12/fivos-skg.jpg
END:VEVENT
BEGIN:VEVENT
DTSTART;TZID=Europe/Athens:20241130T213000
DTEND;TZID=Europe/Athens:20241130T213000
DTSTAMP:20260419T003252
CREATED:20241105T074941Z
LAST-MODIFIED:20241105T080027Z
UID:10006107-1733002200-1733002200@stagenews.gr
SUMMARY:Μωρά στη φωτιά
DESCRIPTION:ΣΤΕΛΙΟΣ ΣΑΛΒΑΔΟΡ & \nΜΩΡΑ ΣΤΗ ΦΩΤΙΑ \nLive στη Θεσσαλονίκη \nΣΑΒΒΑΤΟ 30 ΝΟΕΜΒΡΙΟΥ\nΜΥΛΟΣ CLUB \nΟι πόρτες ανοίγουν στις 20.30 | Έναρξη στις 21.30 \nΠροπώληση 10 (limited early birds) & 12€ μέσω δικτύου Viva (more.com | Public | Viva) & hardcopy tickets σε: Nephilim | Ηλιοτρόπιο \nΕπιστρέφουν και μας επιφυλάσσουν μια ακόμη βραδιά από εκείνες που έχουν πάντα ρυθμό\, μελωδίες\, ένταση και πάθος. Ο Στέλιος Σαλβαδόρ και τα «Μωρά στη Φωτιά» ανεβαίνουν στην σκηνή του Μύλος Club με παλιά αγαπημένα και καινούργια τραγούδια\, με φόρα και ενέργεια αστείρευτη\, με αγάπη για την μουσική και τρέλα για το ροκ… το παραδοσιακό\, το ατόφιο\, το ατρόμητο! \nΟ Στέλιος Σαλβαδόρ λέει… \n«Η μουσική είναι ένα ταξίδι μια συνεχής διαδικασία εξέλιξης κι εγώ διανύω την πιο δημιουργική μου περίοδο …με πάρα πολλά καινούργια τραγούδια\, σε αρκετά διαφορετικούς και πολλές φορές πρωτόγνωρα όμορφους μουσικούς δρόμους. Η μουσική ποτέ δεν τελειώνει κι αυτό αποδεικνύεται κι από το γεγονός ότι συνεχίζουμε να δημιουργούμε μουσική για να μοιραστούμε όσα πραγματικά μας ενώνουν.\nΕιδικά το ροκ\, με το οποίο ασχολούμαστε εμείς εδώ στην Ελλάδα\, σημαίνει να δουλεύεις πάρα πολλές ώρες την ημέρα\, να είσαι ταυτόχρονα καταξιωμένος στην εναλλακτική μουσική της χώρας σου εδώ και τριάντα χρόνια και χωρίς καμία υποστήριξη να ψάχνεις να ηχογραφήσεις τα καινούργια σου τραγούδια.\nΜέσα από κάθε δυσκολία πρέπει να επαναπροσδιορίζουμε τον εαυτό μας και να προχωράμε προς το φως και να βλέπουμε κάθε “ταρακούνημα” σαν ευκαιρία για αλλαγές\, που δε θα τολμούσαμε διαφορετικά και αυτό μπορεί να μας οδηγήσει σε κάτι καλύτερο και όχι κάτι χειρότερο. Δεν είμαστε μόνοι μας στα δύσκολα. Έτσι είναι οι περισσότεροι.»
URL:https://stagenews.gr/event/mora-sti-fotia-2/
LOCATION:ΜΥΛΟΣ CLUB\, Γεωρ. Ανδρέου 56\, Θεσσαλονίκη\, Θεσσαλονίκης\, 546 27
CATEGORIES:Συναυλίες Θεσσαλονίκη
ATTACH;FMTTYPE=image/jpeg:https://stagenews.gr/wp-content/uploads/2024/11/morastifotia.jpg
END:VEVENT
END:VCALENDAR