BEGIN:VCALENDAR
VERSION:2.0
PRODID:-//Stage News - ECPv6.15.17//NONSGML v1.0//EN
CALSCALE:GREGORIAN
METHOD:PUBLISH
X-ORIGINAL-URL:https://stagenews.gr
X-WR-CALDESC:Events for Stage News
REFRESH-INTERVAL;VALUE=DURATION:PT1H
X-Robots-Tag:noindex
X-PUBLISHED-TTL:PT1H
BEGIN:VTIMEZONE
TZID:Europe/Athens
BEGIN:DAYLIGHT
TZOFFSETFROM:+0200
TZOFFSETTO:+0300
TZNAME:EEST
DTSTART:20240331T010000
END:DAYLIGHT
BEGIN:STANDARD
TZOFFSETFROM:+0300
TZOFFSETTO:+0200
TZNAME:EET
DTSTART:20241027T010000
END:STANDARD
BEGIN:DAYLIGHT
TZOFFSETFROM:+0200
TZOFFSETTO:+0300
TZNAME:EEST
DTSTART:20250330T010000
END:DAYLIGHT
BEGIN:STANDARD
TZOFFSETFROM:+0300
TZOFFSETTO:+0200
TZNAME:EET
DTSTART:20251026T010000
END:STANDARD
BEGIN:DAYLIGHT
TZOFFSETFROM:+0200
TZOFFSETTO:+0300
TZNAME:EEST
DTSTART:20260329T010000
END:DAYLIGHT
BEGIN:STANDARD
TZOFFSETFROM:+0300
TZOFFSETTO:+0200
TZNAME:EET
DTSTART:20261025T010000
END:STANDARD
END:VTIMEZONE
BEGIN:VEVENT
DTSTART;TZID=Europe/Athens:20250804T211500
DTEND;TZID=Europe/Athens:20250804T211500
DTSTAMP:20260423T112230
CREATED:20250601T071029Z
LAST-MODIFIED:20250601T071033Z
UID:10009888-1754342100-1754342100@stagenews.gr
SUMMARY:Η Μητέρα του Σκύλου | ΝΕΜΕΑ
DESCRIPTION:«Η Μητέρα του Σκύλου»\nΤου Παύλου Μάτεσι  \nΤη Ραραού ερμηνεύει η Υρώ Μανέ \nΔιασκευή: Υρώ Μανέ – Κατερίνα Γιαννάκου\nΣκηνοθεσία: Κώστας Γάκης\nΜουσική – τραγούδια: Σταμάτης Κραουνάκης \nΤο εμβληματικό έργο του Παύλου Μάτεσι\, «Η Μητέρα του Σκύλου»\, που συγκαταλέγεται στα 1001 βιβλία της παγκόσμιας λογοτεχνίας που πρέπει να διαβάσει κανείς στη ζωή του\, ανεβαίνει στην σκηνή του Θεάτρου ΑΚΡΟΠΟΛ\, σε σκηνοθεσία Κώστα Γάκη και μουσική-τραγούδια του Σταμάτη Κραουνάκη. Η Υρώ Μανέ ενσαρκώνει την ηρωίδα Ραραού\, μια από τις πιο σπαρακτικές και ταυτόχρονα εξαιρετικά δυναμικές προσωπικότητες της σύγχρονης ελληνικής λογοτεχνίας. \nΗ Ραραού\, με λόγο παραληρηματικό σχεδόν και αναπάντεχα χιουμοριστικό\, μια ψυχή τραυματισμένη με ένα τραύμα που αδυνατεί να επουλώσει\, αφηγείται την Οδύσσεια της ύπαρξής της\, ακροβατώντας πάνω στη λεπτή γραμμή μεταξύ φαντασίας και πραγματικότητας. Μέσα από το πρίσμα της μοναδικής αυτής ηρωίδας\, το κοινό παρακολουθεί τη δραματική\, αλλά και γεμάτη ευτράπελα\, ζωή της – από την κατοχή και τον εμφύλιο πόλεμο μέχρι τη δικτατορία και τη μεταπολίτευση – όπως περνά μέσα από το παραμορφωτικό της φίλτρο. \nΗ Ραραού\, η θεατρίνα\, θα ανέβει στο πάλκο της φαντασίας της\, με την επιθυμία να λάμψει επιτέλους σαν πραγματική πρωταγωνίστρια\, να ζήσει την προσωπική της καταξίωση και αναγέννηση. Η παράσταση ταξιδεύει τους θεατές σε ένα κόσμο γεμάτο από απρόσμενες\, αλλά και εξαιρετικά ανθρώπινες στιγμές.\nΣτη «Μητέρα του Σκύλου»\, η Ραραού\, μέσα από τον ιδιότυπο προσωπικό της λόγο\, ζωντανεύει στιγμές από τη διαδρομή του βίου της. Γύρω της\, ένας πολύχρωμος δυναμικός και αεικίνητος θίασος «φαντασμάτων» φέρνει με τρόπο μαγικό στο φως πρόσωπα της καθημερινότητας\, που χαράχτηκαν στην ψυχή της\, για να προσφέρει στο κοινό συγκίνηση και γέλιο. Το κρυμμένο τραύμα που έχει σημαδέψει τη ζωή της μετουσιώνεται\, μέσα από μουσικές\, χορογραφίες και εικόνες\, σε κάτι φωτεινό και αισιόδοξο! \nΗ παράσταση ανεβαίνει στο Θέατρο ΑΚΡΟΠΟΛ από την Arise Entertainment & More και την Artinfo. \nΣκηνοθετικό σημείωμα:\n«Χαίρομαι που η θεατρική διασκευή φέρει ολοζώντανα τα παραπάνω στοιχεία που κινούνται σε όλο το φάσμα του ανθρώπινου συναισθήματος\, σε όλες τις διακυμάνσεις του ανθρώπινου στοχασμού. Χαίρομαι που μέσα στο κείμενο επιβιώνει ο αγώνας ενός ανθρώπου που πέρασε δια πυρός και σιδήρου και ταυτόχρονα επιβιώνει με τρόπο υπαινικτικό αλλά σαφή μια ολόκληρη χώρα\, μια ολόκληρη εποχή. Χαίρομαι που η Ραραού\, όπως την ξαναγέννησαν η Υρώ κι η Κατερίνα στο υπέροχο θεατρικό τους κείμενο  και όπως την επαναδιατυπώνουν μουσικά και στιχουργικά τα εκλεκτά τραγούδια του Σταμάτη\, βρίσκει επιτέλους το δρόμο της προς τη σκηνή\, όπως η ίδια την ονειρεύτηκε και υπερίπταται με όπλο τη φαντασία της πάνω και πέρα από τα σκονισμένα και κρύα παρασκήνια\, πάνω και πέρα από τη μιζέρια των τριτοτέταρτων ρόλων που μια ζωή της δίνανε. Χαίρομαι σαν παιδί που η Ραραού ερμηνευμένη από την Υρω\, είναι ένας ανθισμένος μπαξές γεμάτος τρέλα\, ενέργεια\, χιούμορ και ζωτικότητα. \nΣτη σκηνή του Ακροπόλ\, αυτό που βλέπουμε είναι η σκηνική εκπλήρωση του ονείρου της Ραραούς: χορεύει\, τραγουδά και ιστορεί όλη της ζωή πάνω σε ένα πάλκο μαζί με έναν μαγικό περιπλανώμενο θίασο\, έναν εκλεκτό θίασο φαντασμάτων που τη συνοδεύει και βιώνει μαζί της όλο το ταξίδι ανάμεσα στην αλήθεια και τη φαντασίωση\, ανάμεσα στην ανθρωπιά και της βαρβαρότητα\, ανάμεσα στη ζωή και την τέχνη\, ανάμεσα στο τραύμα και την επούλωση…» (Κώστας Γάκης) \nΣυντελεστές:\nΔιασκευή: Υρώ Μανέ – Κατερίνα Γιαννάκου\nΣκηνοθεσία: Κώστας Γάκης\nΜουσική – τραγούδια: Σταμάτης Κραουνάκης\nΣκηνικά: Άση Δημητρολοπούλου\nΚοστούμια: Χαρά Τσουβαλά\nΕπιμέλεια κίνησης – χορογραφίες: Φαίδρα Νταϊόγλου\nΦωτισμοί: Περικλής Μαθιέλλης\nΦωτογραφίες: Ελίνα Γιουνανλή\nVideo promo – Αφίσα: Θωμάς Παλυβός\nΒοηθός σκηνοθέτη: Νατάσα – Φαίη Κοσμίδου\nΒοηθός σκηνογράφου: Χριστίνα Οικονόμου\nΒοηθός ενδυματολόγου: Εύα Κουρελιά \nΤην Ραραού ερμηνεύει η Υρώ Μανέ \nΠρωταγωνιστούν:\nΣπύρος Μπιμπίλας\, Παναγιώτης Μπουγιούρης\, Τάνια Τρύπη\, Γιάννης Βασιλώτος\, Μαριαλένα Ροζάκη\, Νικόλ Δημητρακοπούλου\, Ειρήνη Θεοδωράκη\, Νατάσα – Φαίη Κοσμίδου\, Γιώργης Παρταλίδης\, Στράτος Νταλαμάγκος \nΜουσικοί επί σκηνής: Δημήτρης Κίκλης\, Γρηγόρης Λάζογλου\, Γιαννής Αλαγιάννης \nΠροβολή – Επικοινωνία: Μαρκέλλα Καζαμία\, Μαργαρίτα Σίσιου\nΔιαδικτυακή επικοινωνία: Κωνσταντίνος Ζουρνάς | Digital.gr\nΚαλλιτεχνική επιμέλεια: Υρώ Μανέ\nΟργάνωση παραγωγής: Αγνή Μοίρα\, Χρυσαντίνα Κούλουμπου\, Χαρά Μητσοπούλου\nΠαραγωγή: Arise Entertainment & More – ARTINFO \n\nΠροπώληση more.com
URL:https://stagenews.gr/event/i-mitera-tou-skylou-nemea/
LOCATION:Green theater – Θέατρο Αρχαίων Κλεωνών\, Νεμέα\, Ελλάδα
CATEGORIES:Παραστάσεις Υπόλοιπη Ελλάδα
ATTACH;FMTTYPE=image/jpeg:https://stagenews.gr/wp-content/uploads/2025/06/i-mitera-tou-skylou.jpg
END:VEVENT
BEGIN:VEVENT
DTSTART;TZID=Europe/Athens:20250628T213000
DTEND;TZID=Europe/Athens:20250628T213000
DTSTAMP:20260423T112230
CREATED:20250429T071934Z
LAST-MODIFIED:20250429T072101Z
UID:10009424-1751146200-1751146200@stagenews.gr
SUMMARY:Αντιγόνη | ΚΟΡΙΝΘΟΣ
DESCRIPTION:Καλοκαίρι 2025\nΣοφοκλή ΑΝΤΙΓΟΝΗ\nΜια ελεγεία εξέγερσης\nΣκηνοθεσία Θέμης Μουμουλίδης \nΠροσφορά 13€ για περιορισμένο αριθμό εισιτηρίων! \nO Θέμης Μουμουλίδης επιστρέφει για τρίτη φορά στην Αντιγόνη\, την κορυφαία τραγωδία του Σοφοκλή\, και σε μια από τις συναρπαστικότερες ηρωίδες στην ιστορία της δυτικής δραματουργίας.\nΜαζί του ένα σύνολο εξαιρετικών ηθοποιών με την Λένα Παπαληγούρα στον ρόλο της Αντιγόνης και τον Μελέτη Ηλία στον ρόλο του Κρέοντα.\nΗ πρεμιέρα θα πραγματοποιηθεί στις 28 Ιουνίου στο Θέατρο Αρχαίων Κλεωνών και θα ακολουθήσει περιοδεία σε επιλεγμένους χώρους στην Αττική και την περιφέρεια.\nΟ πόλεμος τελείωσε. Οι νεκροί περισυλλέγονται κάτω από το σκληρό φως των προβολέων. Το πεδίο της μάχης μεταφέρεται στα γυαλισμένα γραφεία των σύγχρονων κέντρων λήψης αποφάσεων. Ο σκληρός\, ενισχυμένος ήχος του σήμερα και η εύθραυστη ανάσα της ζωντανής φωνής\, τα ατσαλάκωτα κοστούμια και τα ράκη\, τα μηχανοποιημένα και τα βεβηλωμένα σώματα συνθέτουν έναν κόσμο όπου οι συγκρούσεις οξύνονται και οι αντιθέσεις βαθαίνουν. \nΗ δική μας Αντιγόνη…\nΝα μην ενδώσει. Αυτός είναι ο δικός της νόμος.\nΗ διεκδίκηση του τελετουργικού της κηδείας γίνεται η μηχανή αποκάλυψης της σχέσης της εξουσίας με τον θάνατο: η ηχηρή καταγγελία του ολοκληρωτισμού\, που σφετερίζεται την εξουσία για να ασκήσει κάθε δικαίωμα επί της ανθρώπινης υπόστασης\, έως και μετά θάνατον. Μια εξουσία που πατάσσει κάθε έννοια ανθρωπινότητας\, παράγει και αναπαράγει την υποταγή ως μέτρο της κανονικότητας.\nΟ Κρέων εκφράζει το τυφλό ένστικτο μιας γυμνής ζωής με ωμούς βιολογικούς όρους. Θέλει να επεκτείνει την εξουσία του σε κάθε πτυχή της ελεύθερης έκφρασης\, ακόμη και στην πιο δειλή – ανομολόγητη επιθυμία της. \nΟ Κρέων είναι ο προάγγελος της βιοπολιτικής του σήμερα: ενός βίου αβίωτου\, όπου οι άνθρωποι είναι οι τελευταίοι που μαθαίνουν τον θάνατό τους όχι αναγκαστικά ως βιολογικά\, αλλά ως ψυχικά\, πολιτικά και κοινωνικά πρόσωπα.\nΜε την Αντιγόνη τα πεδία συγκρούσεων τίθενται σε αμφισβήτηση: σωστό-λάθος\, ζωή-θάνατος\, άνδρας-γυναίκα\, φως-σκοτάδι\, αυθεντικότητα-συμβιβασμός\, νόμος- δίκαιο\, παράβαση-υποταγή.\nΗ Αντιγόνη γνωρίζει την θνητότητά της\, αλλά αποφασίζει το πότε και το πώς του θανάτου της. Αναδιατυπώνει κάθε σύγκρουση γιατί μόνο έτσι στρέφει ακόμη και τον θάνατο υπέρ της ζωής. Αγκαλιάζοντας τον θάνατο διεκδικεί τη ζωή. Μια ζωή άξια να βιωθεί. Έτσι\, ακόμη και αν οδηγείται τελικά στον θάνατο και ο Κρέων επιζεί\, στην πραγματικότητα πρόκειται για έναν συνεχή θάνατο του Κρέοντα και για ένα άνοιγμα της Αντιγόνης προς το μέλλον.\nΣτη σύγχρονη ζωή\, η Αντιγόνη είναι παρούσα στα hot spots που στοιβάζουν\, στις δομές που φυλάσσουν\, στα σύνορα που ηλεκτροφορούν\, στις θάλασσες που πνίγουν. Είναι παρούσα στα διαρκώς επεκτεινόμενα στρατόπεδα-τάφους ζώντων\, στις φυσικές και εικονικές εκδοχές αλλεπάλληλων επιστρώσεων εγκλεισμών\, στα παιχνίδια της βιοπολιτικής\, στις έδρες και τις ενέδρες του θανάτου.\nΤο ΟΧΙ της Αντιγόνης ορθώνεται ως η απόλυτη κατάφαση. \nΜετάφραση Παναγιώτα Πανταζή \nΣκηνοθεσία Θέμης Μουμουλίδης \nΣκηνικό Μικαέλα Λιακατά \nΚοστούμια Βασιλική Σύρμα \nΜουσική Σταύρος Γασπαράτος \nΚίνηση Πατρίσια Απέργη \nΦωτισμοί Νίκος Σωτηρόπουλος \nΦωτογραφίες Ελίνα Γιουνανλή \nΓραφιστικά Mike Rafail \nMakeup artist Olga Faleichyk \nHair styling Θωμάς Γαλαζούλας \nΕπικοινωνία Ειρήνη Λαγουρού \nΔιεύθυνση Παραγωγής Σταμάτης Μουμουλίδης \nΕρμηνεύουν:\nΛένα Παπαληγούρα\, Μελέτης Ηλίας\, Μιχάλης Οικονόμου\, Θανάσης Δόβρης\,\nΙφιγένεια Καραμήτρου\, Λίλα Μπακλέση\, Αμαλία Νίνου\, Γιώργος Νούσης\,\nΒαγγέλης Σαλευρής \, Ιώβη Φραγκάτου \n\nΠροπώληση more.com
URL:https://stagenews.gr/event/antigoni-korinthos/
LOCATION:Green theater – Θέατρο Αρχαίων Κλεωνών\, Νεμέα\, Ελλάδα
CATEGORIES:Παραστάσεις Υπόλοιπη Ελλάδα
ATTACH;FMTTYPE=image/jpeg:https://stagenews.gr/wp-content/uploads/2025/04/antigoni.jpg
END:VEVENT
END:VCALENDAR