BEGIN:VCALENDAR
VERSION:2.0
PRODID:-//Stage News - ECPv6.15.17//NONSGML v1.0//EN
CALSCALE:GREGORIAN
METHOD:PUBLISH
X-WR-CALNAME:Stage News
X-ORIGINAL-URL:https://stagenews.gr
X-WR-CALDESC:Events for Stage News
REFRESH-INTERVAL;VALUE=DURATION:PT1H
X-Robots-Tag:noindex
X-PUBLISHED-TTL:PT1H
BEGIN:VTIMEZONE
TZID:Europe/Athens
BEGIN:DAYLIGHT
TZOFFSETFROM:+0200
TZOFFSETTO:+0300
TZNAME:EEST
DTSTART:20230326T010000
END:DAYLIGHT
BEGIN:STANDARD
TZOFFSETFROM:+0300
TZOFFSETTO:+0200
TZNAME:EET
DTSTART:20231029T010000
END:STANDARD
BEGIN:DAYLIGHT
TZOFFSETFROM:+0200
TZOFFSETTO:+0300
TZNAME:EEST
DTSTART:20240331T010000
END:DAYLIGHT
BEGIN:STANDARD
TZOFFSETFROM:+0300
TZOFFSETTO:+0200
TZNAME:EET
DTSTART:20241027T010000
END:STANDARD
BEGIN:DAYLIGHT
TZOFFSETFROM:+0200
TZOFFSETTO:+0300
TZNAME:EEST
DTSTART:20250330T010000
END:DAYLIGHT
BEGIN:STANDARD
TZOFFSETFROM:+0300
TZOFFSETTO:+0200
TZNAME:EET
DTSTART:20251026T010000
END:STANDARD
END:VTIMEZONE
BEGIN:VEVENT
DTSTART;TZID=Europe/Athens:20241112T203000
DTEND;TZID=Europe/Athens:20241112T203000
DTSTAMP:20260421T210844
CREATED:20240612T210000Z
LAST-MODIFIED:20241023T152959Z
UID:10001000-1731443400-1731443400@stagenews.gr
SUMMARY:Οι Skillet για πρώτη φορά στην Ελλάδα
DESCRIPTION:Στα πλαίσια της διεθνούς  περιοδείας  2024 μια από τις πιο γνωστές αμερικάνικες  nu metal μπάντες   SKILLET θα εμφανιστεί  για πρώτη φορά στην Ελλάδα σε ένα  και μοναδικό live στο Floyd στις 12/11. \nΟι θαυμαστές των SKILLET  θα έχουν την ευκαιρία να ακούσουν τις  μεγαλύτερες επιτυχίες τους  καθώς και νέα κομμάτια από το τελευταίο  τους άλμπουμ  DOMINION! \nΟι SKILLET  καταγράφουν την ιστορία τους  ως ροκ μπάντα με μεγαλύτερες πωλήσεις παγκοσμίως τον 21 αιώνα συνδυάζοντας στην μουσική τους  hard rock\, συμφωνικό ροκ και άλλα είδη  rock.   Δυο φορές υποψήφιοι για βραβεία GRAMMY\, μέλη του Pandora Billionaires Club και πολυπλατινένιοι rockers έχουν ένα αθάνατο πνεύμα που τους κατατάσσει στην κατηγορία μίας  από τις πιο επιτυχημένες ροκ μπάντες της  σύγχρονης εποχής. \nΤο 2019  οι SKILLET κέρδισαν 2 φορές βραβείο GRAMMY®️\, πούλησαν πάνω από 17 εκατομμύρια άλμπουμ παγκοσμίως και πήραν βραβείο Billboard Music Award για το διπλό πλατινένιο Awake. Το single τους “Monster” έγινε  5 φορές πλατινένιο και παραμένει  στην κατηγορία ως ένα από τα πιο δημοφιλή ροκ τραγούδια όλων των εποχών. Το Unleashed του 2016 βρέθηκε  στο #3 του Billboard Top 200. Το single “Feel Invincible” χτύπησε την πρωτιά στο Rock Radio\,  σπάζοντας 643 εκατομμύρια  audio streams  παγκοσμίως  και έγινε δύο φορές  πλατινένιο. \nΤο Unleashed αποτελεί   το τέταρτο συνεχόμενο άλμπουμ των SKILLET που έγινε χρυσό και 2 φορές πλατινένιο. \nΗ κυκλοφορία το 2019  του άλμπουμ Victorious περιλάμβανε το κορυφαίο hit “Legendary” το  οποίο ταυτίστηκε με το όνομά του με πάνω από 108 εκατομμύρια streams. Μέχρι σήμερα\, εννέα πρωτότυπα  tunes κέρδισαν την αναγνώριση της RIAA  μαζί με WWE\, Marvel\, ESPN και NFL. \nΚάνοντας sold out συναυλίες στις αρένες σε 26 χώρες σε τέσσερις ηπείρους\, οι SKILLET  εμφανίστηκαν  στο CONAN και βγήκαν σε πρωτοσέλιδα των USA Today και The New York Times. \nΜη χάσετε αυτή την μοναδική ευκαιρία για rocking ζωντανά με τους  SKILLET στις 12 Νοεμβρίου 2024  στο  FLOYD! \n\nΗ προπώληση  εισιτηρίων ξεκινάει στις 17  Ιουνίου 2024 στο https://skillettour2024.com
URL:https://stagenews.gr/event/oi-skillet-gia-proti-fora-stin-ellada/
LOCATION:FLOYD\, Πειραιώς 117\, Αθήνα\, Αττική\, Ελλάδα
CATEGORIES:Συναυλίες Αθήνα
ATTACH;FMTTYPE=image/jpeg:https://stagenews.gr/wp-content/uploads/2024/10/skillet.jpg
END:VEVENT
BEGIN:VEVENT
DTSTART;TZID=Europe/Athens:20241028T200000
DTEND;TZID=Europe/Athens:20241028T200000
DTSTAMP:20260421T210844
CREATED:20240203T220000Z
LAST-MODIFIED:20241020T170324Z
UID:10000346-1730145600-1730145600@stagenews.gr
SUMMARY:Godspeed You! Black Emperor
DESCRIPTION:Τo Floyd Live Venue έχει την τιμή να υποδεχτεί τους μοναδικούς Godspeed You! Black Emperor\, την Παρασκευή 18 Οκτωβρίου. Μια από τις σπουδαιότερες και πλέον αντισυμβατικές μπάντες των τελευταίων δεκαετιών\, επιστρέφουν για να μας χαρίσουν μία ακόμη υπερβατική βραδιά\, γεμάτη ένταση και συναίσθημα. \nΗ προπώληση ξεκινάει αυτή την Παρασκευή 2/2 προς 35€ και για περιορισμένο αριθμό εισιτηρίων. Μετά την εξάντλησή τους θα συνεχιστεί στα 40€. \nΤο ελληνικό κοινό έχει γίνει ήδη “μάρτυρας” του μεγαλείου των GY!BE επί σκηνής. Τα λόγια είναι περιττά για να καταφέρουν να περιγράψουν την εμπειρία μιας συναυλίας της κολεκτίβας από το Κεμπέκ του Καναδά\, η οποία ήδη μετρά 30 χρόνια ζωής. Ένας επίμονος “θόρυβος”\, ένα σεμιναριακό χτίσιμο κάθε αρμονίας και επιβλητικά ουρανομήκη ξεσπάσματα\, με το βιολί να λειτουργεί ως μελωδική “γέφυρα” μεταξύ μπάντας και κοινού.\nΜετά την ίδρυσή τους\, το 1994\, οι Godspeed You! Black Emperor κυκλοφόρησαν ένα σερί αριστουργηματικών δίσκων το διάστημα 1997-2002\, με το έργο τους να αναγνωρίζεται ευρέως ως ένας επαναπροσδιορισμός του τι μπορεί να πετύχει η μουσική διαμαρτυρίας. Οι instrumental συνθέσεις τους\, γεμάτες απέραντο συναίσθημα και απίστευτη δύναμη\, χρησίμευσαν ως σάουντρακ στην εποχή της μόνιμης καπιταλιστικής αποξένωσης και αντίστασης.\nΤα “F#A#∞” (1997) και “Lift Your Skinny Fists Like Antennas To Heaven” (2000) παραμένουν ογκόλιθοι μιας ολόκληρης εποχής και επαναπροσδιόρισαν το post-rock\, είδος στο οποίο -τυπικά- ανήκουν αλλά φαντάζει “λίγο” και περιοριστικό για να συμπεριλάβει τη δυναμική τους.\nΟι μυθικές πλέον live εμφανίσεις τους εκείνο το διάστημα\, συνοδευόμενες από την προβολή αναλογικών φιλμ\, πάντα ταιριαστών με την αισθητική τους\, έκαναν το όνομά τους να μεταδίδεται αστραπιαία στους κύκλους των μουσικόφιλων ενώ\, ταυτόχρονα\, παρέμειναν μακριά από το mainstream και τις επιταγές του. Δύο\, όλες κι όλες\, φωτογραφίες της μπάντας (το 1997 και 2010 – και αυτές θολές και γεμάτες “κόκκο”)\, ελάχιστες επιλεγμένες συνεντεύξεις\, κανένα επίσημο website ή σελίδα στα social media\, μηδέν επίσημα video. Πόσες rock μπάντες και καλλιτέχνες ξέρετε να αφήνουν αποκλειστικά τη μουσική τους να μιλάει για αυτούς\, αγνοώντας συνειδητά κάθε κανόνα του σύγχρονου μάρκετινγκ;\nΜετά από μία επταετή αποχή\, οι GY!BE επέστρεψαν το 2010 και ήδη η περίοδος μετά την επανένωση μετρά 14 χρόνια\, εκατοντάδες sold-out shows και 3 ακόμα δίσκους που έτυχαν θριαμβευτικής υποδοχής. Το “G_d’s Pee at State’s End!” (2021) έκανε τον μουσικό Τύπο να γράψει κριτικές όπως:\n“Aκούγονται απίστευτοι\, αποτυπώνουν το μεγαλείο\, την επιθετικότητα και τη δύναμη του συμφωνικού πανκ τους με τέλεια διαύγεια” / Pitchfork\n“Σχεδόν 30 χρόνια από τη γέννησή τους\, η ικανότητα τους να μεταφέρουν ταυτόχρονα ευαίσθητα αλλά και πολιτικά μηνύματα\, μέσα από την ωμή δύναμη της μουσικής\, παραμένει  ασυναγώνιστη” / Clash Magazine\nΌπως και να έχει\, για τη μουσική των Godspeed You! Black Emperor έχουν γραφτεί κάθε είδους υπερθετικά. Το μόνο σίγουρο για αυτή την τόσο ιδιαίτερη κολεκτίβα είναι πως διαθέτουν μία σχεδόν συμφωνική αίσθηση συνθετικής δομής και κλιμάκωσης\, προσφέροντας μια άγρια και μοναδικά συναρπαστική έκρηξη ενέργειας σε κάθε live show τους\, κάτι που θα έχουμε την ευκαιρία να ζήσουμε και να απολαύσουμε από κοντά στις 18/10\, στο Floyd. \n\nΔιάθεση εισιτηρίων: \n• Τηλεφωνικά στο 2117700000 \n•Online  more.com / Floyd.gr \n• Φυσικά σημεία: Καταστήματα Νova\, Public\, Ευριπίδης\, Yoleni’s\, Viva Spot Τεχνόπολης. \nFloyd live music venue: Πειραιώς 117\, Γκάζι\, Αθήνα\, πλησίον του Στ. Μετρό Κεραμεικός / Τηλ. 210 3416706
URL:https://stagenews.gr/event/godspeed-you-black-emperor/
LOCATION:FLOYD\, Πειραιώς 117\, Αθήνα\, Αττική\, Ελλάδα
CATEGORIES:Συναυλίες Αθήνα
ATTACH;FMTTYPE=image/jpeg:https://stagenews.gr/wp-content/uploads/2024/10/Godspeed_You_Black_Emperor.jpg
END:VEVENT
END:VCALENDAR