BEGIN:VCALENDAR
VERSION:2.0
PRODID:-//Stage News - ECPv6.15.17//NONSGML v1.0//EN
CALSCALE:GREGORIAN
METHOD:PUBLISH
X-WR-CALNAME:Stage News
X-ORIGINAL-URL:https://stagenews.gr
X-WR-CALDESC:Events for Stage News
REFRESH-INTERVAL;VALUE=DURATION:PT1H
X-Robots-Tag:noindex
X-PUBLISHED-TTL:PT1H
BEGIN:VTIMEZONE
TZID:Europe/Athens
BEGIN:DAYLIGHT
TZOFFSETFROM:+0200
TZOFFSETTO:+0300
TZNAME:EEST
DTSTART:20250330T010000
END:DAYLIGHT
BEGIN:STANDARD
TZOFFSETFROM:+0300
TZOFFSETTO:+0200
TZNAME:EET
DTSTART:20251026T010000
END:STANDARD
BEGIN:DAYLIGHT
TZOFFSETFROM:+0200
TZOFFSETTO:+0300
TZNAME:EEST
DTSTART:20260329T010000
END:DAYLIGHT
BEGIN:STANDARD
TZOFFSETFROM:+0300
TZOFFSETTO:+0200
TZNAME:EET
DTSTART:20261025T010000
END:STANDARD
BEGIN:DAYLIGHT
TZOFFSETFROM:+0200
TZOFFSETTO:+0300
TZNAME:EEST
DTSTART:20270328T010000
END:DAYLIGHT
BEGIN:STANDARD
TZOFFSETFROM:+0300
TZOFFSETTO:+0200
TZNAME:EET
DTSTART:20271031T010000
END:STANDARD
END:VTIMEZONE
BEGIN:VEVENT
DTSTART;VALUE=DATE:20260502
DTEND;VALUE=DATE:20260503
DTSTAMP:20260421T122650
CREATED:20260205T213153Z
LAST-MODIFIED:20260205T213156Z
UID:10011449-1777680000-1777766399@stagenews.gr
SUMMARY:Ο Morad στην Αθήνα: Το φαινόμενο της ισπανικής urban σκηνής για πρώτη φορά στο Floyd
DESCRIPTION:Το φαινόμενο της ισπανικής urban σκηνής\, ο Morad\, καταφθάνει στην Αθήνα το Σάββατο 2 Μαΐου 2026\, στο Floyd Live Music Venue. Για πρώτη φορά στην Ελλάδα\, ο 27χρονος καλλιτέχνης που κατάφερε να καταρρίψει κάθε κανόνα της μουσικής βιομηχανίας\, έρχεται για ένα headline show που αναμένεται να γίνει sold out σε χρόνο ρεκόρ. \nΠοιος είναι ο Morad: Από τους δρόμους της Καταλονίας στα charts\n Με μαροκινές ρίζες και ορμητήριο το Οσπιταλέτ της Καταλονίας\, ο Morad (M.D.L.R.) έγινε η φωνή μιας ολόκληρης γενιάς. Χωρίς δισκογραφική εταιρεία και χωρίς ραδιοφωνικό airplay\, διείσδυσε στα charts παγκοσμίως\, αποδεικνύοντας ότι το ένστικτο του κοινού είναι πιο δυνατό από κάθε marketing campaign. \nΗ μουσική του κινείται με φυσικότητα ανάμεσα στο drill\, το trap\, το κλασικό rap και το UK garage. Με επιτυχίες όπως τα “Motorola”\, “Pelele” και το πρόσφατο “Lamine” (αφιερωμένο στον φίλο του και star της Μπαρτσελόνα\, Lamine Yamal)\, ο Morad έχει κερδίσει εκατομμύρια listeners στο Spotify και συνεργασίες με ονόματα όπως οι Ozuna\, Central Cee και Baby Gang. \nΕισιτήρια και Πληροφορίες Συναυλίας\n Η προπώληση των εισιτηρίων ξεκινά την Παρασκευή 6 Φεβρουαρίου στις 10:00 το πρωί. Λόγω της τεράστιας ζήτησης\, οι ενδιαφερόμενοι προτρέπονται να κινηθούν γρήγορα. \n[INFO BOX] \n\nΗμερομηνία: Σάββατο 2 Μαΐου 2026\nΧώρος: Floyd Live Music Venue (Πειραιώς 117\, Γκάζι)\nΤιμή Εισιτηρίου: 27€ (Περιορισμένος αριθμός) / 30€ (Επόμενη φάση)\nΔιάθεση Εισιτηρίων: Online μέσω More.com και τηλεφωνικά στο 211 7700000.
URL:https://stagenews.gr/event/morad-live-athens-floyd-2026/
LOCATION:FLOYD\, Πειραιώς 117\, Αθήνα\, Αττική\, Ελλάδα
CATEGORIES:Συναυλίες Αθήνα
ATTACH;FMTTYPE=image/jpeg:https://stagenews.gr/wp-content/uploads/2026/02/morad.jpg
END:VEVENT
BEGIN:VEVENT
DTSTART;VALUE=DATE:20260508
DTEND;VALUE=DATE:20260509
DTSTAMP:20260421T122650
CREATED:20251215T180216Z
LAST-MODIFIED:20251215T180232Z
UID:10011059-1778198400-1778284799@stagenews.gr
SUMMARY:Οι Katatonia επιστρέφουν στην Αθήνα την Παρασκευή 8 Μαΐου\, στο Floyd!
DESCRIPTION:Οι Katatonia επιστρέφουν στην Αθήνα την Παρασκευή 8 Μαΐου\, στο Floyd Live Music Venue. \nΟι μελαγχολικοί Σουηδοί «βασιλιάδες» του metal\, με τη μοναδική τους ικανότητα να μετατρέπουν τη σκοτεινή εσωστρέφεια σε καθηλωτική συναυλιακή εμπειρία\, μάς καλούν σε ένα νέο κεφάλαιο της τεράστιας ιστορίας τους. \nΗ διάθεση των εισιτηρίων ξεκινά την Τετάρτη 17/12 στις 10:00\, με πρώτη τιμή τα 35€\, για περιορισμένο αριθμό. Οι επόμενες φάσεις θα ανακοινωθούν στην πορεία. \nΞεκινώντας από τη Στοκχόλμη το 1991\, συστήθηκαν στη death/doom σκηνή\, κυρίως μέσα από το επιδραστικό “Brave Murder Day”. Από τότε έως σήμερα\, όμως\, δεν αρνήθηκαν ποτέ την εξέλιξη\, αψηφώντας είδη και στεγανά και εδραιώνοντας έναν απόλυτα αναγνωρίσιμο ήχο\, με goth\, shoegaze\, alternative και prog στοιχεία\, πάντα σε ζοφερά και βαθιά μελωδικά τραγούδια. Δίσκοι όπως τα “The Great Cold Distance”\, “Viva Emptiness”\, “Last Fair Deal Gone Down”\, “Brave Murder Day” και “Night Is The New Day” στέκουν ως αμετακίνητοι ογκόλιθοι στην ιστορία του metal. \nΠερισσότερα από τριάντα χρόνια μετά\, οι Katatonia επανεφευρίσκουν τους εαυτούς τους με τον εξαιρετικό φετινό τους δίσκο “Nightmares as Extensions of the Waking State”\, σηματοδοτώντας μια νέα εποχή και ίσως την πιο προσωπική δημιουργία του τραγουδιστή\, ιδρυτή και βασικού συνθέτη τους\, Jonas Renkse\, ο οποίος δηλώνει υπερήφανος για το αποτέλεσμα. \nΗ εξέλιξη υπήρξε πάντα βασικό χαρακτηριστικό τους\, με το συναίσθημα και την ατμόσφαιρα να παραμένουν σε πρώτο πλάνο – μαζί\, φυσικά\, με τη χαρακτηριστική φωνή του Jonas – κάτι που δυσκολεύει διαχρονικά κάθε προσπάθεια να «φορεθούν» στους Katatonia εύκολες ταμπέλες. \nΣτον φετινό δίσκο «συστήνονται» και οι δύο νέοι κιθαρίστες\, Nico Elgstrand και Sebastian Svalland\, οι οποίοι αντικατέστησαν τον Roger Öjersson και τον συνιδρυτή της μπάντας Anders Nyström\, μετακινώντας εκ νέου τον ήχο σε πιο guitar-heavy μονοπάτια. Τραγούδια όπως τα “Thrice”\, “In the Event Of” και “Wind of No Change” έχουν ήδη βρει θέση στις ζωντανές εμφανίσεις τους και αποδεικνύουν πως οι Katatonia παραμένουν γενναίοι\, ευαίσθητοι και ταυτόχρονα σκοτεινοί και καταιγιστικοί – μια μεγάλη μπάντα που συνεχίζει ακάθεκτη\, με νέο αίμα στη σύνθεσή της. \nFollow Katatonia\nOfficial | Facebook | YouTube | Instagram | Spotify | Bandcamp \n  \nΔιάθεση εισιτηρίων: \nΤηλεφωνικά στο 2117700000 \nOnline more.com / Floyd.gr \nΦυσικά σημεία: Καταστήματα Νova\, Public\, Ευριπίδης\, Yoleni’s
URL:https://stagenews.gr/event/oi-katatonia-epistrefoun-stin-athina-tin-paraskevi-8-maiou-sto-floyd/
LOCATION:FLOYD\, Πειραιώς 117\, Αθήνα\, Αττική\, Ελλάδα
CATEGORIES:Συναυλίες Αθήνα
ATTACH;FMTTYPE=image/webp:https://stagenews.gr/wp-content/uploads/2025/12/katatonia.webp
END:VEVENT
BEGIN:VEVENT
DTSTART;TZID=Europe/Athens:20260509T200000
DTEND;TZID=Europe/Athens:20260509T200000
DTSTAMP:20260421T122650
CREATED:20260124T201921Z
LAST-MODIFIED:20260124T201926Z
UID:10011365-1778356800-1778356800@stagenews.gr
SUMMARY:Οι Atmosphere έρχονται στο Floyd! Special Guests: Sage Francis & ZooDeVill
DESCRIPTION:Atmosphere Live in Athens\nΣάββατο 9 Μαΐου 2026 | Floyd Live Music Venue \nΤο θρυλικό δίδυμο από τη Μινεάπολη (Slug & Ant)\, που καθόρισε το ανεξάρτητο hip-hop μέσω της Rhymesayers Entertainment\, φέρνει την ατόφια ενέργειά του στην Αθήνα. \nΠληροφορίες Εισιτηρίων\nΗ προπώληση έχει ήδη ξεκινήσει! Δείτε τις φάσεις και τους τρόπους αγοράς: \n\n\n\nΦάση Προπώλησης\nΤιμή\nΚατάσταση / Ημερομηνία\n\n\n\n\nNewsletter Presale\n–\nΞεκίνησε Τετάρτη 21/1 (για 46 ώρες)\n\n\nΓενική Προπώληση\n32€\nΞεκίνησε Παρασκευή 23/1\, 10:00\n\n\nΕπόμενες Φάσεις\nTBA\nΘα ανακοινωθούν σύντομα\n\n\n\nΣημεία Προπώλησης: \n\n\nOnline: more.com \n\n\nΤηλεφωνικά: 211 7700000 \n\n\n Το Line-up της βραδιάς\nΗ συναυλία πλαισιώνεται από εξαιρετικούς καλεσμένους\, μετατρέποντάς τη σε ένα μίνι hip-hop φεστιβάλ: \n\nAtmosphere: Με πάνω από 20 άλμπουμ και classics όπως το “God Loves Ugly” και το “Sunshine”.\nSage Francis: Ο “πατριάρχης” της underground σκηνής και της Strange Famous Records\, επιστρέφει με νέο υλικό.\nZooDeVill: Η φρέσκια δύναμη από το Λος Άντζελες (μέλος των NOFUN!).\n\nΓιατί να μην το χάσεις\n\nΙστορική Εμφάνιση: Είναι η πρώτη φορά που το group επισκέπτεται τη χώρα μας σε 30 χρόνια πορείας.\nΑνεξάρτητο Ήθος: Οι Atmosphere είναι το πρότυπο του “do it yourself” στη μουσική βιομηχανία.\nΟ Ήχος: Ένα κράμα από 90s boom-bap\, soul samples και alt-rock στοιχεία\, με τους ειλικρινείς και αυτοαναφορικούς στίχους του Slug.\n\n“Περιμένουμε να ακούσουμε ζωντανά ύμνους όπως τα ‘Trying to Find a Balance’ και ‘Yesterday’ σε μια βραδιά που θα γράψει ιστορία για το εγχώριο rap κοινό.”
URL:https://stagenews.gr/event/oi-atmosphere-erchontai-sto-floyd-special-guests-sage-francis-zoodevill/
LOCATION:FLOYD\, Πειραιώς 117\, Αθήνα\, Αττική\, Ελλάδα
ATTACH;FMTTYPE=image/webp:https://stagenews.gr/wp-content/uploads/2026/01/atmosphere.webp
END:VEVENT
BEGIN:VEVENT
DTSTART;VALUE=DATE:20260516
DTEND;VALUE=DATE:20260517
DTSTAMP:20260421T122650
CREATED:20251030T174227Z
LAST-MODIFIED:20251030T174319Z
UID:10010630-1778889600-1778975999@stagenews.gr
SUMMARY:Tinariwen
DESCRIPTION:Οι Tinariwen έρχονται στην Αθήνα για μια μοναδική συναυλία το Σάββατο 16 Μαΐου  στο Floyd\, φέρνοντας μαζί τους την πνοή της ερήμου και τον ρυθμό μιας μουσικής που γεννήθηκε από την ίδια την ανάγκη για ελευθερία. \n\n\nΟι Tinariwen δεν είναι απλώς ένα συγκρότημα – είναι μια φωνή από την καρδιά της Σαχάρας. Μέσα από τις κιθάρες τους φυσά ο άνεμος του Σαχέλ\, και σε κάθε νότα ακούγεται ο παλμός της Αφρικής που τους γέννησε. Τραγουδούν για τη γη\, για τη νοσταλγία\, για την ελευθερία που δεν είναι ποτέ δεδομένη. \n\nTINARIWEN – TOUMAST TINCHA (OFFICIAL VIDEO) \n\n\n\nΆνθρωποι που αντάλλαξαν τα όπλα με μουσικά όργανα\, μετατρέπουν τον αγώνα σε ποίημα και τη σιωπή της ερήμου σε τραγούδι που ταξιδεύει πέρα από σύνορα και εποχές. \n \n\n\nΑπό τις αρχές της δεκαετίας του 1990\, οι Tinariwen μεταμόρφωσαν τη μουσική της Σαχάρας σε παγκόσμιο φαινόμενο. Στη δεκαετία του 2000\, η διεθνής αναγνώριση ήρθε μέσα από τη συμμετοχή τους σε φεστιβάλ Coachella\, Glastonbury\, WOMAD\, Roskilde και το δικό τους Festival au Désert στο Μάλι και αργότερα στο Τιμπουκτού – ένα πραγματικό “Woodstock της Ερήμου”. \n\nTinariwen (+IO:I) – Sastanàqqàm \n\n\n\nΣυνεργάστηκαν με κορυφαίους μουσικούς όπως o Bono των U2 και οι Robert Plant\, Carlos Santana\, Thom Yorke\, Jack White\, Mark Lanegan\, Daniel Lanois\, Matt Sweeney\, Kurt Vile\, Alain Johannes\, Warren Ellis\, ενώ η μουσική τους άγγιξε και επηρέασε καλλιτέχνες όπως οι Red Hot Chili Peppers\, White Stripes\, Coldplay ακόμα και ο Brian Eno. Έχουν περιοδεύσει σε Ευρώπη\, Αμερική\, Ασία\, Αυστραλία και Νέα Ζηλανδία\, μεταφέροντας τον ήχο της ερήμου σε κάθε γωνιά του κόσμου. \n\n\nΤα live των Tinariwen είναι μια μυσταγωγία της ερήμου – μια εμπειρία πέρα από τη μουσική. Οι ρυθμοί της Σαχάρας σμίγουν με ηλεκτρικές κιθάρες που πάλλονται σαν καυτός αέρας πάνω στην άμμο\, και οι φωνές τους – βαθιές\, υπνωτικές\, αρχέγονες – αφηγούνται την ιστορία ενός λαού που αντιστέκεται με ποίηση. Κάθε συναυλία τους είναι τελετουργία ελευθερίας\, μια έκρηξη ψυχής που μετατρέπει τη σιωπή της ερήμου σε χορό\, φωτιά και φως. \n\nRobert Plant\, Justin Adams & Tinariwen\, Bataclan\, Paris 2007 \n\n\n\nΟι Tinariwen έχουν κυκλοφορήσει εννέα άλμπουμ\, με το Tassili να κερδίζει το το 2012 το Grammy Award για Καλύτερο World Music Album. Το συγκρότημα έχει συνολικά τρεις υποψηφιότητες για Grammy και η μουσική του έχει αποσπάσει διθυραμβικές κριτικές από Rolling Stone\, Mojo\, Pitchfork και The Guardian\, με το NPR να τους χαρακτηρίζει «τους αληθινούς επαναστάτες της μουσικής». \n\nTinariwen & Carlos Santana: Amassakoul \n\n\n\nΜε τις μακριές φορεσιές και τα τουρμπάνια των Τουαρέγκ\, οι Tinariwen θεμελίωσαν έναν ήχο που ο κόσμος σήμερα αποκαλεί desert blues — τον ρυθμό που οι ίδιοι ονομάζουν assouf\, λέξη που στη γλώσσα Tamasheq σημαίνει λαχτάρα\, απώλεια\, μοναξιά. Η μουσική τους είναι ένα εκρηκτικό μείγμα παραδοσιακών ρυθμών των Tuareg με blues\, rock και ψυχεδελικά στοιχεία – οι κιθάρες τους\, στεγνές και ηλεκτρισμένες\, μοιάζουν να κουβαλούν την ανάσα του καυτού ανέμου\, ενώ οι στίχοι τους\, βαθιά πολιτικοί και ποιητικοί\, μιλούν για ελευθερία\, εξορία και μνήμη – ένα ποίημα από ήχους που ενώνει την επανάσταση με την προσευχή\, τη δράση με τη σιωπή\, την τόλμη με τη μελαγχολία.Οι Tinariwen είναι ταξιδευτές – αφηγητές. Με κάθε συναυλία και κάθε τραγούδι\, προσθέτουν ένα ακόμη κεφάλαιο στο έπος της Σαχάρας\, κρατώντας ζωντανή τη φωνή και τη μνήμη του λαού τους. \n\nTinariwen (+IO:I) – Nànnuflày\n\n\n\n\n\nΑπό τα βάθη του Azawad στο Μάλι\, ο Ibrahim Ag Alhabib —γνωστός ως Abaraybone\, το παιδί με τα σκισμένα ρούχα – έστησε τους πρώτους ήχους των Tinariwen μέσα στους προσφυγικούς καταυλισμούς της Αλγερίας. Παιδί\, είδε τη βία να σημαδεύει τη ζωή του με την εκτέλεση του πατέρα του\, και έφτιαξε την πρώτη του κιθάρα από ένα τενεκεδάκι\, ένα ξύλο και ένα σύρμα φρένου ποδηλάτου. Όταν απέκτησε μια αληθινή κιθάρα\, ο ήχος της έγινε το όχημά του: συνδύασε τις μελωδίες των Τουαρέγκ με τα μπλουζ του Ali Farka Touré και τη σύγχρονη αραβική ποπ\, χαράζοντας έναν νέο μουσικό δρόμο. \n\nTinariwen (+IO:I) – Ténéré Tàqqàl (what has become of the Ténéré) \n\n\n\n \nΗ μουσική των Tinariwen: η έρημος σε ήχους \n\nΣτα τέλη της δεκαετίας του ’70\, συνάντησε άλλους μουσικούς της κοινότητας και\, ανάμεσα σε άμμο\, φως και σιωπή\, γεννήθηκαν οι πρώτες συνθέσεις — ύμνοι για την εξορία\, την αντίσταση και την ελπίδα. Αντικαθιστώντας τα όπλα με κιθάρες\, μετέτρεψαν τον αγώνα σε μουσική\, γεννώντας έναν ήχο που\, όπως είπε ο Brian Eno\, «σε κάνει να νιώθεις τη θερμότητα και την απεραντοσύνη της ερήμου μέσα από τον ήχο».\n\nTINARIWEN chaghaybou \n\n\n\nΗ μουσική τους κουβαλά τη φλόγα της ελευθερίας και τη μελαγχολία της απώλειας – ένα ταξίδι από τους καταυλισμούς του Μάλι ως τα μεγαλύτερα φεστιβάλ του κόσμου\, όπου οι Tinariwen αφηγούνται την ψυχή ενός λαού που επιμένει να ονειρεύεται. Οι ρυθμοί τους ακολουθούν το υπνωτικό βήμα της καμήλας\, ενώ οι ηλεκτρικές κιθάρες – ριζωμένες στην παράδοση της λύρας tehardent – μεταφέρουν τη ζέστη\, το φως και τη σιωπή της πατρίδας τους. Στις συναυλίες τους\, η έρημος ζωντανεύει: οι φωνές των Τουαρέγκ γίνονται συλλογική προσευχή και ο ήχος λάμπει σαν ήλιος στον ορίζοντα.Οι στίχοι τους\, γραμμένοι στα Tamasheq\, αφηγούνται την ιστορία ενός λαού που επιμένει να αντιστέκεται· τραγουδούν την ελευθερία\, την ταυτότητα και την αξιοπρέπεια\, μετατρέποντας την έρημο σε σύμβολο ζωής\, αντοχής και ονείρου. \n\n\n\nInfinity Sessions | Tinariwen | Tiwàyyen \n\n\n\nΈνας από τους επόμενους σταθμούς τους είναι και η Αθήνα\, σε μια μοναδική εμφάνιση: το Σάββατο 16 Μαΐου 2026 θα βρεθούν στο Floyd. Σε μια ανοιξιάτικη νύχτα\, οι Tinariwen θα ξεδιπλώσουν πάνω από την πόλη τις ιστορίες τους και θα μας ταξιδέψουν στην κοινή μας πατρίδα. Τη μουσική. \n\nΑκολουθήστε τους Tinariwen\nhttps://www.tinariwen.com/\nFacebook |  Instagram |  X (Twitter) |  YouTube |  Spotify \n\nTINARIWEN \n\nThe Haggar Tour\nΣάββατο 16 Μαΐου 2026\nFLOYD Live Music Venue\n\nΠληροφορίες Εισιτηρίων \n\nΗ προπώληση ξεκινά τη Δευτέρα  3 Νοεμβρίου \n\n\nΤιμές Εισιτηρίων \n\nEarly bird: 25 ευρώ\nA’ φάση προπώλησης: 28 ευρώ\n\nΣημεία Προπώλησης \n\nΗλεκτρονικά: more.com\nτηλεφωνικά 211 7700 000\nmore spots\nNova | Public | Ευριπίδης\nFloyd\nLive Music Venue\nΠειραιώς 117\, Γκάζι 11854\, Aθήνα\n210 3416706
URL:https://stagenews.gr/event/tinariwen-2/
LOCATION:FLOYD\, Πειραιώς 117\, Αθήνα\, Αττική\, Ελλάδα
CATEGORIES:Συναυλίες Αθήνα
ATTACH;FMTTYPE=image/jpeg:https://stagenews.gr/wp-content/uploads/2025/10/TINARIWEN.jpg
END:VEVENT
BEGIN:VEVENT
DTSTART;VALUE=DATE:20260521
DTEND;VALUE=DATE:20260522
DTSTAMP:20260421T122650
CREATED:20251106T193801Z
LAST-MODIFIED:20251106T193914Z
UID:10010671-1779321600-1779407999@stagenews.gr
SUMMARY:Clutch
DESCRIPTION:Οι Clutch επιστρέφουν στην Αθήνα\, το Σάββατο 23 Μαΐου\, στο Floyd Live Music Venue\, για μια βραδιά  καταιγιστικού και παθιασμένου rock ‘n’ roll!\nΤην Πέμπτη 21 Μαΐου\, η μπάντα θα εμφανιστεί στο Principal Club Theater\, στη Θεσσαλονίκη. \nΗ προπώληση ξεκινά την Παρασκευή 7 Νοεμβρίου\, στις 10:00\, προς 39€ και για συγκεκριμένο αριθμό εισιτηρίων. Οι επόμενες φάσεις θα ανακοινωθούν στην πορεία. \nΔιάθεση Εισιτηρίων:\nΤηλεφωνικά στο 2117700000 \nOnline: more.com\nΦυσικά σημεία: https://www.more.com/el/physical-spots/ \nΟι Clutch δημιουργήθηκαν το 1991\, στο Maryland των ΗΠΑ. Σε μια πορεία που\, όταν έρθουν ξανά στην Ελλάδα\, θα έχει συμπληρώσει 35 χρόνια\, το lineup της μπάντας παραμένει αδιαπραγμάτευτα σταθερό: Tim Sult (κιθάρα)\, Dan Maines (μπάσο)\, Jean-Paul Gaster (ντραμς) και\, βέβαια\, Neil Fallon (φωνή\, κιθάρα) αποτελούν την τετράδα-μηχανή που παράγει ένα “διαβολικό” groove ‘n’ roll και ενώνει το heavy rock με τα blues και άλλα\, φαινομενικά ετερόκλητα\, στοιχεία που – στον πλανήτη των Clutch – μοιάζουν απόλυτα φυσιολογικά. \nΑπό το ντεμπούτο άλμπουμ τους μέχρι σήμερα\, παραμένουν απόλυτα προσηλωμένοι σε αυτό που κάνουν\, ξεπερνώντας συνεχώς τον εαυτό τους και μεγαλώνοντας\, εμπορικά και καλλιτεχνικά\, με κάθε νέο τους βήμα. \nΕκεί που πραγματικά μεγαλουργούν είναι η σκηνή\, αφού πρόκειται για μια μπάντα που ζει για να δίνει συναυλίες\, μπροστά σε οπαδούς κάθε ηλικίας. Στη χώρα μας το έχουμε διαπιστώσει πολλές φορές και το ίδιο θα συμβεί και σε αυτή την πολυαναμενόμενη επιστροφή τους\, τέσσερα χρόνια μετά την σπουδαία εμφάνισή τους στο Release Athens! \nΕτοιμαστείτε για μια βραδιά απόλαυσης με “Electric Worry”\, “The Regulator”\, “The Mob Goes Wild”\, “X-Ray Visions”\, “Earth Rocker”\, “A Quick Death in Texas”\, “Red Alert (Boss Metal Zone)” και “We Strive For Excellence”\, “How to Shake Hands”\, “Burning Beard”\, “The Wolf Man Kindly Requests…” και πολλά ακόμα. \nFollow Clutch \nOfficial Website | Facebook  |  Instagram | YouTube \nFloyd live music venue: Πειραιώς 117\, Γκάζι\, Αθήνα\, πλησίον του Στ. Μετρό Κεραμεικός / Τηλ. 210 3416706
URL:https://stagenews.gr/event/clutch/
LOCATION:FLOYD\, Πειραιώς 117\, Αθήνα\, Αττική\, Ελλάδα
CATEGORIES:Συναυλίες Αθήνα
ATTACH;FMTTYPE=image/avif:https://stagenews.gr/wp-content/uploads/2025/11/clutch.avif
END:VEVENT
BEGIN:VEVENT
DTSTART;VALUE=DATE:20260918
DTEND;VALUE=DATE:20260919
DTSTAMP:20260421T122650
CREATED:20251208T194619Z
LAST-MODIFIED:20251208T194622Z
UID:10010960-1789689600-1789775999@stagenews.gr
SUMMARY:Satyricon Live: Οι ηγέτες του Black Metal στο Floyd
DESCRIPTION:Οι Satyricon επιστρέφουν στην Αθήνα\, μετά από πολλά χρόνια\, την Παρασκευή 18 Σεπτεμβρίου στο Floyd Live Music Venue. Oι ηγέτες της νορβηγικής black metal σκηνής έρχονται για να μας αποδείξουν πως\, σχεδόν 35 χρόνια από το ξεκίνημά τους\, παραμένουν ανελέητοι και μεγαλειώδεις! \n  \nΗ διάθεση των εισιτηρίων ξεκινά την Τετάρτη 10/12 στις 12:00\, με πρώτη τιμή τα 34€\, για περιορισμένο αριθμό. Οι επόμενες φάσεις θα ανακοινωθούν στην πορεία. \n  \nΠρωτοπόροι\, ιδιοσυγκρασιακοί και μόνιμα «αιρετικοί»\, οι Satyricon οδήγησαν την ήδη ακμάζουσα black metal σκηνή των 90s σε νέους\, ακόμη πιο σκοτεινούς και συναρπαστικούς δρόμους\, με δίσκους που όρισαν το είδος\, ενώ έγιναν και οι πρώτοι που υπέγραψαν σε πολυεθνική δισκογραφική. \n  \nΜε τη μυθική τριπλέτα “Dark Medieval Times” (1993)\, “The Shadowthrone” (1994) και “Nemesis Divina” (1996) επέβαλαν το δικό τους μανιφέστο υπολογισμένης ψυχρότητας και δύναμης\, με τη συνέχεια – με albums όπως τα “Rebel Extravaganza”\, “Now\, Diabolical” και “Deep Calleth Upon Deep” – να κάνει πράξη τα λόγια των δύο μόνιμων μελών τους\, του frontman Satyr και του ντράμερ-θηρίου Frost: πως οι Satyricon αναζητούν με τόλμη νέα ηχητικά μονοπάτια\, μένοντας πάντα πιστοί στον πυρήνα του black metal. \n  \nΜε τη νέα δουλειά τους να αναμένεται μέσα στη νέα χρονιά\, η τελευταία τους κυκλοφορία ήταν ο δίσκος “Satyricon & Munch” (2022)\, ένα project εμπνευσμένο από τα έργα του θρυλικού εικαστικού Edvard Munch\, το οποίο συνόδευσε ηχητικά έκθεση στο διάσημο μουσείο. \nΤο φθινόπωρο του 2026 θα ξεκινήσει με μια βραδιά που θα τιμήσει όχι μόνο το black metal αλλά και τον σκληρό ήχο συνολικά\, με τους Νορβηγούς βασιλιάδες να επαναφέρουν στη σκηνή ύμνους όπως τα “Mother North”\, “Transcendental Requiem Of Slaves”\, “The Pentagram Burns”\, “Fuel For Hatred”\, “K.I.N.G.”\, ”Walk the Path of Sorrow”\, ”Black Crow on a Tombstone”\, σε ένα setlist που υπόσχεται καθαρτική ένταση και ατμόσφαιρα. \nFollow Satyricon \nFacebook |  Spotify |  Instagram |  YouTube |  X \nΔιάθεση εισιτηρίων: \n\nΤηλεφωνικά στο 2117700000\nOnline more.com / Floyd.gr\nΦυσικά σημεία: Καταστήματα Νova\, Public\, Ευριπίδης\, Yoleni’s\, Viva Spot Τεχνόπολης.
URL:https://stagenews.gr/event/satyricon-live-oi-igetes-tou-black-metal-sto-floyd/
LOCATION:FLOYD\, Πειραιώς 117\, Αθήνα\, Αττική\, Ελλάδα
CATEGORIES:Συναυλίες Αθήνα
ATTACH;FMTTYPE=image/webp:https://stagenews.gr/wp-content/uploads/2025/12/satyricon_some.webp
END:VEVENT
BEGIN:VEVENT
DTSTART;TZID=Europe/Athens:20260919T080000
DTEND;TZID=Europe/Athens:20260919T170000
DTSTAMP:20260421T122650
CREATED:20260216T200614Z
LAST-MODIFIED:20260301T212407Z
UID:10011500-1789804800-1789837200@stagenews.gr
SUMMARY:Οι Snarky Puppy στο Floyd Live Music Venue: Οι 5 φορές νικητές Grammy επιστρέφουν στην Αθήνα
DESCRIPTION:Μια κολεκτίβα που επαναπροσδιορίζει τη μουσική\nΤο Σάββατο 19 Σεπτεμβρίου 2026\, το Floyd Live Music Venue υποδέχεται τους Snarky Puppy\, ένα από τα πιο επιδραστικά σχήματα της σύγχρονης παγκόσμιας σκηνής. Με αφετηρία το Τέξας πριν από δύο δεκαετίες\, η πολυβραβευμένη κολεκτίβα έχει καταφέρει να καταρρίψει τα στεγανά ανάμεσα στη funk\, τη jazz\, το hard rock και τη soul\, δημιουργώντας έναν ήχο που οι New York Times περιέγραψαν εύστοχα: «Αποδεχτείτε τους για αυτό που είναι\, αντί να τους κρίνετε για αυτό που δεν είναι». \nMichael League: Ο «ελεγκτής κυκλοφορίας»\nΣτον πυρήνα των Snarky Puppy βρίσκεται ο μπασίστας και ιδρυτής Michael League. Στις ζωντανές τους εμφανίσεις\, ο League λειτουργεί ως «ελεγκτής κυκλοφορίας»\, δίνοντας στους μουσικούς του —που έχουν συνεργαστεί με ονόματα όπως ο Prince\, ο David Bowie και ο Kendrick Lamar— την ελευθερία να αυτοσχεδιάσουν\, διατηρώντας πάντα την ακρίβεια της σύνθεσης. Το αποτέλεσμα είναι μια οργανική εμπειρία όπου ο αυθορμητισμός συναντά το απόλυτο groove. \nΗ νέα κυκλοφορία «Somni»\nΗ επίσκεψη των Snarky Puppy στην Αθήνα έρχεται σε μια περίοδο δημιουργικής ακμής. Τον Νοέμβριο του 2025 κυκλοφόρησαν το άλμπουμ «Somni»\, μια ιστορική συνεργασία με τη συμφωνική Metropole Orkest της Ολλανδίας. Η ηχογράφηση έγινε ζωντανά στην Ουτρέχτη και το αποτέλεσμα είναι ένα επικό μουσικό ταξίδι που παντρεύει τη jazz με την pop και την κλασική μουσική σε συμφωνική κλίμακα. \nΠληροφορίες Εισιτηρίων\n\n\n\nΦάση Προπώλησης\nΗμερομηνία Έναρξης\nΤιμή\n\n\n\n\nΕιδική Προπώληση\nΤετάρτη 18 Φεβρουαρίου (10:00)\nΔείτε τα κανάλια της μπάντας\n\n\nΓενική Προπώληση\nΠαρασκευή 20 Φεβρουαρίου (10:00)\n40€ (Περιορισμένος αριθμός)\n\n\n\nΣημεία Διάθεσης: \n\n\nOnline: More.com & Floyd.gr \n\n\nΤηλεφωνικά: 2117700000 \n\n\nΦυσικά Σημεία: Δίκτυο καταστημάτων More.com
URL:https://stagenews.gr/event/snarky-puppy-athens-floyd-live-2026/
LOCATION:FLOYD\, Πειραιώς 117\, Αθήνα\, Αττική\, Ελλάδα
CATEGORIES:Συναυλίες Αθήνα
ATTACH;FMTTYPE=image/jpeg:https://stagenews.gr/wp-content/uploads/2026/02/snarkipuppy.jpg
END:VEVENT
BEGIN:VEVENT
DTSTART;VALUE=DATE:20261107
DTEND;VALUE=DATE:20261108
DTSTAMP:20260421T122650
CREATED:20260408T192947Z
LAST-MODIFIED:20260408T194535Z
UID:10011770-1794009600-1794095999@stagenews.gr
SUMMARY:Οι Sleaford Mods επιστρέφουν στην Αθήνα για ένα σαρωτικό live στο Floyd
DESCRIPTION:Οι Sleaford Mods επιστρέφουν στην Αθήνα: Ένα εκρηκτικό electro-punk live στο Floyd\nΕτοιμαστείτε για μια βραδιά γεμάτη οργή\, ωμή αλήθεια και ασταμάτητα beats. Το αυθάδικο και σαρωτικό ντουέτο των Sleaford Mods επιστρέφει στην Αθήνα το Σάββατο 7 Νοεμβρίου\, για μια εμφάνιση στο Floyd Live Music Venue που\, όπως υπόσχονται\, δεν θα μοιάζει με τίποτα από όσα έχετε δει μέχρι σήμερα. \nΜετρώντας σχεδόν 20 χρόνια πορείας\, ο «πολεμικός ανταποκριτής της μεσαίας τάξης» Jason Williamson και ο «μάγος» των ήχων Andrew Fearn είναι οι άνθρωποι που έβαλαν το “Do” στο “DIY”. Ξεκινώντας από σκοτεινά υπόγεια\, κατάφεραν να φτάσουν σε sold-out παγκόσμιες περιοδείες\, δίσκους στο Top 5 και headline θέσεις στα μεγαλύτερα φεστιβάλ του πλανήτη. \nΗ “αξιόπιστη” μπάντα του καιρού μας\nΙδιοσυγκρασιακοί και ακαταμάχητοι\, οι Sleaford Mods έχουν αφήσει το δικό τους\, ανεξίτηλο αποτύπωμα. Οι κριτικοί έχουν προσπαθήσει πολλές φορές να τους βάλουν ταμπέλες: «electro-punk»\, «rap-punk»\, «minimalist spoken word» ή απλώς «μια ποιητική έκρηξη θυμού και μια ταξική αγανάκτηση που αναζητά τρόπο να ξεσπάσει». Όποιος κι αν είναι ο ορισμός\, η ουσία παραμένει η ίδια. Όπως έχει δηλώσει ανοιχτά και ο θρυλικός Iggy Pop: \n«Τους αγαπώ. Είναι η πιο αξιόπιστη μπάντα του καιρού μας\, η οποία δεν στηρίζεται σε παραδοσιακά κλισέ για να σε κάνει να αισθάνεσαι ωραία.» \nΤο νέο άλμπουμ «The Demise Of Planet X»\nΣτην Αθήνα καταφθάνουν έχοντας στις αποσκευές τους τον φετινό τους δίσκο\, «The Demise Of Planet X»\, ο οποίος θεωρείται ήδη από τα μεγαλύτερα highlights της καριέρας τους. Ο δίσκος ξεχωρίζει για τις ποικίλες ηχητικές διαφοροποιήσεις του\, διατηρώντας ωστόσο ανέπαφη την ωμή\, κατάμαυρου χιούμορ κριτική τους για τη σύγχρονη πραγματικότητα. \nΓια άλλη μια φορά\, το ντουέτο επιστρατεύει αναπάντεχους και σπουδαίους guests που δίνουν μια διαφορετική διάσταση στο άλμπουμ: \n\nΤην Gwendoline Christie (γνωστή από τα Severance και Game of Thrones)\nΤους ανερχόμενους Big Special\nΤην εξαιρετική Aldous Harding\nΤην Sue Tompkins (από τους Life Without Buildings)\n\nΠληροφορίες & Προπώληση Εισιτηρίων\nΤο κοινό των Sleaford Mods στην Ελλάδα μεγαλώνει διαρκώς\, και το συγκρότημα έρχεται στην Αθήνα ακριβώς τη στιγμή που τους χρειαζόμαστε περισσότερο. Εξασφαλίστε τη θέση σας εγκαίρως! \n\nΠού: Floyd Live Music Venue\, Αθήνα\nΠότε: Σάββατο 7 Νοεμβρίου\nArtist Presale: Ξεκινά τη Μ. Πέμπτη 9 Απριλίου στις 12:00 (Μέσω του newsletter/καναλιών του συγκροτήματος).\nΓενική Προπώληση: Ξεκινά τη Μ. Παρασκευή 10 Απριλίου στις 10:00.\nΤιμή (A’ Φάση): 32€ (Για περιορισμένο αριθμό εισιτηρίων. Οι επόμενες φάσεις θα ανακοινωθούν στην πορεία).\n\nΔιάθεση εισιτηρίων: Τηλεφωνικά στο 2117700000\, online στα more.com & Floyd.gr\, καθώς και στα συνεργαζόμενα φυσικά σημεία.
URL:https://stagenews.gr/event/sleaford-mods-floyd-athens-live-concert/
LOCATION:FLOYD\, Πειραιώς 117\, Αθήνα\, Αττική\, Ελλάδα
CATEGORIES:Συναυλίες Αθήνα
ATTACH;FMTTYPE=image/webp:https://stagenews.gr/wp-content/uploads/2026/04/sf-socials.webp
END:VEVENT
BEGIN:VEVENT
DTSTART;VALUE=DATE:20261108
DTEND;VALUE=DATE:20261109
DTSTAMP:20260421T122650
CREATED:20260414T200244Z
LAST-MODIFIED:20260414T200249Z
UID:10011782-1794096000-1794182399@stagenews.gr
SUMMARY:Οι Uriah Heep επιστρέφουν στο Floyd για το τελευταίο live τους στην Ελλάδα!
DESCRIPTION:Ένα μεγαλειώδες αντίο: Οι Uriah Heep έρχονται στο Floyd για την τελευταία τους εμφάνιση στην Ελλάδα\nΉρθε η ώρα για τον μεγάλο αποχαιρετισμό. Οι θρυλικοί Uriah Heep\, μια από τις πιο εμβληματικές μπάντες στην ιστορία της rock μουσικής\, επιστρέφουν στη χώρα μας για μία και μοναδική\, τελευταία εμφάνιση. Την Κυριακή 8 Νοεμβρίου\, το Floyd Live Music Venue θα φιλοξενήσει τη βρετανική μπάντα στο πλαίσιο της αποχαιρετιστήριας περιοδείας τους\, “The Magician’s Farewell”. \nΑνεβαίνοντας στη σκηνή με ένα πλούσιο\, greatest hits setlist\, οι Uriah Heep ετοιμάζονται να προσφέρουν ένα μεγαλειώδες αντίο στο ελληνικό κοινό\, τιμώντας τις αμέτρητες στιγμές που έχουν μοιραστεί μαζί του εδώ και δεκαετίες. \nΟι “Beach Boys του Heavy Metal” και η χρυσή δεκαετία των ’70s\nΧωρίς καμία αμφιβολία\, οι Uriah Heep αποτελούν μια μπάντα-θεσμό που άφησε ανεξίτηλο το στίγμα της στην κοσμογονική δεκαετία του ’70. Αποτέλεσαν θεμέλιο λίθο του progressive hard rock\, διαμορφώνοντας έναν απόλυτα αναγνωρίσιμο\, δικό τους ήχο. Μαζί με τους Led Zeppelin\, τους Black Sabbath και τους Deep Purple\, συνέβαλαν καθοριστικά στη διαμόρφωση του βρετανικού heavy metal. \nΥπήρξαν πρωτοπόροι στην ενσωμάτωση του Hammond organ στον σκληρό ήχο της εποχής\, κάτι που σε συνδυασμό με την κιθάρα-σήμα κατατεθέν του ηγέτη τους\, Mick Box\, και την χαρακτηριστική χρήση πολυφωνικών φωνητικών\, τους χάρισε τον τίτλο «The Beach Boys of Heavy Metal». \n“Με περισσότερους από 25 studio δίσκους και πάνω από 40 εκατομμύρια πωλήσεις παγκοσμίως\, η κληρονομιά των Uriah Heep περιλαμβάνει ύμνους όπως τα ‘Lady in Black’\, ‘July Morning’\, ‘Easy Livin’’ και ‘Gypsy’.” \nΗ Περιοδεία «The Magician’s Farewell»\nΗ αποχαιρετιστήρια περιοδεία ξεκίνησε τον Ιανουάριο και αναμένεται να περάσει από κάθε γωνιά του πλανήτη\, σηματοδοτώντας το οριστικό κλείσιμο μιας τεράστιας πορείας. Είναι η τελευταία ευκαιρία να ζήσουμε ζωντανά τη μαγεία μιας μπάντας που κάποτε (το 1987) έπαιξε στη Μόσχα μπροστά σε 180.000 θεατές! \n\nΠληροφορίες Προπώλησης & Εισιτήρια\nΛόγω της ιστορικότητας της βραδιάς\, η ζήτηση αναμένεται τεράστια. Έχουν προγραμματιστεί δύο φάσεις προπώλησης: \n\nArtist Presale (μέσω Spotify): Ξεκινά την Τετάρτη 15 Απριλίου στις 11:00 και θα διαρκέσει για 24 ώρες (σχετική ενημέρωση θα υπάρξει από τα επίσημα κανάλια της μπάντας).\nΓενική Προπώληση: Ξεκινά την Παρασκευή 17 Απριλίου στις 10:00.\nΤιμές Εισιτηρίων: 45€ (Για περιορισμένο αριθμό). Μετά την εξάντλησή τους\, η τιμή θα διαμορφωθεί στα 50€.\n\nΔιάθεση εισιτηρίων: Τηλεφωνικά στο 2117700000\, online στα more.com και Floyd.gr\, καθώς και στα συνεργαζόμενα φυσικά σημεία του δικτύου more.
URL:https://stagenews.gr/event/uriah-heep-the-magicians-farewell-tour-floyd-athens/
LOCATION:FLOYD\, Πειραιώς 117\, Αθήνα\, Αττική\, Ελλάδα
CATEGORIES:Συναυλίες Αθήνα
ATTACH;FMTTYPE=image/webp:https://stagenews.gr/wp-content/uploads/2026/04/uriah-heep.webp
END:VEVENT
END:VCALENDAR