BEGIN:VCALENDAR
VERSION:2.0
PRODID:-//Stage News - ECPv6.15.17//NONSGML v1.0//EN
CALSCALE:GREGORIAN
METHOD:PUBLISH
X-ORIGINAL-URL:https://stagenews.gr
X-WR-CALDESC:Events for Stage News
REFRESH-INTERVAL;VALUE=DURATION:PT1H
X-Robots-Tag:noindex
X-PUBLISHED-TTL:PT1H
BEGIN:VTIMEZONE
TZID:Europe/Athens
BEGIN:DAYLIGHT
TZOFFSETFROM:+0200
TZOFFSETTO:+0300
TZNAME:EEST
DTSTART:20240331T010000
END:DAYLIGHT
BEGIN:STANDARD
TZOFFSETFROM:+0300
TZOFFSETTO:+0200
TZNAME:EET
DTSTART:20241027T010000
END:STANDARD
BEGIN:DAYLIGHT
TZOFFSETFROM:+0200
TZOFFSETTO:+0300
TZNAME:EEST
DTSTART:20250330T010000
END:DAYLIGHT
BEGIN:STANDARD
TZOFFSETFROM:+0300
TZOFFSETTO:+0200
TZNAME:EET
DTSTART:20251026T010000
END:STANDARD
BEGIN:DAYLIGHT
TZOFFSETFROM:+0200
TZOFFSETTO:+0300
TZNAME:EEST
DTSTART:20260329T010000
END:DAYLIGHT
BEGIN:STANDARD
TZOFFSETFROM:+0300
TZOFFSETTO:+0200
TZNAME:EET
DTSTART:20261025T010000
END:STANDARD
END:VTIMEZONE
BEGIN:VEVENT
DTSTART;TZID=Europe/Athens:20251107T220000
DTEND;TZID=Europe/Athens:20251107T220000
DTSTAMP:20260424T025617
CREATED:20251028T153009Z
LAST-MODIFIED:20251028T153012Z
UID:10010542-1762552800-1762552800@stagenews.gr
SUMMARY:Λευτέρης Πασσιάς | ΣΕΡΡΕΣ
DESCRIPTION:Ο Λευτέρης Πασσιάς στις Σέρρες και στην Καβάλα!\n Παρασκευή 7 Νοεμβρίου: EKKO live stage / Σέρρες \nΣάββατο 8 Νοεμβρίου: Sante bar / Καβάλα \n Γεια σου Παρέα! \nΜε αφορμή τον δεύτερο προσωπικό δίσκο του που μόλις κυκλοφόρησε με τίτλο «Γεια σου παρέα»\, ο Λευτέρης Πασσιάς στήνει γλέντι σε κάθε πόλη για να το γιορτάσει! \nΤην Παρασκευή 7 Νοεμβρίου στο ΕΚΚΟ Live stage στις Σέρρες και το Σάββατο 8 Νοεμβρίου στο Sante Bar στην Καβάλα\, με εξαιρετικούς μουσικούς – συνοδοιπόρους ο Λευτέρης Πασσιάς σας περιμένει να τραγουδήσουμε\, να συγκινηθούμε\, να γελάσουμε\, να ζήσουμε\, σε ένα live που θα μείνει αξέχαστο!  Έτσι όπως μόνο οι παρέες οι καρδιακές ξέρουν να κάνουν! \nΠληροφορίες: \n  \nΠαρασκευή 7 Νοεμβρίου 2025 \nΕΚΚΟ Live stage\nΒενιζέλου 30\, Σέρρες \nΏρα έναρξης: 22.00 \nΚρατήσεις: 6944160264 \nΕίσοδος: 10 ευρώ \n  \nΠαίζουν οι μουσικοί: \nΠάνος Αϊβαζίδης – Κανονάκι \nΓιάννης Γκιρίνης – Τύμπανα \nΓιάννης Καμπανταΐδης – Άταστο ηλεκτρικό μπάσο \nΚατερίνα Κάργιου – Τραγούδι \nΤάσος Παπαδόπουλος – Ηλεκτρική κιθάρα \nΣάββατο 8 Νοεμβρίου 2025 \nSante Bar \nΕρυθρού Σταυρού 28\, Καβάλα \nΏρα έναρξης: 22.00 \nΚρατήσεις: 2510 226755 – 6945 933781 \nΕίσοδος: 7 ευρώ \nΠαίζουν οι μουσικοί: \nΠάνος Αϊβαζίδης – Κανονάκι \nΓιάννης Γκιρίνης – Τύμπανα \nΛίγα λόγια για τον Λευτέρη Πασσιά \nΟ Λευτέρης Πασσιάς είναι μουσικός\, συνθέτης και τραγουδοποιός από τις Σέρρες. Εργάζεται ως μόνιμος καθηγητής μουσικής στην ειδική αγωγή. Είναι Διδάκτωρ του Μουσικής Επιστήμης και τέχνης του Πανεπιστημίου Μακεδονίας με ειδίκευση στην Ποιητική (Τέχνη της Σύνθεσης – Μελοποιία – Ποίηση στην Παραδοσιακή Μουσική). Ιδρυτικό μέλος της Ομάδας αφήγησης παραμυθιών “Παραμυθολαλίτσες” και πρόεδρος του συλλόγου φίλων παραμυθιού “Παραμυθία” οργανώνοντας και το ομώνυμο φεστιβάλ παραμυθιού εδώ και 4 χρόνια. \nΤο συνθετικό και παιδαγωγικό του έργο έχει βραβευτεί σε πανελλήνιους και διεθνείς διαγωνισμούς\, ενώ τα τελευταία χρόνια είναι έντονη η παρουσία του στη δισκογραφία με αξιόλογες συνεργασίες. \nΤο 2023 κυκλοφορεί ο πρώτος του προσωπικός δίσκος\, το άλμπουμ «Μικρές Στιγμές» (Ogdoo Music Group)\, με τη συμμετοχή των Μίλτου Πασχαλίδη\, Έλσας Μουρατίδου\, Νατάσας Τσακηρήδου\, Ναταλίας Λαμπαδάκη και Χρήστου Πασσιά. Το 2024\, παρουσίασε το single «Φύλακας στις Αλυκές του Κόσμου» —μια συλλογική δημιουργία με την Έλσα Μουρατίδου\, τον Καίσαρα Κίκη και πλήθος καλλιτεχνών\, αφιερωμένη στο σπίτι του Φύλακα της Αλυκής στο Αγγελοχώρι Θεσσαλονίκης. Το τραγούδι “Γεια σου παρέα!” με τον Γιάννη Χαρούλη κυκλοφορεί τον Μάιο του 2025 και είναι ο προπομπός του άλμπουμ «Γεια σου Παρέα»\, το οποίο μόλις κυκλοφόρησε! Το τραγούδι χαίρει μεγάλης αποδοχής από το κοινό και τα ραδιόφωνα ήδη\, ενώ γίνεται σύνθημα στις συναυλίες που εμφανίζεται μαζί με τον Γιάννη Χαρούλη. Στη δεύτερη αυτή ολοκληρωμένη δουλειά συμμετέχουν οι Γιάννης Χαρούλης\, Σαββέρια Μαργιολά\, Γιάννης Διονυσίου και Κατερίνα Κάργιου. \nΤα τραγούδια του Λευτέρη Πασσιά είναι ένας ύμνος στην αποδοχή\, την ενσυναίσθηση\, την αγάπη. Με θέματα που αντλούνται από την αναζήτηση εαυτού\, το κοινωνικό και πολιτικό γίγνεσθαι\, έρχονται να πάρουν θέση και να προτείνουν έναν κόσμο ανάληψης ευθύνης\, δημιουργίας\, αλήθειας! Απλές μουσικές φόρμες\, στίχοι με ευθύτητα και έντονα συναισθηματικά και κοινωνικά μηνύματα. Οι ενορχηστρώσεις των τραγουδιών είναι εστιασμένες στην ιδιαιτερότητα του μουσικού ύφους και του μηνύματος που θέλει να περάσει σε κάθε ένα από αυτά ο δημιουργός\, δένοντας παραδοσιακά και ηλεκτρικά στοιχεία σε μία ολοκληρωμένη μουσική και στιχουργική πρόταση. \nΕπί σκηνής έχει συνεργαστεί με τον Μίλτο Πασχαλίδη\, τον Γιάννη Χαρούλη\, την Σαββέρια Μαργιολά\, τον Βασίλη Λέκκα\, τον Κώστα Πρατσινάκη\, την Έλσα Μουρατίδου και άλλους. \nΤα live του Λευτέρη Πασσιά διακρίνονται για την έντονη επικοινωνία τους με το κοινό\, την διάθεση για τραγούδι και την αίσθηση της παρέας\, κάτι που μπορεί να οδηγήσει σε στιγμές ψυχαγωγίας και έκστασης! Ακούσματα από το ευρύτατο φάσμα της ελληνικής δισκογραφίας δένουν με την προσωπική δουλειά του Λευτέρη μέσα από εστιασμένες ενορχηστρώσεις στην ιδιοσυγκρασία κάθε τραγουδιού\, που ακουμπούν στα ακούσματα της παράδοσης\, της ροκ\, του έντεχνου ελληνικού τραγουδιού! \nΜπορείτε να ακούσετε το album «Γεια σου παρέα» στο YouTube ΕΔΩ \nκαι στο Spotify ΕΔΩ 
URL:https://stagenews.gr/event/lefteris-passias-serres/
LOCATION:EKKO LIVE STAGE – Σέρρες\, Βασ. Βασιλείου 30\, Σέρρες\, 621 00\, Ελλάδα
CATEGORIES:Συναυλίες Υπόλοιπη Ελλάδα
ATTACH;FMTTYPE=image/jpeg:https://stagenews.gr/wp-content/uploads/2025/10/pasiasserres.jpg
END:VEVENT
END:VCALENDAR