BEGIN:VCALENDAR
VERSION:2.0
PRODID:-//Stage News - ECPv6.15.17//NONSGML v1.0//EN
CALSCALE:GREGORIAN
METHOD:PUBLISH
X-ORIGINAL-URL:https://stagenews.gr
X-WR-CALDESC:Events for Stage News
REFRESH-INTERVAL;VALUE=DURATION:PT1H
X-Robots-Tag:noindex
X-PUBLISHED-TTL:PT1H
BEGIN:VTIMEZONE
TZID:Europe/Athens
BEGIN:DAYLIGHT
TZOFFSETFROM:+0200
TZOFFSETTO:+0300
TZNAME:EEST
DTSTART:20240331T010000
END:DAYLIGHT
BEGIN:STANDARD
TZOFFSETFROM:+0300
TZOFFSETTO:+0200
TZNAME:EET
DTSTART:20241027T010000
END:STANDARD
BEGIN:DAYLIGHT
TZOFFSETFROM:+0200
TZOFFSETTO:+0300
TZNAME:EEST
DTSTART:20250330T010000
END:DAYLIGHT
BEGIN:STANDARD
TZOFFSETFROM:+0300
TZOFFSETTO:+0200
TZNAME:EET
DTSTART:20251026T010000
END:STANDARD
BEGIN:DAYLIGHT
TZOFFSETFROM:+0200
TZOFFSETTO:+0300
TZNAME:EEST
DTSTART:20260329T010000
END:DAYLIGHT
BEGIN:STANDARD
TZOFFSETFROM:+0300
TZOFFSETTO:+0200
TZNAME:EET
DTSTART:20261025T010000
END:STANDARD
END:VTIMEZONE
BEGIN:VEVENT
DTSTART;TZID=Europe/Athens:20251126T200000
DTEND;TZID=Europe/Athens:20251126T200000
DTSTAMP:20260423T181421
CREATED:20251115T111942Z
LAST-MODIFIED:20251115T111945Z
UID:10010765-1764187200-1764187200@stagenews.gr
SUMMARY:Στέλλα Βιολάντη στην Καλλιθέα
DESCRIPTION:Τετάρτη 26 Νοεμβρίου 2025\n20.00 «ΣΤΕΛΛΑ ΒΙΟΛΑΝΤΗ» Θεατρική Παράσταση.\nΤου Γρηγόριου Ξενόπουλου σε σκηνοθεσία: Σ. Μπαντούνας.\nΠρωταγωνιστούν: Αλμπέρτο Εσκενάζη\, Αθηνά Μαυτομάτη\, Νίκος Σταματόπουλος\, Κέλλυ Ανυφαντή\, Απόστολος Τζίκας\, Σάρα Εσκενάζη\, Σκηνικά Κουστούμια: Μ. Σδούγκος\nΕΙΣΟΔΟΣ ΕΛΕΥΘΕΡΗ \nΔΗΜΟΤΙΚΟ ΘΕΑΤΡΟ ΚΑΛΛΙΘΕΑΣ (Κρέμου 123 & Φιλαρέτου) \n 
URL:https://stagenews.gr/event/stella-violanti-stin-kallithea/
LOCATION:Δημοτικό Θέατρο Καλλιθέας\, Κρέμου 123\, Καλλιθέα\, Αττικής\, Greece
CATEGORIES:Δωρεάν εκδηλώσεις Αθήνα,Παραστάσεις Αθήνα
ATTACH;FMTTYPE=image/jpeg:https://stagenews.gr/wp-content/uploads/2025/11/stela-violanti.jpg
END:VEVENT
END:VCALENDAR