BEGIN:VCALENDAR
VERSION:2.0
PRODID:-//Stage News - ECPv6.15.17//NONSGML v1.0//EN
CALSCALE:GREGORIAN
METHOD:PUBLISH
X-ORIGINAL-URL:https://stagenews.gr
X-WR-CALDESC:Events for Stage News
REFRESH-INTERVAL;VALUE=DURATION:PT1H
X-Robots-Tag:noindex
X-PUBLISHED-TTL:PT1H
BEGIN:VTIMEZONE
TZID:Europe/Athens
BEGIN:DAYLIGHT
TZOFFSETFROM:+0200
TZOFFSETTO:+0300
TZNAME:EEST
DTSTART:20230326T010000
END:DAYLIGHT
BEGIN:STANDARD
TZOFFSETFROM:+0300
TZOFFSETTO:+0200
TZNAME:EET
DTSTART:20231029T010000
END:STANDARD
BEGIN:DAYLIGHT
TZOFFSETFROM:+0200
TZOFFSETTO:+0300
TZNAME:EEST
DTSTART:20240331T010000
END:DAYLIGHT
BEGIN:STANDARD
TZOFFSETFROM:+0300
TZOFFSETTO:+0200
TZNAME:EET
DTSTART:20241027T010000
END:STANDARD
BEGIN:DAYLIGHT
TZOFFSETFROM:+0200
TZOFFSETTO:+0300
TZNAME:EEST
DTSTART:20250330T010000
END:DAYLIGHT
BEGIN:STANDARD
TZOFFSETFROM:+0300
TZOFFSETTO:+0200
TZNAME:EET
DTSTART:20251026T010000
END:STANDARD
END:VTIMEZONE
BEGIN:VEVENT
DTSTART;TZID=Europe/Athens:20241125T210000
DTEND;TZID=Europe/Athens:20241125T210000
DTSTAMP:20260419T080334
CREATED:20241010T210000Z
LAST-MODIFIED:20241024T065848Z
UID:10001523-1732568400-1732568400@stagenews.gr
SUMMARY:ΕΘΙΣΜΟΣ Millennials Winter Tour | ΛΑΡΙΣΑ
DESCRIPTION:Φέτος το καλοκαίρι ο ΕΘΙΣΜΟΣ παρουσίασε τον νέο του δίσκο Millennials σε Αθήνα\, Θεσσαλονίκη και σε φεστιβάλ. \nΣειρά έχει το Millennials Winter Tour. \nOn decks : Melow \n\nΠρόγραμμα εμφανίσεων \n\n\nΣάββατο  26/10 | 21:00 | Ανδρομέδα Μουσικό Στέκι – Τρίκαλα\n\n\nΠαρασκευή  1/11 | 21:00 | Royal Theater – Πάτρα\n\n\n\n\nΠαρασκευή 8/11 | 21:00 |Misirlou Live Stage – Ξάνθη\n\n\n\n\n\nΚυριακή 10/11 | 21:00 | Paspartu Live Stage – Κομοτηνή\n\n\n\n\n\nΣάββατο 16/11 | 21:00 |Οδός Ονείρων – Χαλκίδα\n\n\n\n\n\nΣάββατο 23/11 | 21:00 | ΠΟΛΥΧΩΡΟΣ ΑΓΟΡΑ – Ιωάννινα\n\n\n\n\n\n\nΣάββατο 25/1/25 | 21:00 | Circus Entertainment Hub – Λάρισα \nΠροπώληση more.com
URL:https://stagenews.gr/event/ethismos-millennials-winter-tour-larisa/
LOCATION:Circus Entertainment Hub\, Eρυθρού Σταυρού 4\, Λάρισα\, Ελλάδα
CATEGORIES:Συναυλίες Υπόλοιπη Ελλάδα
ATTACH;FMTTYPE=image/jpeg:https://stagenews.gr/wp-content/uploads/2024/10/ethismos-1.jpg
END:VEVENT
BEGIN:VEVENT
DTSTART;TZID=Europe/Athens:20241109T203000
DTEND;TZID=Europe/Athens:20241109T203000
DTSTAMP:20260419T080334
CREATED:20241016T210000Z
LAST-MODIFIED:20241023T150417Z
UID:10000872-1731184200-1731184200@stagenews.gr
SUMMARY:15 Χρόνια TNT - Winter Tour | ΛΑΡΙΣΑ
DESCRIPTION:TΝΤ 15 Χρόνια “Δυτικά Προάστια και Βαβούρες” – Winter Tour \nΜετά τη συναυλιακή γιορτή για τα 15 χρόνια του στην Αθήνα\, ο ΤΝΤ βάζει μπρος και ξεκινάει την χειμερινή του περιοδεία\, γεμάτη παλμό\, σε πολλά σημεία της χώρας. \nΑπό κάπου στα δυτικά από την Ακρόπολη αρχίζει τον Νοέμβριο μια συναυλιακή διαδρομή που θα περάσει από Βόλο\, Λάρισα\, Λαμία\, Πάτρα\, Καλαμάτα και Θεσσαλονίκη. \nΜε πέντε δίσκους στο ενεργητικό του\, ο ΤΝΤ έχει δημιουργήσει μια μοναδική μουσική πορεία\, μέσα σε ταξίδι 15 χρόνων γεμάτο δράσεις και έμπνευση.\nΣε κάθε στάση θα βρίσκονται και αγαπημένοι guests. \nΣτα decks θα βρίσκεται ο DJ Gzas. \nΠρόγραμμμα εμφανίσεων \n\n\nΣαβ 9/11 | 20:30 |  Circus Entertainment Hub – Λάρισα\n\n\n\n\n\nΣαβ 16/11 | 20:30 | Τρυποκάρυδος – Λαμία\n\n\n\n\n\nΠαρ 29/11 | 20:30 | Frida Bar n’ Stage – Πάτρα\n\n\n\n\n\nΣαβ 30/11 | 20:30 | Brooklyn Live Stage – Καλαμάτα\n\n\n\n\n\nΣαβ 14/12 | 20:30 | WE\, Πολυχώρος Πολιτισμού & Αθλητισμού – Θεσσαλονίκη\n\n\n\n\nΤιμές εισιτηρίων: Early Birds 10€\, Presale 12€ στο more.com
URL:https://stagenews.gr/event/15-chronia-tnt-winter-tour-larisa/
LOCATION:Circus Entertainment Hub\, Eρυθρού Σταυρού 4\, Λάρισα\, Ελλάδα
CATEGORIES:Συναυλίες Υπόλοιπη Ελλάδα
ATTACH;FMTTYPE=image/jpeg:https://stagenews.gr/wp-content/uploads/2024/10/tnt-2.jpg
END:VEVENT
END:VCALENDAR