BEGIN:VCALENDAR
VERSION:2.0
PRODID:-//Stage News - ECPv6.15.17//NONSGML v1.0//EN
CALSCALE:GREGORIAN
METHOD:PUBLISH
X-ORIGINAL-URL:https://stagenews.gr
X-WR-CALDESC:Events for Stage News
REFRESH-INTERVAL;VALUE=DURATION:PT1H
X-Robots-Tag:noindex
X-PUBLISHED-TTL:PT1H
BEGIN:VTIMEZONE
TZID:Europe/Athens
BEGIN:DAYLIGHT
TZOFFSETFROM:+0200
TZOFFSETTO:+0300
TZNAME:EEST
DTSTART:20240331T010000
END:DAYLIGHT
BEGIN:STANDARD
TZOFFSETFROM:+0300
TZOFFSETTO:+0200
TZNAME:EET
DTSTART:20241027T010000
END:STANDARD
BEGIN:DAYLIGHT
TZOFFSETFROM:+0200
TZOFFSETTO:+0300
TZNAME:EEST
DTSTART:20250330T010000
END:DAYLIGHT
BEGIN:STANDARD
TZOFFSETFROM:+0300
TZOFFSETTO:+0200
TZNAME:EET
DTSTART:20251026T010000
END:STANDARD
BEGIN:DAYLIGHT
TZOFFSETFROM:+0200
TZOFFSETTO:+0300
TZNAME:EEST
DTSTART:20260329T010000
END:DAYLIGHT
BEGIN:STANDARD
TZOFFSETFROM:+0300
TZOFFSETTO:+0200
TZNAME:EET
DTSTART:20261025T010000
END:STANDARD
END:VTIMEZONE
BEGIN:VEVENT
DTSTART;TZID=Europe/Athens:20250826T210000
DTEND;TZID=Europe/Athens:20250826T210000
DTSTAMP:20260425T151701
CREATED:20250602T174414Z
LAST-MODIFIED:20250602T174418Z
UID:10009921-1756242000-1756242000@stagenews.gr
SUMMARY:ΕΛΕΝΗ Η δίκη μιας πόρνης | ΝΕΑ ΜΑΚΡΗ
DESCRIPTION:Το συγκλονιστικό αυτό έργο παρουσιάζεται για πρώτηφορά στο ελληνικό κοινό\, σε επιλεγμένους σταθμούς\, σε όλη τη χώρα. \nΗ έναρξη των παραστάσεων θα γίνει στην Αττική\, μετις τρεις πρώτες στάσεις: \n\nΧαλάνδρι (10/7)\nΒεάκειο Θέατρο Πειραιά (11/7)\nΗλιούπολη (12/7)\n\nΑμέσως μετά\,η παράσταση θα ταξιδέψει σε όλη την Ελλάδα. \nΕμπνευσμένος από το “Ελένης εγκώμιον” του σοφιστή Γοργία\, την Ελένη του Ευριπίδη και την Ιλιάδα του Ομήρου\, ο μονόλογος αυτός με πρωταγωνίστρια την Ωραία Ελένη\, έρχεται να επανορθώσει τις αδικίες που ο μύθος και η “επίσημη” εκδοχή των γεγονότων έχουν σωρεύσει στο πρόσωπο της γυναίκας που στάθηκε -όπως λένε- η αφορμή του Τρωικού πολέμου και των δεινών με τα οποία εκείνος βασάνισε για δέκα χρόνια τους Έλληνες και τους Τρώες. \nΗ Ελένη εξαπολύει ένα δριμύ κατηγορώ εναντίον όλων (από τον υποτιθέμενο πατέρα της (τον Τυνδάρεω) μέχρι τον πραγματικό (τον Δία\, που απαντά με βροντές από τον ουρανό\nστις μομφές της)\, αποδομεί όλους τους ήρωες του Τρωικού πολέμου\, υπερασπίζεται με σθένος τον εαυτό της και αναρωτιέται “ποιος γράφει τελικά την ιστορία;” \nΟ Μιγκέλ Ντελ Άρκο\, μιa από τις σημαντικότερες μορφές του σύγχρονου Ισπανικού θεάτρου\, με χιούμορ\, ευαισθησία και ενσυναίσθηση\, μας παρουσιάζει μια ανθρώπινη και απολύτως απενοχοποιημένη εκδοχή της “πιο μισητής” γυναίκας στην ιστορία του δυτικού πολιτισμού.\nΗ Ελένη του\, διεκδικεί το δικαίωμα της αφήγησης της ιστορίας\, από την πλευρά των ηττημένων και παρουσιάζει μια διαφορετική εκδοχή για τα γεγονότα που οδήγησαν την ίδια αλλά και χιλιάδες ανθρώπους στον όλεθρο\, κατακεραυνώνοντας την πατριαρχεία και το δίκαιο του ισχυρού.\nΗ Λυδία Κονιόρδου\, η κορυφαία Ελληνίδα τραγωδός\, ερμηνεύει την πιο γοητευτική και παρεξηγημένη μυθική ηρωίδα.\nΜαζί της στη σκηνή\, ο Μπάμπης Παπαδόπουλος\, ο θρυλικός κιθαρίστας του σπουδαιότερου ελληνικού ροκ συγκροτήματος Τρύπες\, ερμηνεύει ζωντανά τη μουσική που συνθέτει για την παράσταση.\nΤη σκηνοθεσία υπογράφει ο Χρήστος Σουγάρης\, που επιστρέφει σε δραματουργία αντλούμενη από μυθολογικές και ιστορικές πηγές\, μετά τις Τρωάδες του Ευριπίδη\, που παρουσίασε στο Φεστιβάλ Επιδαύρου για λογαριασμό του ΚΘΒΕ\, το 2022. \nΑπόσπασμα του έργου:\n“Εγώ πήρα μόνο μια απόφαση. Ίσως τη μοναδική στη ζωή μου. Την απόφαση να αγαπώ έναν άνδρα\, τον Πάρη\, πάνω από όλα. \nΤα γεγονότα που την ακολούθησαν ήταν αποφάσεις ισχυρών ανδρών που είχαν εμμονή με την υστεροφημία και τον πλούτο. Ναι\, το ομολογώ. Ομολογώ πως εγκατέλειψα την κόρη μου και τους γονείς μου\, κι έναν σύζυγο που ποτέ δεν αγάπησα και ποτέ δεν με αγάπησε. Εκείνοι όμως\, ανάγκασαν τους λαούς τους να θυσιαστούν για να κερδίσουν οι ίδιοι δόξα και χρυσάφι\, ασήμι\, σίδερο\, κιννάβαρι\, ξύλο\, λάδι\, νεφρίτη και άλλα πολύτιμα εμπορεύματα που η διακίνησή τους γινόταν από τον Ελλήσποντο. Την είπαν τιμή\, αλλά ήταν απληστία. Έψαξαν να βρουν λογικά αίτια για κάτι που ήταν απλώς περηφάνεια. Κι όταν μπορούσαν να το σταματήσουν\, δεν το έκαναν. Στ’ αλήθεια ήμουν εγώ ο λόγος που σάρωσαν όλες τις συμμαχικές πόλεις της Τροίας; \nΓιατί έκαψαν τη Λέσβο\, τη Φώκαια\, την Κολοφώνα\, τη Σμύρνη\, τις Κλαζομενές\, την Κύμη\,  τον Αιγιαλό\, την Τήνο\, το Αδραμύττιο\, τη Σίδη και τόσες άλλες την ώρα που στραγγάλιζαν την Τροία; Γιατί σκότωσαν τους κατοίκους τους που δεν ήξεραν καν ποια είμαι; Γιατί κράτησε δέκα ατέλειωτα χρόνια ο θάνατος και η καταστροφή και στις δυο πλευρές;” \nΣυντελεστές:  \nΚείμενο: Μιγκέλ Ντελ Άρκο\nΜετάφραση: Μαρία Χατζηεμμανουήλ \nΣκηνοθεσία – Δραματουργική επεξεργασία: Χρήστος Σουγάρης\nΣκηνική επεξεργασία μετάφρασης: Χρήστος Σουγάρης &amp; Λυδία Κονιόρδου \nΣτο ρόλο της Ελένης\, η Λυδία Κονιόρδου\nΣκηνικά: Τίνα Τζόκα\nΚοστούμια: Ιωάννα Τσάμη\nΜουσική: Μπάμπης Παπαδόπουλος \nΚίνηση: Ερμής Μαλκότσης\nΣχεδιασμός Φωτισμών: Αλέκος Αναστασίου\nΣτίχοι: Γεράσιμος Ευαγγελάτος\nΒοηθός Σκονοθέτη: Στέλλα Παπακωνσταντίνου\nΦωτογραφίες – Trailer: Γκέλυ Καλαμπάκα\nΟργάνωση Παραγωγής: Ντόρα Βαλσαμάκη \nΠΑΡΑΓΩΓΗ\nΘεατρικές Επιχειρήσεις Τάγαρη \n\nΠρόγραμμα παραστάσεων \n\nΠεμ\, 10/7 | 21:30 | Ευριπίδειο Θέατρο Ρεματιάς – Χαλάνδρι\, Αττική\nΠαρ\, 11/7 | 21:30 | Βεάκειο Θέατρο\, Πειραιάς – Πειραιάς\, Αττική\nΣαβ\, 12/7 | 21:30 | Δημοτικό θέατρο Ηλιούπολης «Δημήτρης Κιντής» – Ηλιούπολη\, Αττική\nΤετ\, 16/7 | 21:30 | Υπαίθριο Παραποτάμιο Θέατρο Δήμου Αρταίων – Άρτα\nΠεμ\, 17/7 | 21:30 | Θέατρο Βουνού – Καστοριά\nΠαρ\, 18/7 | 21:30 | Θέατρο Γαβαλιώτισσας – Έδεσσα\, Πέλλα\nΚυρ\, 20/7 | 21:00 | Δημοτικό Θέατρο Μελίνα Μερκούρη – Βόλος\, Μαγνησία\nΔευ\, 21/7 | 21:30 | Κηποθέατρο Αλκαζάρ – Λάρισα\nΤρι\, 22/7 | 21:30 |ΑΝΟΙΧΤΟ ΑΜΦΙΘΕΑΤΡΟ ΔΙΠΑΕ ΣΕΡΡΩΝ – Σέρρες\nΤετ\, 23/7 | 21:30 | Θερινό Δημοτικό Αμφιθέατρο Ξάνθης – Ξάνθη\nΠεμ\, 24/7 | 21:30 | Θερινό Δημοτικό Θέατρο Κομοτηνής – Κομοτηνή\, Ροδόπη\nΠαρ\, 25/7 | 21:30 | Θέατρο Αλτιναλμάζη – Αλεξανδρούπολη\, Έβρος\nΚυρ\, 27/7 | 21:30 | Αμφιθέατρο Νέων Μουδανιών – Μουδανιά\, Θεσσαλονίκη\nΔευ\, 28/7 | 21:30 | Θέατρο Κήπου – Θεσσαλονίκη\nΤρι\, 29/7 | 21:30 | Θέατρο Κήπου – Θεσσαλονίκη\nΤετ\, 30/7 | 21:30 | Δημοτικό Θέατρο Πάρκου Κατερίνης – Κατερίνη\, Πιερία\nΠεμ\, 31/7 | 21:30 |Θέατρο Αλώνι – Πήλιο\, Μαγνησία\nΚυρ\, 3/8 | 21:30 | Θέατρο Αρχαίας Ηλιδας – Ηλιδα\, Ηλεία\nΔευ\, 4/8 | 21:30 | Θέατρο «Γ. Παππάς» – Αίγιο\, Αχαΐα\nΤρι\, 5/8 | 21:30 | Δημοτικό Κηποθέατρο “Γιάννης Ρίτσος” – Πρέβεζα\nΤετ\, 6/8 | 21:30 | Ανοικτό Θέατρο Δήμου Λευκάδας – Λευκάδα\nΤρι\, 12/8 | 21:30 | Ευριπίδειο Θέατρο Σαλαμίνας – Σαλαμίνα\, Αττική\nΤετ\, 13/8 | 21:30 | Ανοιχτό Θέατρο Χιλιομοδίου «Ειρήνη Παπά» – Χιλιομόδι\, Κόρινθος\nΣαβ\, 23/8 | 21:00 | Θέατρο Καστρομηνά “Μίκης Θεοδωράκης” – Χίος\nΚυρ\, 24/8 | 21:00 | Θέατρο Κάστρου Μυτιλήνης – Μυτιλήνη\, Λέσβος\nΤρι\, 26/8 | 21:00 | Αθλητικό & Πολιτιστικό Πάρκο Νέας Μάκρης – Νέα Μάκρη\, Αττική\nΤετ\, 27/8 | 21:00 | Θέατρο Ορέστης Μακρής – Χαλκίδα\, Εύβοια\nΠεμ\, 28/8 | 21:00 | Θέατρο “Παντελής Ζερβός” – Λουτράκι\, Κόρινθος\nΔευ\, 1/9 | 21:00 | Δημοτικό Θέατρο “Αλέξης Μινωτής” – Αιγάλεω\, Αττική\nΤετ\, 3/9 | 21:00 | Θερινό Δημοτικό Θέατρο Δήμου Πατρέων – Πάτρα\, Αχαΐα\nΠεμ\, 4/9 | 21:00 | Κηποθέατρο Δημοτικού Πάρκου – Αγρίνιο\, Αιτωλοακαρνανία\nΣαβ\, 6/9 | 21:00 | Θέατρο Βράχων Μελίνα Μερκούρη\, Αττική\nΔευ\, 15/9 | 21:00 | Θέατρο Αλίκη Βουγιουκλάκη – Βριλήσσια\, Αττική\n\nΠροπώληση more.com
URL:https://stagenews.gr/event/eleni-i-diki-mias-pornis-nea-makri/
LOCATION:Αθλητικό & Πολιτιστικό Πάρκο Νέας Μάκρης\, Νέα Μάκρη\, Ελλάδα
CATEGORIES:Παραστάσεις Αθήνα
ATTACH;FMTTYPE=image/jpeg:https://stagenews.gr/wp-content/uploads/2025/06/leni.jpg
END:VEVENT
BEGIN:VEVENT
DTSTART;TZID=Europe/Athens:20250808T213000
DTEND;TZID=Europe/Athens:20250808T213000
DTSTAMP:20260425T151701
CREATED:20250509T142625Z
LAST-MODIFIED:20250509T142630Z
UID:10009683-1754688600-1754688600@stagenews.gr
SUMMARY:''Φιλοκτήτης'' του Σοφοκλή
DESCRIPTION:Ο Γιώργος Κιμούλης\, ο Δημήτρης Γκοτσόπουλος και ο Θοδωρής Κατσαφάδος\, σε παραγωγή της εταιρείας Μέθεξις του Χρήστου Τριπόδη\, παρουσιάζουν\, την καλοκαιρινή περίοδο σε όλη την Ελλάδα και την Κύπρο\, την τραγωδία του Σοφοκλή ΦΙΛΟΚΤΗΤΗΣ \nΣτον Φιλοκτήτη ο Σοφοκλής δραματοποιεί μια επιχείρηση απάτης\, την οποία οργανώνει ο Οδυσσέας και αναλαμβάνει να εκτελέσει ο Νεοπτόλεμος\, ο νεαρός γιος του Αχιλλέα.\nΟι δύο άνδρες καταφθάνουν στην ακατοίκητη Λήμνο\, στην άκρη\, στην εσχατιά του Κόσμου\,\nεκεί όπου οι Αχαιοί είχαν εγκαταλείψει για δέκα χρόνια τον Φιλοκτήτη\, πληγωμένο από µία αγιάτρευτη πληγή.\nΗ αποστολή τους είναι να κλέψουν το περίφημο τόξο του του Φιλοκτήτη\, γιατί χωρίς αυτό είναι αδύνατη η άλωση της Τροίας.\n“Μισώ την εποχή που ζω. Σκοτεινά χρόνια. Δεν θέλω τη ζωή µου έτσι” \nΜετάφραση – σκηνοθεσία: Γιώργος Κιμούλης \nΣκηνικά: Μαρία Φιλίππου \nΜουσική: Ανδρέας Κατσιγιάννης \nΚοστούμια: Σοφία Νικολαΐδη\, Ήλια Στριγγάρη \nΦωτισμοί: Στέλλα Κάλτσου \nΚινησιολογία: Κυριάκος Κοσμίδης \nCreative agency: GridFox \nΠαίζουν: Γιώργος Κιμούλης\, Δημήτρης Γκοτσόπουλος\, Θοδωρής Κατσαφάδος \nΧΟΡΟΣ \nΠαναγιώτης Κατσίκης\nΜανώλης Κλωνάρης\nΚώστας Κοράκης\nΘεοφίλης Πασχάλης\nΒασίλης Πουλάκος\nΜάριος Τζόγκανος\nΓιώργος Τσουρουνάκης \nΠροπώληση more.com
URL:https://stagenews.gr/event/filoktitis-tou-sofokli-11/
LOCATION:Αθλητικό & Πολιτιστικό Πάρκο Νέας Μάκρης\, Νέα Μάκρη\, Ελλάδα
CATEGORIES:Παραστάσεις Αθήνα
ATTACH;FMTTYPE=image/jpeg:https://stagenews.gr/wp-content/uploads/2025/05/filoktitis.jpg
END:VEVENT
BEGIN:VEVENT
DTSTART;TZID=Europe/Athens:20250803T211500
DTEND;TZID=Europe/Athens:20250803T211500
DTSTAMP:20260425T151701
CREATED:20250531T125617Z
LAST-MODIFIED:20250531T125620Z
UID:10009859-1754255700-1754255700@stagenews.gr
SUMMARY:Ούτε Μπρος ούτε Πίσω | ΝΕΑ ΜΑΚΡΗ
DESCRIPTION:Η νέα σατιρική κωμωδία του Θανάση Παπαθανασίου και του Μιχάλη Ρέππα για την παράνοια της καθημερινότητας ταξιδεύει σε όλη την Ελλάδα. \nΟ Θανάσης Παπαθανασίου και ο Μιχάλης Ρέππας\, σε παραγωγή της εταιρείας Μέθεξις του Χρήστου Τριπόδη\, παρουσιάζουν αυτό το καλοκαίρι σε όλη την Ελλάδα τη νέα τους παράσταση «Ούτε Μπρος ούτε Πίσω». \nΠρωταγωνιστούν: Χρύσα Ρώπα\, Αντώνης Λουδάρος\, Ματθίλδη Μαγγίρα\, Πάνος Σταθακόπουλος\, Δήμητρα Στογιάννη\, Γιάννης Δρακόπουλος\, Ιωάννης Απέργης. \nΤο έργο «Ούτε Μπρος ούτε Πίσω» είναι ένα ξεκαρδιστικό καθρέφτισμα της σύγχρονης Ελληνικής πραγματικότητας\, με μουσική και τραγούδια\, που σατιρίζει το εδώ και το τώρα. Αυτό που συμβαίνει στα σπίτια μας\, στους δρόμους\, στις πλατείες\, στην τηλεόραση\, στα μέσα κοινωνικής δικτύωσης. Ό\,τι μας ενώνει και ό\,τι μας χωρίζει σαν Νεοέλληνες\, με μια ματιά γρήγορη\, επιθεωρησιακή\, στην κόψη του ξυραφιού. Κομμάτια και αποσπάσματα ζωής και ιστορίες καθημερινής τρέλας σαν σύντομα φλας που πυκνώνουν ό\,τι μας απελπίζει και ό\,τι μας δίνει ελπίδα. Επτά υπέροχοι κωμικοί ηθοποιοί\, αλλάζουν διαρκώς ρόλους για να προλάβουν μέσα σε μιάμιση ώρα και έντεκα σύντομα σκετς\, να δημιουργήσουν έναν γαλαξία από πρόσωπα που μας μοιάζουνκαι πολλές φορές μας εκνευρίζουν\, αλλά τα αγαπάμε. Οι ήρωες του έργου είμαστε εμείς\, οι γείτονές μας\, οι συγγενείς μας\, οι φίλοι μας και οι συνάδελφοί μας. Ή μάλλον όχι εμείς ακριβώς\, αλλά οι γελοιογραφίες μας! Η παράσταση «Ούτε Μπρος ούτε Πίσω» είναι η σέλφι μιας κοινωνίας θολωμένης από την ιλιγγιώδη ταχύτητα των εξελίξεων\, στην κοινωνία\, στην τεχνολογία\, στην πολιτική. \n\nΠροπώληση more.com
URL:https://stagenews.gr/event/oute-bros-oute-piso-nea-makri/
LOCATION:Αθλητικό & Πολιτιστικό Πάρκο Νέας Μάκρης\, Νέα Μάκρη\, Ελλάδα
CATEGORIES:Παραστάσεις Αθήνα
ATTACH;FMTTYPE=image/jpeg:https://stagenews.gr/wp-content/uploads/2025/05/oute-mpros-oute-piso.jpg
END:VEVENT
BEGIN:VEVENT
DTSTART;TZID=Europe/Athens:20250712T213000
DTEND;TZID=Europe/Athens:20250712T213000
DTSTAMP:20260425T151701
CREATED:20250429T073303Z
LAST-MODIFIED:20250429T073307Z
UID:10009435-1752355800-1752355800@stagenews.gr
SUMMARY:Αντιγόνη
DESCRIPTION:Καλοκαίρι 2025\nΣοφοκλή ΑΝΤΙΓΟΝΗ\nΜια ελεγεία εξέγερσης\nΣκηνοθεσία Θέμης Μουμουλίδης \nΠροσφορά 13€ για περιορισμένο αριθμό εισιτηρίων! \nO Θέμης Μουμουλίδης επιστρέφει για τρίτη φορά στην Αντιγόνη\, την κορυφαία τραγωδία του Σοφοκλή\, και σε μια από τις συναρπαστικότερες ηρωίδες στην ιστορία της δυτικής δραματουργίας.\nΜαζί του ένα σύνολο εξαιρετικών ηθοποιών με την Λένα Παπαληγούρα στον ρόλο της Αντιγόνης και τον Μελέτη Ηλία στον ρόλο του Κρέοντα.\nΗ πρεμιέρα θα πραγματοποιηθεί στις 28 Ιουνίου στο Θέατρο Αρχαίων Κλεωνών και θα ακολουθήσει περιοδεία σε επιλεγμένους χώρους στην Αττική και την περιφέρεια.\nΟ πόλεμος τελείωσε. Οι νεκροί περισυλλέγονται κάτω από το σκληρό φως των προβολέων. Το πεδίο της μάχης μεταφέρεται στα γυαλισμένα γραφεία των σύγχρονων κέντρων λήψης αποφάσεων. Ο σκληρός\, ενισχυμένος ήχος του σήμερα και η εύθραυστη ανάσα της ζωντανής φωνής\, τα ατσαλάκωτα κοστούμια και τα ράκη\, τα μηχανοποιημένα και τα βεβηλωμένα σώματα συνθέτουν έναν κόσμο όπου οι συγκρούσεις οξύνονται και οι αντιθέσεις βαθαίνουν. \nΗ δική μας Αντιγόνη…\nΝα μην ενδώσει. Αυτός είναι ο δικός της νόμος.\nΗ διεκδίκηση του τελετουργικού της κηδείας γίνεται η μηχανή αποκάλυψης της σχέσης της εξουσίας με τον θάνατο: η ηχηρή καταγγελία του ολοκληρωτισμού\, που σφετερίζεται την εξουσία για να ασκήσει κάθε δικαίωμα επί της ανθρώπινης υπόστασης\, έως και μετά θάνατον. Μια εξουσία που πατάσσει κάθε έννοια ανθρωπινότητας\, παράγει και αναπαράγει την υποταγή ως μέτρο της κανονικότητας.\nΟ Κρέων εκφράζει το τυφλό ένστικτο μιας γυμνής ζωής με ωμούς βιολογικούς όρους. Θέλει να επεκτείνει την εξουσία του σε κάθε πτυχή της ελεύθερης έκφρασης\, ακόμη και στην πιο δειλή – ανομολόγητη επιθυμία της. \nΟ Κρέων είναι ο προάγγελος της βιοπολιτικής του σήμερα: ενός βίου αβίωτου\, όπου οι άνθρωποι είναι οι τελευταίοι που μαθαίνουν τον θάνατό τους όχι αναγκαστικά ως βιολογικά\, αλλά ως ψυχικά\, πολιτικά και κοινωνικά πρόσωπα.\nΜε την Αντιγόνη τα πεδία συγκρούσεων τίθενται σε αμφισβήτηση: σωστό-λάθος\, ζωή-θάνατος\, άνδρας-γυναίκα\, φως-σκοτάδι\, αυθεντικότητα-συμβιβασμός\, νόμος- δίκαιο\, παράβαση-υποταγή.\nΗ Αντιγόνη γνωρίζει την θνητότητά της\, αλλά αποφασίζει το πότε και το πώς του θανάτου της. Αναδιατυπώνει κάθε σύγκρουση γιατί μόνο έτσι στρέφει ακόμη και τον θάνατο υπέρ της ζωής. Αγκαλιάζοντας τον θάνατο διεκδικεί τη ζωή. Μια ζωή άξια να βιωθεί. Έτσι\, ακόμη και αν οδηγείται τελικά στον θάνατο και ο Κρέων επιζεί\, στην πραγματικότητα πρόκειται για έναν συνεχή θάνατο του Κρέοντα και για ένα άνοιγμα της Αντιγόνης προς το μέλλον.\nΣτη σύγχρονη ζωή\, η Αντιγόνη είναι παρούσα στα hot spots που στοιβάζουν\, στις δομές που φυλάσσουν\, στα σύνορα που ηλεκτροφορούν\, στις θάλασσες που πνίγουν. Είναι παρούσα στα διαρκώς επεκτεινόμενα στρατόπεδα-τάφους ζώντων\, στις φυσικές και εικονικές εκδοχές αλλεπάλληλων επιστρώσεων εγκλεισμών\, στα παιχνίδια της βιοπολιτικής\, στις έδρες και τις ενέδρες του θανάτου.\nΤο ΟΧΙ της Αντιγόνης ορθώνεται ως η απόλυτη κατάφαση. \nΜετάφραση Παναγιώτα Πανταζή \nΣκηνοθεσία Θέμης Μουμουλίδης \nΣκηνικό Μικαέλα Λιακατά \nΚοστούμια Βασιλική Σύρμα \nΜουσική Σταύρος Γασπαράτος \nΚίνηση Πατρίσια Απέργη \nΦωτισμοί Νίκος Σωτηρόπουλος \nΦωτογραφίες Ελίνα Γιουνανλή \nΓραφιστικά Mike Rafail \nMakeup artist Olga Faleichyk \nHair styling Θωμάς Γαλαζούλας \nΕπικοινωνία Ειρήνη Λαγουρού \nΔιεύθυνση Παραγωγής Σταμάτης Μουμουλίδης \nΕρμηνεύουν:\nΛένα Παπαληγούρα\, Μελέτης Ηλίας\, Μιχάλης Οικονόμου\, Θανάσης Δόβρης\,\nΙφιγένεια Καραμήτρου\, Λίλα Μπακλέση\, Αμαλία Νίνου\, Γιώργος Νούσης\,\nΒαγγέλης Σαλευρής \, Ιώβη Φραγκάτου \n\nΠροπώληση more.com
URL:https://stagenews.gr/event/antigoni-5/
LOCATION:Αθλητικό & Πολιτιστικό Πάρκο Νέας Μάκρης\, Νέα Μάκρη\, Ελλάδα
CATEGORIES:Παραστάσεις Αθήνα
ATTACH;FMTTYPE=image/jpeg:https://stagenews.gr/wp-content/uploads/2025/04/antigoni.jpg
END:VEVENT
END:VCALENDAR